BEGIN:VCALENDAR
VERSION:2.0
PRODID:-//Centrum Kultury Teatr w Grudziądzu - ECPv4.0.5//NONSGML v1.0//EN
CALSCALE:GREGORIAN
METHOD:PUBLISH
X-WR-CALNAME:Centrum Kultury Teatr w Grudziądzu
X-ORIGINAL-URL:http://teatr.grudziadz.pl
X-WR-CALDESC:Events for Centrum Kultury Teatr w Grudziądzu
BEGIN:VEVENT
DTSTART;TZID="Europe/Warsaw":20160131T180000
DTEND;TZID="Europe/Warsaw":20160131T180000
DTSTAMP:20260423T101433
CREATED:20160321T114214
LAST-MODIFIED:20160321T114214
UID:2429-1454263200-1454263200@teatr.grudziadz.pl
SUMMARY:Koncert Niedzielny
DESCRIPTION:Agnieszka Olszewska – sopran\n\nRodowita bydgoszczanka\, absolwentka Akademii Muzycznej w Bydgoszczy gdzie ukończyła wydział wokalno-aktorski w klasie śpiewu Ireny Maculewicz–Żejmo. Swoje umiejętności doskonaliła na Kursach Wokalnych i Seminariach Mistrzowskich wybitnych pedagogów z Polski\, Niemiec i Włoch. Współpracuje z Teatrami Muzycznymi i Filharmoniami w Polsce oraz chórami\, a także z zespołami kameralnymi\, m. in.: \,\,Orkiestrą Salonową " \,\,Pro Arte"\, \,\,Multicameratą"\, „Kwartetem Pomorskim”. Jest laureatką statuetki „Serbrnego Delfina"\, przyznawaną przez Wydział Promocji UM w Toruniu. Uczestniczy w różnych projektach\, jest propagatorką muzyki współczesnej. Otrzymała nagrodę publiczności za wykonanie pieśni do słów Herberta ( płyta CD nagrana na koncercie w studio im. Agnieszki Osieckiej w Warszawie). Brała udział w projekcie \,\,Muzyczne listy do młodych "\, \,\,Dobro nieskończone” z udziałem Tomka Kamińskiego i Grażyny Łobaszewskiej. Aktywnie koncertuje w kraju i za granicą. Od 2000 roku jest solistką Orkiestry Straussowskiej.\n\nWojciech Broczkowski - fortepian\n\nAbsolwent studiów na Akademii Muzycznej im. F. Nowowiejskiego w Bydgoszczy u prof. Jerzego Sulikowskiego\, obecnie pracownik tejże akademii. Czynnie koncertuje. Jest laureatem 4 nagrody Konkursu im F. Chopina w Goettingen. brał udział w Konkursie Chopinowskim w Warszawie. Aktywnie koncertuje w kraju i za granicą .\n\nAntoni Olszewski - kontrabas\n\nBasista i kontrabasista\, student Akademii Muzycznej w Bydgoszczy na kierunku Jazz i Muzyka Estradowa. Członek zespołu Contemporary Noise Sextet\, z którym koncertował na wielu uznanych festiwalach w Polsce i Europie\, m. in. Enjoy Jazz Festiwal\, Preveza Jazz Festiwal\, Athens Technopolis Jazz Festiwal. Ma na swoim koncie współpracę z wieloma uznanymi muzykami jazzowymi\, udziela się też na scenie popowej w bydgoskim zespole VEJ. Zdobywca głównej nagrody na Ogólnopolskim Festiwalu Artystycznym "Młode Talenty" w 2010 roku oraz laureat w roku 2012. Wraz z Big Bandem Akademii Muzycznej w Bydgoszczy zajął drugie miejsce na XX Big Band Festiwalu w Nowym Tomyślu.\n\nHELENA RYDELLEK\n\n"Jestem mieszkanką Grudziądza. Z zawodu nauczycielką przedszkola\, a obecnie emerytką prowadzącą działalność gospodarczą - jeżdżę taksówką. Miłość do malowania istniała we mnie od zawsze. W szkole średniej rysowałam portrety (przeważnie ołówkiem)\, w pracy natomiast pomoce dydaktyczne. Przez wszystkie lata miałam uczucie niespełnionych marzeń i niejednokrotnie mówiłam o tym swoim bliskim.\n\nKilka lat temu córka kupiła mi w prezencie urodzinowym farby\, pędzle i kartki płócienne. Kilka miesięcy leżały w szafie\, bo nie miałam odwagi zacząć; w końcu zaczęłam i ... nie mogę skończyć do dzisiejszego dnia. Malowanie stało się moją wielką pasją\, chociaż cały czas się uczę: poznaję techniki malowania\, kolory\, sposoby ich mieszania ... Początkowo malowałam farbami akwarelowymi\, teraz maluję olejnymi.\n\nZnalazłam forum w internecie\, gdzie malarze-amatorzy (wielu z dużym doświadczeniem) pokazują swoje prace i wymieniają się uwagami. Korzystanie z tego forum jest dla mnie pewną formą nauki. Podpatruję też wielkich artystów ...\n\nSłucham rad moich bliskich z otoczenia\, pomagają mi dostrzec błędy. Maluję kwiaty\, krajobrazy\, lecz najbardziej lubię malować portrety. Żal mi\, że tak późno zaczęłam malować. Zapraszam na moją skromną\, amatorską wystawę do Centrum Kultury TEATR".\n\n/Helena Rydellek\, z domu Trybulska/
URL:http://teatr.grudziadz.pl/wydarzenie/koncert-niedzielny-5/
LOCATION:ul. Wybickiego 38
CATEGORIES:Wystawy
ORGANIZER;CN="CK%20Teatr%20w%20Grudzi%C4%85dzu":MAILTO:szymon.r@teatr.grudziadz.pl
END:VEVENT
END:VCALENDAR