BEGIN:VCALENDAR
VERSION:2.0
PRODID:-//Centrum Kultury Teatr w Grudziądzu - ECPv4.0.5//NONSGML v1.0//EN
CALSCALE:GREGORIAN
METHOD:PUBLISH
X-WR-CALNAME:Centrum Kultury Teatr w Grudziądzu
X-ORIGINAL-URL:http://teatr.grudziadz.pl
X-WR-CALDESC:Events for Centrum Kultury Teatr w Grudziądzu
BEGIN:VEVENT
DTSTART;TZID="Europe/Warsaw":20160225T130000
DTEND;TZID="Europe/Warsaw":20160225T130000
DTSTAMP:20260423T085658
CREATED:20160223T100236
LAST-MODIFIED:20160223T100236
UID:1087-1456405200-1456405200@teatr.grudziadz.pl
SUMMARY:"Żołnierze wyklęci" - spektakl II Liceum Ogólnokształcącego
DESCRIPTION:Impreza zamknięta
URL:http://teatr.grudziadz.pl/wydarzenie/zolnierze-wykleci-spektakl-ii-liceum-ogolnoksztalcacego/
LOCATION:Teatralna\, 1\, Grudziądz\, 86-300\, Polska
ORGANIZER;CN="II%20Liceum%20Og%C3%B3lnokszta%C5%82c%C4%85ce":MAILTO:dyrektor@lo2.grudziadz.pl
END:VEVENT
END:VCALENDAR