BEGIN:VCALENDAR
VERSION:2.0
PRODID:-//Centrum Kultury Teatr w Grudziądzu - ECPv4.0.5//NONSGML v1.0//EN
CALSCALE:GREGORIAN
METHOD:PUBLISH
X-WR-CALNAME:Centrum Kultury Teatr w Grudziądzu
X-ORIGINAL-URL:http://teatr.grudziadz.pl
X-WR-CALDESC:Events for Centrum Kultury Teatr w Grudziądzu
BEGIN:VEVENT
DTSTART;TZID="Europe/Warsaw":20160229T180000
DTEND;TZID="Europe/Warsaw":20160229T180000
DTSTAMP:20260423T072232
CREATED:20160215T113247
LAST-MODIFIED:20160215T113247
UID:653-1456768800-1456768800@teatr.grudziadz.pl
SUMMARY:Klub Kobiet - spotkanie
DESCRIPTION:Więcej na:\n\nwww.facebook.com/stowarzyszeniemiastokultury
URL:http://teatr.grudziadz.pl/wydarzenie/klub-kobiet-spotkanie/
LOCATION:ul. Pańska 4
ATTACH;FMTTYPE=image/jpeg:http://teatr.grudziadz.pl/wp-content/uploads/2016/02/Kawa-bez-ciśnienia-.jpg
END:VEVENT
END:VCALENDAR