BEGIN:VCALENDAR
VERSION:2.0
PRODID:-//Centrum Kultury Teatr w Grudziądzu - ECPv4.0.5//NONSGML v1.0//EN
CALSCALE:GREGORIAN
METHOD:PUBLISH
X-WR-CALNAME:Centrum Kultury Teatr w Grudziądzu
X-ORIGINAL-URL:http://teatr.grudziadz.pl
X-WR-CALDESC:Events for Centrum Kultury Teatr w Grudziądzu
BEGIN:VEVENT
DTSTART;TZID="Europe/Warsaw":20160304T190000
DTEND;TZID="Europe/Warsaw":20160304T190000
DTSTAMP:20260423T073435
CREATED:20160215T114430
LAST-MODIFIED:20160303T120342
UID:659-1457118000-1457118000@teatr.grudziadz.pl
SUMMARY:Krzysztof Cwynar - recital pt. „Pokochać kogoś”
DESCRIPTION:20 zł (przedsprzedaż)\, 25 zł (w dniu koncertu)\n\nKrzysztof Cwynar - znany i ceniony piosenkarz\, kompozytor\, poeta i reżyser. Jego charakterystyczny głos znają i pamiętają rzesze wielbicieli. Obdarzony wieloma talentami\, niezrównany gawędziarz\, sypiący jak z rękawa anegdotami i niesamowitymi opowieściami. Choć trudno w to uwierzyć\, artysta koncertuje już ponad 40 lat! A jego głos brzmi jak wtedy\, gdy na opolskim i sopockim festiwalu piosenką „Zawstydzona” wyśpiewał sobie przepustkę na estrady w kraju i za granicą. Krzysztof Cwynar jest twórcą wielu piosenek\, ballad\, utworów kabaretowych\, pieśni patriotycznych\, religijnych\, o kresach a także kilkunastu spektakli i przedstawień muzycznych.\n\nBogaty dorobek artystyczny Krzysztofa Cwynara sprawia\, że jego recitale stają się swoistą opowieścią o tworzeniu oraz życiu podporządkowanym działalności twórczej i charytatywnej. Taki właśnie charakter będzie miało spotkanie w grudziądzkim Klubie Akcent. Jak zapowiada bohater wieczoru\, w programie znajdą się m. in. piosenki z czasów debiutu\, a recital rozpocznie filmowa wersja występu w Sopocie. Będzie to pretekst do porwania publiczności w podróż sentymentalną\, gdzie znajdą się opowieści o niełatwych początkach i pierwszych krokach na scenie. Kuluary tworzenia w różnych czasach\, w kraju i zagranicą\, współpraca ze znanymi i cenionymi wokalistami\, pisanie tekstów to ogromny materiał\, który wypełni kolejne wykonania piosenek z repertuaru artysty. Wśród wielu tytułów zabrzmi tu m. in. piosenka\, którą Krzysztof Cwynar wykonywał w w duecie z Anną German „Byle tylko ze mną”.\n\n 
URL:http://teatr.grudziadz.pl/wydarzenie/krzysztof-cwynar-recital/
LOCATION:ul. Wybickiego 38
CATEGORIES:Koncert
ATTACH;FMTTYPE=image/jpeg:http://teatr.grudziadz.pl/wp-content/uploads/2016/02/cwynar.jpg
ORGANIZER;CN="CK%20Teatr%20w%20Grudzi%C4%85dzu":MAILTO:ewelina@teatr.grudziadz.pl
END:VEVENT
END:VCALENDAR