BEGIN:VCALENDAR
VERSION:2.0
PRODID:-//Centrum Kultury Teatr w Grudziądzu - ECPv4.0.5//NONSGML v1.0//EN
CALSCALE:GREGORIAN
METHOD:PUBLISH
X-WR-CALNAME:Centrum Kultury Teatr w Grudziądzu
X-ORIGINAL-URL:http://teatr.grudziadz.pl
X-WR-CALDESC:Events for Centrum Kultury Teatr w Grudziądzu
BEGIN:VEVENT
DTSTART;TZID="Europe/Warsaw":20160313T120000
DTEND;TZID="Europe/Warsaw":20160313T120000
DTSTAMP:20260423T073627
CREATED:20160217T120540
LAST-MODIFIED:20160229T104757
UID:1022-1457870400-1457870400@teatr.grudziadz.pl
SUMMARY:Koncert Niedzielny "Koncert z łezką" oraz wystawa
DESCRIPTION:W marcu polecamy Koncert Niedzielny z nutą muzycznej nostalgii\, który zatytułowany został „Koncert z łezką...”. W programie zaplanowane zostały przeboje z okresu dwudziestolecia międzywojennego\, a zabrzmią kompozycje z repertuaru Hanki Ordonówny\, Adolfa Dymszy\, Mieczysława Fogga\, Eugeniusza Bodo oraz Aleksandra Żabczyńskiego. \nWystąpią: \n\nKatarzyna Sałacińska – sopran\nMarek Murawa – tenor\nKarolina Hordyjewicz – akompaniament\n\nProgram koncertu:\n\n1. Jak za dawnych lat\n2. Już nie zapomnisz mnie\n3. Nie kochać w taką noc to grzech\n4. Ach\, jak przyjemnie\n5. Ach śpij\, kochanie\n6. Już taki jestem zimny drań\n7. Umówiłem się z nią na dziewiątą\n8. Sex appeal\n\nPrzerwa\n\n9. Miłość Ci wszystko wybaczy\n10. Pierwszy znak\n11. Kiedy znów zakwitną białe bzy\n12. Całuję Twoją dłoń Madame\n13. Całuj mnie\n14. To ostatnia niedziela\n15. Tango Milonga\n16. Tango Andrusowskie\n17. Cztery nogi\n18. Tylko we Lwowie\n19. W małym kinie\n\nKATARZYNA SAŁACIŃSKA – SOPRAN\n\n \n\nW 2008 ukończyła z wyróżnieniem studia na Wydziale Wokalno-Aktorskim Akademii Muzycznej im. F. Nowowiejskiego w Bydgoszczy. Naukę śpiewu kontynuowała w macierzystej uczelni na studiach podyplomowych kończąc je z wynikiem bardzo dobrym w roku 2010. Brała udział w kursach mistrzowskich: L. Mroza\, K. Rymarczyk\, Ch. Elsnera\, J. Grigoriewa. W ramach Programu Kształcenia Młodych Talentów – Akademii Operowej przy Operze Narodowej w Warszawie uczestniczyła w kursie mistrzowskim w klasie I. Kłosińskiej. W roku 2007 odbyła 3-miesięczny staż w klasie prof. A. Garanči w Akademii Muzycznej w Rydze. Debiutowała w spektaklu studenckim na scenie bydgoskiej Opery Nova rolą Drugiej Damy w Czarodziejskim flecie Mozarta. Była finalistką Jakub Pustina International Competition (2010) w Czechach. W latach 2009-2012 pracowała jako solistka w Teatrze Muzycznym w Lublinie. W roku 2010 podjęła współpracę z Operą na Zamku w Szczecinie. Brała udział w festiwalach i koncertach muzyki sakralnej.\n\nMAREK MURAWA- TENOR\nUkończył PSM I i II stopnia im. Tadeusza Szeligowskiego w Lublinie\, w klasie fortepianu (1999)\, Instytut Muzykologii KUL (praca magisterska obroniona w roku 2003)\, Akademię Muzyczną im. F. Nowowiejskiego w Bydgoszczy\, studia licencjackie na wydziale wokalno-aktorskim w klasie prof. L. Skrli (2010) i studia magisterskie w macierzystej uczelni w klasie prof. W. Maciejowskiego (2012). W latach 2003-2005 był wykładowcą Instytutu Muzykologii KUL. W roku akademickim 2011/2012 był stypendystą Ministra Kultury i Dziedzictwa Narodowego.\n\nUkończył mistrzowskie kursy wokalne Anity Garanči\, Włodzimierza Zalewskiego\, Stafanii Toczyskiej. Debiutował na scenie Opery Nova rolą Zbigniewa w spektaklu studenckim „Straszny Dwór” S. Moniuszki. W ramach Bydgoskiego Festiwalu Operowego (Operowe Forum Młodych) wykonał także role: tytułową w operze G. Puccini'ego „Gianni Schicchi” (XVII BFO)\, Hrabiego w „Weselu Figara” W.A. Mozarta (XVIII BFO)\, Hrabiego Robinsona w „Potajemnym małżeństwie” D. Cimarosy (XIX BFO). W roku 2006 odbył z Teatrem Muzycznym w Lublinie tournee po Holandii (rola Oficera w „Cyruliku Sewilskim” G. Rossiniego. W roku 2010 brał udział w premierze„Giocondy” A. Ponchielliego (rola Barnabotta - Opera Nova w ramach XVII Festiwalu Operowego). Jako śpiewak związany był z Teatrem Muzycznym w Lublinie\, Operą Nova w Bydgoszczy\, Operą Podlaską w Białymstoku.\n\n \nKAROLINA HORDYJEWICZ- PIANISTKA\nW 2004 ukończyła studia na Wydziale Instrumentalno-Pedagogicznym w białostockiej filii Uniwersytetu Muzycznego im. F. Chopina w Warszawie. W tym samym roku podjęła pracę pianisty-korepetytora w Teatrze Muzycznym w Lublinie\, rozpoczynając równolegle pracę pedagogiczną w szkołach muzycznych. Brała udział w licznych kursach i konkursach zarówno kameralnych jak i pianistycznych. Działalność pedagogiczną łączy z występami jako akompaniator-kameralista\, współpracuje z Filharmonią Lubelską oraz wieloma zespołami instrumentalnymi\, a także wokalnymi.\nEMIL MOISE SZALLA /Rumunia/\n\nUrodził się w Turnu-Severin w Rumunii. W 1953 roku ukończył średnią szkołę plastyczną\, a w '59 Akademię Sztuk Pięknych im. Nicolae Grigorescu w Bukareszcie. Pracował i współpracował jako scenograf w Teatrach w Constanta\, Pitesti\, Devie\, Petrosani\, Alba-lulia\, Bukareście\, Bydgoszczy oraz w Toruniu realizując ponad 300 spektakli teatralnych. Jako malarz utrwala pejzaże morskie oraz starą i ciekawą architekturę – przeważnie w kolorach pastelowych. Wielu krytyków widzi w jego twórczości wielki wpływ impresjonizmu.\nBrał udział w ponad 15 plenerach międzynarodowych. Jego obrazy znajdują się w prywatnych kolekcjach w Ameryce Północnej\, Austrii\, Czechach\, Niemczech\, Francji\, Holandii\, Kanadzie\, Polsce i Wielkiej Brytanii. Obrazy artysty wiszą w galeriach w Toruniu (Polska)\, Honfl eur\, Vannes i Rennes (Francja) oraz w Bukareszcie (Rumunia). Jest członkiem Związku Artystów Plastyków w Rumunii\, członkiem Klubu Muzeum de Bretagne w Renes – Francja. Jest wpisany do Słownika Artystów Współczesnych w Rumunii.\n                     
URL:http://teatr.grudziadz.pl/wydarzenie/koncert-niedzielny-koncert-z-lezka/
LOCATION:Teatralna\, 1\, Grudziądz\, 86-300\, Polska
CATEGORIES:Koncert
ATTACH;FMTTYPE=image/jpeg:http://teatr.grudziadz.pl/wp-content/uploads/2016/02/niedzielny031.jpg
ORGANIZER;CN="CK%20Teatr%20w%20Grudzi%C4%85dzu":MAILTO:szymon.r@teatr.grudziadz.pl
END:VEVENT
END:VCALENDAR