BEGIN:VCALENDAR
VERSION:2.0
PRODID:-//Centrum Kultury Teatr w Grudziądzu - ECPv4.0.5//NONSGML v1.0//EN
CALSCALE:GREGORIAN
METHOD:PUBLISH
X-WR-CALNAME:Centrum Kultury Teatr w Grudziądzu
X-ORIGINAL-URL:http://teatr.grudziadz.pl
X-WR-CALDESC:Events for Centrum Kultury Teatr w Grudziądzu
BEGIN:VEVENT
DTSTART;TZID="Europe/Warsaw":20160318T190000
DTEND;TZID="Europe/Warsaw":20160318T190000
DTSTAMP:20260423T072733
CREATED:20160222T101455
LAST-MODIFIED:20160222T101455
UID:1085-1458327600-1458327600@teatr.grudziadz.pl
SUMMARY:Duan - koncert muzyki irlandzkiej i pokaz tańca irlandzkiego
DESCRIPTION:Zespół Duan powstał w 2005 roku i wykonuje tradycyjną muzykę irlandzką. W jego skład wchodzą doświadczeni muzycy\, którzy stale doskonalą swoje umiejętności uczestnicząc w projektach\, warsztatach i różnorodnych wydarzeniach muzycznych\, w tym również w Irlandii. Duan\, hołdując idei wykonywania muzyki irlandzkiej blisko jej tradycyjnego brzmienia\, uznawany jest za jeden z najlepszych tego typu zespołów w Polsce. Instrumentarium zespołu jest charakterystyczne dla tradycyjnej muzyki irlandzkiej i stanowi je: bodhran (bęben irlandzki)\, skrzypce\, banjo\, gitara\, akordeon. Zespół posiada w swym składzie wokalistę\, w związku z czym repertuar Duanu to nie tylko pełne naturalnej energii\, pulsujące melodie\, ale również zawadiackie\, knajpiane przyśpiewki i liryczne pieśni.\n\nW 2007 roku Duan stworzył utwory dla produkcji gry „Wiedźmin”\, które zostały wydane na płycie promującej grę. Zespół występował z wieloma grupami tańca irlandzkiego w Polsce.\n\nW roku 2011 rozpoczął stałą współpracę z grupą taneczną Treblers. W 2012 roku Duan współpracował z zespołem Carrantuohill i jedną z najbardziej utytułowanych orkiestr bałkańskich - Fanfare Ciocarlia w projekcie pt: „Celtic – Balkan Power Project”.\n\nZespół tworzą:\n\nKatarzyna Szyszkowska skrzypce\, wokal\n\nTomek Urbański akordeon\, bodhran\n\nŁukasz Potoczny banjo\, gitara\, wokal\n\nSzymon Białek gitara\nDzień św. Patryka\, koncertowi towarzyszyć będzie pokaz tańca irlandzkiego.
URL:http://teatr.grudziadz.pl/wydarzenie/duan-koncert-muzyki-irlandzkiej/
LOCATION:ul. Wybickiego 38
ATTACH;FMTTYPE=image/jpeg:http://teatr.grudziadz.pl/wp-content/uploads/2016/02/IMG_2183_x1-we_czworke-2.jpg
ORGANIZER;CN="CK%20Teatr%20w%20Grudzi%C4%85dzu":MAILTO:szymon.r@teatr.grudziadz.pl
END:VEVENT
END:VCALENDAR