BEGIN:VCALENDAR
VERSION:2.0
PRODID:-//Centrum Kultury Teatr w Grudziądzu - ECPv4.0.5//NONSGML v1.0//EN
CALSCALE:GREGORIAN
METHOD:PUBLISH
X-WR-CALNAME:Centrum Kultury Teatr w Grudziądzu
X-ORIGINAL-URL:http://teatr.grudziadz.pl
X-WR-CALDESC:Events for Centrum Kultury Teatr w Grudziądzu
BEGIN:VEVENT
DTSTART;TZID="Europe/Warsaw":20160414T180000
DTEND;TZID="Europe/Warsaw":20160414T180000
DTSTAMP:20260423T060005
CREATED:20160229T131101
LAST-MODIFIED:20160401T065925
UID:1280-1460656800-1460656800@teatr.grudziadz.pl
SUMMARY:"Grudziądz z historią w tle" - Maciej Kastner
DESCRIPTION:Grudziądz to pięknie miasto – jego nietuzinkową architekturę spichrzy i starego miasta najczęściej doceniają ci\, którzy pojawiają się tu po raz pierwszy. Zabytkowe mury i ciekawe miejsca uwieczniane były już wielokrotnie przez fotografików. Zatem jak pokazać miasto i opowiedzieć jednocześnie o ludziach\, którzy przecież współtworzą historię tego miejsca. O wszystkich jednocześnie byłoby niemożliwe\, ale o pewnej części\, można\, a nawet należy. Maciej Kastner pokazuje nam „Grudziądz z historią w tle” – przez pryzmat tworzącego tu już od ponad trzydziestu lat zespołu punk-rockowego CELA NR 3.\n\n\n\nKolekcja prac\, które powstały w ramach projektu "Grudziądz z historią w tle"\, pokazuje miasto\, gdzie  w historyczne zakątki został umiejętnie wpleciony stary i ceniony zespół punk-rockowy Cela Nr 3. Zabytki w zestawieniu z muzykami nabierają nowego kształtu i ożywają na nowo\, alternatywnie promując historyczne walory Grudziądza. W tym projekcie to widz ma się zastanowić kto lub co jest ową historią\, czy są nią charakterystyczne dla miasta miejsca\, czy żywą historią jest nadal koncertujący zespół CELA NR 3.\n\nPrace w formacie 30x40\, wykonane zostały na archiwalnym papierze barytowym przy zastosowaniu klasycznej ciemni czarno-białej.\n\nProjekt w całości sfinansowany został ze stypendium artystycznego otrzymanego od Prezydenta Grudziądza w 2012r.\n\n\n\nO mnie:\n\nMaciej Kastner - artysta fotografik\, członek Związku Polskich Artystów Fotografików. Znawca i popularyzator historycznych technik fotograficznych. Swoje prace tworzy głównie w zabytkowych i specjalnych technikach fotograficznych takich jak: guma dwuchromianowa\, carbo\, olej\, techniki żelazowe\, mokra płyta\, fotografia w podczerwieni\, klasyczna ciemnia czarno-biała.\n\n\n\nJego prace mają bardzo indywidualny klimat i charakter\, który nadawany jest podczas procesu ich powstawania. Wykładowca i juror w zakresie technik dwuchromianowych na pokazach\, plenerach i konkursach. Laureat kilku konkursów fotograficznych. Do najważniejszych wymienić należy Grand Prix w konkursie „Grudziądz Foto 2005” za dyptyk „Samotnie przez Starówkę” oraz wyróżnienie w konkursie Remis 2009 w kategorii technik szlachetnych. Stypendysta Prezydenta Grudziądza (2012r.) oraz stypendysta Marszałka Województwa kujawsko-pomorskiego (2013).\n\nMaciej Kastner jest autorem 13 wystaw indywidualnych. Brał również udział w 33 wystawach zbiorowych.\n\n
URL:http://teatr.grudziadz.pl/wydarzenie/maciej-kastner-wystawa-fotografii/
LOCATION:ul. Wybickiego 38
CATEGORIES:Wystawy
ATTACH;FMTTYPE=image/jpeg:http://teatr.grudziadz.pl/wp-content/uploads/2016/02/5-4.jpg
ORGANIZER;CN="CK%20Teatr%20w%20Grudzi%C4%85dzu":MAILTO:szymon.r@teatr.grudziadz.pl
END:VEVENT
BEGIN:VEVENT
DTSTART;TZID="Europe/Warsaw":20160414T190000
DTEND;TZID="Europe/Warsaw":20160414T190000
DTSTAMP:20260423T060005
CREATED:20160223T125538
LAST-MODIFIED:20160414T110617
UID:1122-1460660400-1460660400@teatr.grudziadz.pl
SUMMARY:Dyskusyjny Klub Filmowy - "Mamut"
DESCRIPTION:reż. Lukas Moodysson (Dania\, Niemcy\, Szwecja 2009)\nBohaterami "Mamuta" są ludzie\, którzy oswoili bądź oswajają się z samotnością. Młody projektant gier Tom (Gael Garcia Bernal)\, leci do Bangkoku\, by sfinalizować lukratywny kontrakt. Zostawiony sam sobie przez współpracownika\, snuje się bez celu po pustych\, hotelowych wnętrzach. Jego młoda żona Allison (Michelle Williams) pracuje jako lekarka. Poświęcając się ratowaniu ludzkiego życia\, zaniedbuje córkę Jackie (Sophie Nyweide).\nWięcej na:\nhttp://www.dkf.grudziadz.pl/\n
URL:http://teatr.grudziadz.pl/wydarzenie/dyskusyjny-klub-filmowy-2/
LOCATION:Teatralna\, 1\, Grudziądz\, 86-300\, Polska
CATEGORIES:DKF
ATTACH;FMTTYPE=image/jpeg:http://teatr.grudziadz.pl/wp-content/uploads/2016/02/7370471.3.jpg
ORGANIZER;CN="CK%20Teatr%20w%20Grudzi%C4%85dzu":MAILTO:szymon.r@teatr.grudziadz.pl
END:VEVENT
END:VCALENDAR