BEGIN:VCALENDAR
VERSION:2.0
PRODID:-//Centrum Kultury Teatr w Grudziądzu - ECPv4.0.5//NONSGML v1.0//EN
CALSCALE:GREGORIAN
METHOD:PUBLISH
X-WR-CALNAME:Centrum Kultury Teatr w Grudziądzu
X-ORIGINAL-URL:http://teatr.grudziadz.pl
X-WR-CALDESC:Events for Centrum Kultury Teatr w Grudziądzu
BEGIN:VEVENT
DTSTART;TZID="Europe/Warsaw":20160415T190000
DTEND;TZID="Europe/Warsaw":20160415T190000
DTSTAMP:20260423T060608
CREATED:20160223T125651
LAST-MODIFIED:20160323T131803
UID:1123-1460746800-1460746800@teatr.grudziadz.pl
SUMMARY:Stand-up - wieczór komediowy
DESCRIPTION:Tylko dla widzów dorosłych\n\nKomediowe wieczory ze stand-upem w Klubie Akcent cieszą się dużym zainteresowaniem\, zatem\, jak mówią organizatorzy\, nie ma się co ograniczać i zatrzymywać. Na klubowej scenie wystąpiła już cała plejada komików\, prezentujących bardzo różne poczucie humoru\, a w kwietniu zrobią to Czarek Jurkiewicz oraz Jakub Poczęty-Błażewicz. Wieczór tradycyjnie już poprowadzi Tomasz Kwiatkowski.\n\nCzarek Jurkiewicz w swoich tekstach\, wywala swoją brudną duszę na lewą stronę\, wciągając nas w czarną otchłań beznadziei\, zmarnowanych okazji i zatrutą zazdrością podejrzliwości. Zajmuje się Stand-upem od 2008 roku. Jest jedną z dwóch pierwszych osób\, która zaczęła promować stand-up comedy na terenie Polski. Początkowo jako undergroundowy stand-up obecnie jako formę komedii rozpoznawalną przez tysiące widzów. Występował w Comedy Central Prezentuje: Stand-up!\, HBO\n\nStand-up Comedy Club oraz HBO tylko dla dorosłych. W 2011 roku założył pierwszą w Polsce szkołę stand-up comedy\, w której prowadzi zajęcia dla młodych komików. Od lat szkoli się w nurcie chicagowskiej szkoły improwizacji komediowej The Second City.\n\n\n\nJakub Poczęty-Błażewicz - jeden z największych komików na Polskiej scenie. Tak ciałem jak i duszą. Ale Kuba to dużo więcej niż fizyczna niedoskonałość\, którą traktuje jako broń\, jaka dostała mu się od samego Kriszny. Kuba to czujny człowiek\, któremu nie umknie nic co robimy źle jako ludzkość. Kuba to pewność siebie\, niesamowita sceniczna postawa i pewien charakterystyczny sposób bycia\, który nie dopuszcza do niego myśli\, że to co ma na talerzu\, może mu wystarczyć.
URL:http://teatr.grudziadz.pl/wydarzenie/stand-up/
LOCATION:ul. Wybickiego 38
CATEGORIES:Koncert
ORGANIZER;CN="CK%20Teatr%20w%20Grudzi%C4%85dzu":MAILTO:szymon.r@teatr.grudziadz.pl
END:VEVENT
END:VCALENDAR