BEGIN:VCALENDAR
VERSION:2.0
PRODID:-//Centrum Kultury Teatr w Grudziądzu - ECPv4.0.5//NONSGML v1.0//EN
CALSCALE:GREGORIAN
METHOD:PUBLISH
X-WR-CALNAME:Centrum Kultury Teatr w Grudziądzu
X-ORIGINAL-URL:http://teatr.grudziadz.pl
X-WR-CALDESC:Events for Centrum Kultury Teatr w Grudziądzu
BEGIN:VEVENT
DTSTART;TZID="Europe/Warsaw":20160417T120000
DTEND;TZID="Europe/Warsaw":20160417T120000
DTSTAMP:20260423T055812
CREATED:20160223T125950
LAST-MODIFIED:20160411T081100
UID:1124-1460894400-1460894400@teatr.grudziadz.pl
SUMMARY:Koncert Niedzielny - „Z Buenos Aires do Wiednia i Paryża”\, Justyna Janowska – wystawa malarstwa
DESCRIPTION:Tym razem wszystkich miłośników dobrych kompozycji zabieramy w muzyczną podróż „Z Buenos Aires do Wiednia i Paryża”. W programie zaplanowane zostały znane utwory pochodzące z Argentyny\, Hiszpanii\, Anglii\, Francji\, Węgier\, Rumunii i Bułgarii. Zabrzmią kompozycje napisane na fortepian solo jak i w duecie - na flet poprzeczny z akompaniamentem fortepianu. Muzyka będzie wzbogacona barwnym komentarzem obfitującym w anegdoty i ciekawostki z koncertowych podróży artystów.\n\nTeresa Kaban – fortepian\n\nHenryk Błażej – flet\n\nProgram koncertu:\n\nCzęść I  Fortepian  solo:\n\nF. Liszt (1811-1886) - VI Rapsodia  Des Dur\nI. Albeniz (1860-1909) - Sevilla\nA. Ginastera (1916-1983) – trzy  Tańce Argentyńskie op. 3\n\nDanza del viejo boyero\n\nDanza de la moza donosa\n\nDanza del gaucho matreso\n\nPRZERWA\n\n Część II  Flet i fortepian:\n\n* J. Rutter  - Suite Antique\n\nPrelude\n\nAria\nOstinato\n\n* A. Karastojanow (1893-1976) - suita tańców słowiańskich (bułgarskich)\n\nPrispivna\n\nPletienica\n* J. Ibert  (1890 - 1962) - Sonatina “JEUX”\n\nAnime\n\nTendre\n\n* G. Enescu (1881 - 1955) - Cantabile and Presto\nTeresa KABAN  -  jest koncertującą pianistką\, absolwentką Akademii Muzycznej w Krakowie w klasie fortepianu  Prof. L. Stefańskiego. Studia pianistyczne doskonaliła pod kierunkiem Prof. R. Baksta\,  W. Mierżanowa i T. Nikołajewej. Jako solistka koncertowała na wielu liczących się estradach w Polsce a także w 40 krajach Europy\, Ameryki oraz na Bliskim Dalekim Wschodzie. Brała też udział w wielu polskich i europejskich  festiwalach muzycznych\, uzyskując wysokie oceny recenzentów i muzyków. Nagrała kilkadziesiąt godzin muzyki dla Polskiego Radia w Warszawie\, a także dla radia włoskiego\, niemieckiego\, angielskiego\, amerykańskiego i innych. Koncertowała jako solistka z wieloma orkiestrami symfonicznymi m. in. w Niemczech\, Danii\, Hiszpanii\, Włoszech\, a także na Słowacji\, w Czechach\,  na Ukrainie oraz w Polsce…\nCzęsto prowadzi mistrzowskie kursy interpretacji muzycznej (Francja\, Anglia\, Niemcy\, Włochy…) . Wielokrotnie brała udział w pracach jury międzynarodowych konkursów pianistycznych  (Włochy\, Słowacja\, Szwajcaria).\n\nJest dyrektorem artystycznym (wspólnie z Henrykiem Błażejem)  Międzynarodowych Festiwali Muzyki Odnalezionej  w Tarnowie.\n\n\nHenryk  BŁAŻEJ  jest koncertującym flecistą\, absolwentem Akademii Muzycznej w Krakowie w klasie fletu Prof.  W. Chudziaka. Grę na flecie doskonalił pod kierunkiem J.P. Rampal’a i J. Galway'a. Koncertuje jako solista i kameralista na wszystkich niemal estradach Polski a także w 40 krajach Europy\, Ameryki (Północnej i Południowej) oraz na Bliskim i Dalekim Wschodzie. Brał udział w licznych krajowych i międzynarodowych festiwalach muzycznych  uzyskując wysokie oceny recenzentów i muzyków. Nagrał  kilkadziesiąt godzin muzyki dla radia polskiego\, włoskiego\, niemieckiego\, angielskiego\, amerykańskiego\, koreańskiego i innych. Jego recitale wielokrotnie transmitowane były "na żywo" przez Polskie radio i Telewizję. Koncertował jako solistka z wieloma orkiestrami symfonicznymi m. in. w  Niemczech\, Danii\, Hiszpanii\, we Włoszech\, w Chorwacji a także w Słowacji\, Czechach\,  na Ukrainie i w Polsce… Często koncertuje w duecie z pianistką Teresą Kaban. Jest współautorem  i dyrektorem artystycznym i organizacyjnym corocznych Międzynarodowych Festiwali Muzyki Odnalezionej w Tarnowie.\n\n\n\n\n\n\n\nJustyna Janowska – wystawa malarstwa \nJUSTYNA JANOWSKA\nArtystka od zawsze lubiła eksperymentować z kolorami. Kolejne obrazy zaczęły ją inspirować\, fascynować i coraz  głębiej wciągać w przepastne pokłady twórczej podświadomości. Ferie barw nie pozwalają obojętnie przejść obok prezentowanych prac. Każdorazowo odkrywa  coś nowego\,  zachwyca ją kolorystyczne łączenie\, spajania\, połączenia kolorów. Kolorystyka\, figuratywność\, faktura\, jest każdorazowo nową formą jej indywidualnej osobistej ekspresji. Wewnętrznych emocji\, indywidualnego spojrzenia na otaczający świat. Każdy z obrazów jest otoczony osobistą aurą\, emanuje energią. Debiut wystawienniczy przypadł w roku 1994 następne to rok 2012\, 2013\, 2014. Kwietniowa wystawa w CK TEATR jest drugą prezentacją twórczości artystki w Grudziądzu. 
URL:http://teatr.grudziadz.pl/wydarzenie/koncert-niedzielny/
LOCATION:Teatralna\, 1\, Grudziądz\, 86-300\, Polska
CATEGORIES:Koncert
ATTACH;FMTTYPE=image/jpeg:http://teatr.grudziadz.pl/wp-content/uploads/2016/02/Wspólne-2-Medium-2.jpg
ORGANIZER;CN="CK%20Teatr%20w%20Grudzi%C4%85dzu":MAILTO:szymon.r@teatr.grudziadz.pl
END:VEVENT
BEGIN:VEVENT
DTSTART;TZID="Europe/Warsaw":20160417T190000
DTEND;TZID="Europe/Warsaw":20160417T190000
DTSTAMP:20260423T055812
CREATED:20160215T092150
LAST-MODIFIED:20160303T130417
UID:628-1460919600-1460919600@teatr.grudziadz.pl
SUMMARY:Organek - koncert
DESCRIPTION:25 zł (przedsprzedaż)  35 zł (w dniu koncertu)\n\nORGANEK – kwartet sygnowany nazwiskiem lidera\, autora muzyki oraz tekstów\, Tomasza Organka\, którego debiut płytowy (Głupi\, Mystic Production\, 2014) wyraźnie zdominował rynek wydawniczy w Polsce uzyskując status złotej płyty. Laureat licznych nagród m. in. Mateusz Trójki 2014\, Nagroda im. Grzegorza Ciechowskiego 2014\, nominacja do nagrody Fryderyka 2015 oraz pierwszoplanowy uczestnik największych polskich festiwali m. in. Męskie Granie 2014\, 2015\, Warsaw Orange Festival 2014\, 2015\, Woodstock 2015.\n\nMuzyka kwartetu realizowana na żywo wymyka się jednoznacznym rockowym aranżacjom zawartym na płycie Głupi\, pchając zespół bardziej w stronę spektaklu\, w którym improwizacja i nieskrępowana ekspresja sceniczna przyciągają coraz większe rzesze słuchaczy poszukujących tego\, co unikatowe\, wolne i prawdziwe.\n\nOficjalna strona zespołu: https://www.facebook.com/tomorganek
URL:http://teatr.grudziadz.pl/wydarzenie/organek/
LOCATION:ul. Wybickiego 38
CATEGORIES:Koncert
ATTACH;FMTTYPE=image/jpeg:http://teatr.grudziadz.pl/wp-content/uploads/2016/02/z18360870QOrganek.jpg
ORGANIZER;CN="CK%20Teatr%20w%20Grudzi%C4%85dzu":MAILTO:szymon.r@teatr.grudziadz.pl
END:VEVENT
END:VCALENDAR