BEGIN:VCALENDAR
VERSION:2.0
PRODID:-//Centrum Kultury Teatr w Grudziądzu - ECPv4.0.5//NONSGML v1.0//EN
CALSCALE:GREGORIAN
METHOD:PUBLISH
X-WR-CALNAME:Centrum Kultury Teatr w Grudziądzu
X-ORIGINAL-URL:http://teatr.grudziadz.pl
X-WR-CALDESC:Events for Centrum Kultury Teatr w Grudziądzu
BEGIN:VEVENT
DTSTART;TZID="Europe/Warsaw":20160419T090000
DTEND;TZID="Europe/Warsaw":20160419T090000
DTSTAMP:20260423T060004
CREATED:20160223T130635
LAST-MODIFIED:20160223T130635
UID:1126-1461056400-1461056400@teatr.grudziadz.pl
SUMMARY:„O smoku wawelskim” - spektakl dla dzieci
DESCRIPTION:Odkąd okrutny smok zamieszkał pod Wzgórzem Wawelskim\, spokojne życie Króla Kraka i jego poddanych legło w gruzach. Rycerze z całej Europy nie mogą pokonać bestii\, która coraz większych ofiar żąda.\nNa dworze króla spiskuje jego doradca Lidor\, co dodatkowo komplikuje trudną sytuację zagrożonego królestwa.\nPremiera:\n 28 X 2007\nReżyseria: \nZbigniew Kulwicki\nScenografia\, kostiumy: \nIrena i Ryszard Belka\n\nMuzyka: \nPiotr Jan Ulatowski\n\nObsada: \nKrólewna Anna\, zła wróżka Gryzella: Karolina Suchodolska\nSzewc Skuba\, rycerz Zygfryd: Łukasz Góras\nAstrolog: Zbigniew Kulwicki\nKról: Andrzej Kosiedowski\nStrażnik I\, rycerz Roland: Karol Kosik\nStrażnik II\, Zwiadowca\, Samuraj\, Smok: Adrian Wiśniewski\nCzas trwania spektaklu: \n65 minut (bez przerw)\n\nIlość aktorów: \n6\n\nObsługa techniczna: \n3+kierowca\n\nNagłośnienie: \nminidisc\n\n\n\n         
URL:http://teatr.grudziadz.pl/wydarzenie/o-smoku-wawelskim-spektakl-dla-dzieci-17/
LOCATION:Teatralna\, 1\, Grudziądz\, 86-300\, Polska
CATEGORIES:Premiery,Spektakle
ATTACH;FMTTYPE=image/jpeg:http://teatr.grudziadz.pl/wp-content/uploads/2016/02/9-2.jpg
ORGANIZER;CN="CK%20Teatr%20w%20Grudzi%C4%85dzu":MAILTO:szymon.r@teatr.grudziadz.pl
END:VEVENT
BEGIN:VEVENT
DTSTART;TZID="Europe/Warsaw":20160419T110000
DTEND;TZID="Europe/Warsaw":20160419T110000
DTSTAMP:20260423T060004
CREATED:20160223T130744
LAST-MODIFIED:20160223T130744
UID:1127-1461063600-1461063600@teatr.grudziadz.pl
SUMMARY:„O smoku wawelskim” - spektakl dla dzieci
DESCRIPTION:Odkąd okrutny smok zamieszkał pod Wzgórzem Wawelskim\, spokojne życie Króla Kraka i jego poddanych legło w gruzach. Rycerze z całej Europy nie mogą pokonać bestii\, która coraz większych ofiar żąda.\nNa dworze króla spiskuje jego doradca Lidor\, co dodatkowo komplikuje trudną sytuację zagrożonego królestwa.\nPremiera:\n 28 X 2007\nReżyseria: \nZbigniew Kulwicki\nScenografia\, kostiumy: \nIrena i Ryszard Belka\n\nMuzyka: \nPiotr Jan Ulatowski\n\nObsada: \nKrólewna Anna\, zła wróżka Gryzella: Karolina Suchodolska\nSzewc Skuba\, rycerz Zygfryd: Łukasz Góras\nAstrolog: Zbigniew Kulwicki\nKról: Andrzej Kosiedowski\nStrażnik I\, rycerz Roland: Karol Kosik\nStrażnik II\, Zwiadowca\, Samuraj\, Smok: Adrian Wiśniewski\nCzas trwania spektaklu: \n65 minut (bez przerw)\n\nIlość aktorów: \n6\n\nObsługa techniczna: \n3+kierowca\n\nNagłośnienie: \nminidisc\n\n\n\n         
URL:http://teatr.grudziadz.pl/wydarzenie/o-smoku-wawelskim-spektakl-dla-dzieci-18/
LOCATION:Teatralna\, 1\, Grudziądz\, 86-300\, Polska
CATEGORIES:Premiery,Spektakle
ATTACH;FMTTYPE=image/jpeg:http://teatr.grudziadz.pl/wp-content/uploads/2016/02/9-2.jpg
ORGANIZER;CN="CK%20Teatr%20w%20Grudzi%C4%85dzu":MAILTO:szymon.r@teatr.grudziadz.pl
END:VEVENT
END:VCALENDAR