BEGIN:VCALENDAR
VERSION:2.0
PRODID:-//Centrum Kultury Teatr w Grudziądzu - ECPv4.0.5//NONSGML v1.0//EN
CALSCALE:GREGORIAN
METHOD:PUBLISH
X-WR-CALNAME:Centrum Kultury Teatr w Grudziądzu
X-ORIGINAL-URL:http://teatr.grudziadz.pl
X-WR-CALDESC:Events for Centrum Kultury Teatr w Grudziądzu
BEGIN:VEVENT
DTSTART;TZID="Europe/Warsaw":20160422T190000
DTEND;TZID="Europe/Warsaw":20160422T190000
DTSTAMP:20260423T061211
CREATED:20160215T102845
LAST-MODIFIED:20160413T094420
UID:643-1461351600-1461351600@teatr.grudziadz.pl
SUMMARY:Grudziądzka Wiosna Teatralna: Oskar i Pani Róża
DESCRIPTION:Teatr Współczesny Szczecin\nUwielbiany przez publiczność\, wzruszający spektakl\, który od 2004 roku utrzymuje się w repertuarze teatru. W szpitalu\, choremu Oskarowi\, towarzyszy ciocia Róża\, która namawia go do rzeczy niemożliwych – to dzięki niej chłopiec pozna pierwszą miłość: Peggy Blue\, przeżyje „małżeństwo”\, „rozstanie” oraz zacznie pisać listy… do Pana Boga. „Oskar i pani Róża” to optymistyczna opowieść o odchodzeniu\, która daje nadzieję\, pomimo przeciwności. \nTeatr Współczesny w Szczecinie \n\nAutor: Eric-Emmanuel Schmitt\nPrzekład: Barbara Grzegorzewska\nReżyseria: Anna Augustynowicz\n\nOBSADA\n\nOskar : Wojciech Brzeziński Pani Róża : Anna Januszewska\n\nScenografia: Marek Braun Kostiumy: Wanda Kowalska Muzyka: Jacek Wierzchowisk\n\nUwielbiany przez publiczność\, wzruszający spektakl\, który od 2004 roku utrzymuje się w repertuarze teatru. W szpitalu\, choremu Oskarowi\, towarzyszy ciocia Róża\, która namawia go do rzeczy niemożliwych – to dzięki niej chłopiec pozna pierwszą miłość: Peggy Blue\, przeżyje „małżeństwo”\, „rozstanie” oraz zacznie pisać listy… do Pana Boga. „Oskar i pani Róża” to optymistyczna opowieść o odchodzeniu\, która daje nadzieję\, pomimo przeciwności.\n\nRecenzje:\n\n„Piękny i mądry spektakl\, ze świetną scenografią\, muzyką\, aktorstwem\, który niekoniecznie wyciska morze łez za to dotyka w nas prawdy życia.”\n\nGazeta Wyborcza\n\n„A potem była premiera. Łzy widzów. Łzy\, o których zwykło się mawiać\, że krzepiące\, ale - umówmy się - niekoniecznie każdego. W każdym razie wzruszenie było autentyczne. Zachwyt też. Okazało się\, że nie wolno wątpić w mądrość\, instynkt i wizje Augustynowicz.”\n\nKurier Szczeciński\n\n„Trudno nie docenić gry obojga aktorów: rewelacyjnego Wojciecha Brzezińskiego (Oskar) oraz Anny Januszewskiej (pani Róża). Wypowiadane przez nich słowa przykuwają uwagę widza. Zakończenie sztuki tchnie nadzieją\, że wszystko to\, czego doświadczamy\, ma swój głęboki sens.”\n\nGłos Szczeciński\n\n„Wojciech Brzeziński i Anna Januszewska z ubielonymi twarzami na tle zmultiplikowanego jak w lustrach szpitalnego łóżka grają dojrzewanie do śmierci w szalonym\, groteskowym skrócie. Nie demonstrują cierpienia; wiedzą o nim. I umieją sprawić\, że i my wiemy.”\n\nPrzekrój\n\nNAGRODY:\n\n"ATEST - Świadectwo Wysokiej Jakości i Poziomu Artystycznego" – przyznawane twórcom teatru dla dzieci i młodzieży przez Zarząd i Kapitułę Atestów przy Polskim Ośrodku Międzynarodowego Stowarzyszenia Teatrów dla Dzieci i Młodzieży ASSITEJ (Warszawa\, 2004)\n\nGrand Prix\, czyli Wielka Nagroda Publiczności\, na Ogólnopolskim Przeglądzie Teatrów Małych Form KONTRAPUNKT 2005 w Szczecinie.\n\nWyróżnienie dla Anny Januszewskiej za rolę Pani Róży na Ogólnopolskim Przeglądzie Teatrów Małych Form KONTRAPUNKT 2005 w Szczecinie\n\nFESTIWALE I WYJAZDY:\n\n* Prezentacja spektaklu Teatrze Małym w Warszawie (8.02.2005)\n* XL Ogólnopolski Przegląd Teatrów Małych Form KONTRAPUNKT 2005 w Szczecinie. (24.04.2005)\n* IX Międzynarodowy Festiwal Teatrów dla Dzieci i Młodzieży Korczak w Warszawie (29.09.2005)\n\nRecenzja:\n\nAnna Augustynowicz\, która przyzwyczaiła nas do świetnych inscenizacji współczesnych dramatów nurtu tzw. nowego brutalizmu\, była ostatnią osobą\, którą posądziłabym o wyreżyserowanie niewielkiej książeczki Erica-Emmanuela Schmitta "Oskar i pani Róża".\n\nWydawało się\, że wzruszająca do łez lektura listów\, które umierający na białaczkę dziesięcioletni chłopiec pisze do Pana Boga\, nie może stać się dla niej terenem teatralnych poszukiwań. Tymczasem okazało się\, że charakterystyczny styl inscenizacyjny Augustynowicz doskonale sprawdził się przy tym tekście\, a wręcz uwiarygodnił go.\n\nŚwiadomy zbliżającej się śmierci Oskar\, za namową starej wolontariuszki pani Róży\, podejmuje pewien rodzaj gry w życie - każdy kolejny dzień traktuje jako kolejne dziesięciolecie. Dzięki tej zabawie ma szansę w przeciągu najbliższych dni przeżyć całe życie\, poznając smak przyjaźni\, miłości\, małżeńskiej odpowiedzialności\, wybaczenia\, starości. Dochodzi do kilku filozoficznych stwierdzeń\, wreszcie zgłębia sens życia.\n\nKapitalnym zabiegiem inscenizacyjnym jest w tym spektaklu rozdzielenie tekstu nie tyle na dwie tytułowe role\, ile na dwa głosy aktorów. Tym samym Anna Januszewska\, choć wygląd każe nam kojarzyć ją z ciocią Różą\, gra nie tylko dojrzałą i mądrą kobietę\, która pomaga przeżyć ostatnie dni umierającemu chłopcu\, ale też owo poznające życie dziecko. Wojciech Brzeziński nie udaje dziesięcioletniego chłopca\, w jego postaci jest tyleż samo dziecięcych emocji\, co rozumu dojrzałego człowieka (wszak dziecko chowa w sobie natura każdego z nas). Pod maską nałożonej na twarz bieli oboje skrywają poczucie samotności\, bezradności\, zagubienia.\n\nWszystko rozgrywa się w przestrzeni szpitala - wykreowanego przez wyłaniający się z ciemności rząd łóżek stykających się ze sobą oparciami\, ustawionych jedno za drugim od widowni w głąb sceny. Łóżka pooddzielane są od siebie przezroczystymi ścianami\, co stwarza efekt ciągnącego się łańcucha boksów. Przerwy między prezentacją kolejnych listów Oskara wypełnia transowa muzyka (czasem walc)\, w rytm której aktorzy przechodzą do kolejnych "komórek". "Zasiedlając" kolejne wydzielone ścianami przestrzenie\, przekraczają granice\, pokonują kolejne etapy na drodze swojej życiowej inicjacji. Dwunastego dnia Oskar dociera do łóżka ostatniego\, zamykającego ów rząd i umiera.\n\nKsiążka Schmitta jest pięknym i mądrym traktatem filozoficznym o sensie życia\, ale powierzenie narracji chłopcu\, który o przeżyciach ostatnich dni opowiada z nieprawdopodobną jak na jego wiek refleksyjnością\, czyni z niej nie do końca szczerą powiastkę filozoficzną\, nieco efekciarsko bazującą na współczuciu dla chorego dziecka. Siłą inscenizacji Augustynowicz jest to\, że nie poprzestała na wiernej adaptacji tekstu\, ale z matematyczną precyzją zbudowała na scenie jego teatralną metaforę.\n\nPowstał piękny i mądry spektakl\, ze świetną scenografią\, muzyką\, aktorstwem\, który niekoniecznie wyciska morze łez (choć do programu w kształcie koperty włożona jest chusteczka) za to dotyka w nas prawdy życia.\n\nEwa Podgajna\nGazeta Wyborcza\n\nAutor: Eric-Emmanuel Schmitt\n\nReżyseria: Anna Augustynowicz\n\nczas trwania: 1 godz. 40 min.\n\n 
URL:http://teatr.grudziadz.pl/wydarzenie/oskaripaniroza/
LOCATION:Teatralna\, 1\, Grudziądz\, 86-300\, Polska
CATEGORIES:Grudziądzka Wiosna Teatralna,Spektakle
ATTACH;FMTTYPE=image/jpeg:http://teatr.grudziadz.pl/wp-content/uploads/2016/02/oskar-169-Fot.-Marek-Biczyk.jpg
ORGANIZER;CN="CK%20Teatr%20w%20Grudzi%C4%85dzu":MAILTO:szymon.r@teatr.grudziadz.pl
END:VEVENT
BEGIN:VEVENT
DTSTART;TZID="Europe/Warsaw":20160422T190000
DTEND;TZID="Europe/Warsaw":20160422T190000
DTSTAMP:20260423T061211
CREATED:20160223T131508
LAST-MODIFIED:20160317T130807
UID:1132-1461351600-1461351600@teatr.grudziadz.pl
SUMMARY:Koncert charytatywny na rzecz opieki paliatywnej
DESCRIPTION:
URL:http://teatr.grudziadz.pl/wydarzenie/bluesqua-koncert-charytatywny/
LOCATION:ul. Wybickiego 38
CATEGORIES:Koncert
ORGANIZER;CN="CK%20Teatr%20w%20Grudzi%C4%85dzu":MAILTO:szymon.r@teatr.grudziadz.pl
END:VEVENT
END:VCALENDAR