BEGIN:VCALENDAR
VERSION:2.0
PRODID:-//Centrum Kultury Teatr w Grudziądzu - ECPv4.0.5//NONSGML v1.0//EN
CALSCALE:GREGORIAN
METHOD:PUBLISH
X-WR-CALNAME:Centrum Kultury Teatr w Grudziądzu
X-ORIGINAL-URL:http://teatr.grudziadz.pl
X-WR-CALDESC:Events for Centrum Kultury Teatr w Grudziądzu
BEGIN:VEVENT
DTSTART;TZID="Europe/Warsaw":20160423T190000
DTEND;TZID="Europe/Warsaw":20160423T190000
DTSTAMP:20260423T060003
CREATED:20160215T103200
LAST-MODIFIED:20160422T121307
UID:645-1461438000-1461438000@teatr.grudziadz.pl
SUMMARY:Grudziądzka Wiosna Teatralna: Seans
DESCRIPTION:Z powodu nagłej choroby aktora grającego główną rolę\, zmuszeni jesteśmy do zmiany ostatniego (sobotniego) spektaklu zaplanowanego na zakończenie festiwalu Grudziądzka Wiosna Teatralna. Zamiast „Allo\, allo”\, proponujemy „Seans”\, czyli lekką\, przezabawną opowieść o spotkaniu z duchem.\n\nPrzypomnijmy spektakl w wykonaniu  Bałtyckiego Teatru Dramatycznego z Koszalina wystawiony zostanie poza konkursem\, a po jego zakończeniu rozstrzygniemy plebiscyt publiczności na najciekawsze przedstawienie festiwalu. Głosować mogą wszyscy właściciele karnetów. Zapraszamy.\n\nTymczasem w sobotę wieczór z duchami. Nie\, nie będziemy straszyć. Ta komedia arcymistrza gatunku Noela Cowarda to pretekst do wybornej zabawy odwiecznymi damsko-męskimi konfliktami\, z niegłupim jednak podtekstem. Karol\, popularny pisarz i nieuznający granic artysta\, dla poszerzenia spektrum swoich doświadczeń\, organizuje wraz ze swą żoną seans spirytystyczny.\n\nObsada:\nObsada: Małgorzata Wiercioch\, Dominika Mrozowska\, Beata Niedziela\, Żaneta Kurcewiczówna (gościnnie)\, Katarzyna Jędrychowska (gościnnie)\, Wojciech Kowalski\, Jacek Zdrojewski\nKostiumy - Jerzy Rudzki\n\nScenografia - Jerzy Rudzki\n\nMuzyka\, choreografia\, przekład - Irena Babel\n\nWieczór zapowiada się rozkosznie\, jednak wkraczanie na niebezpieczne terytoria nie zawsze uchodzi bezkarnie. Madame Arcati\, ekscentryczne medium sprowadza do przytulnego domku nową-starą lokatorkę. A potem napięcie rośnie...\n\nCzas spektaklu 1h 35 min z przerwą\n\n[embed]https://www.youtube.com/watch?v=DlXWyACaI3I&feature=youtu.be[/embed]
URL:http://teatr.grudziadz.pl/wydarzenie/seans/
LOCATION:Teatralna\, 1\, Grudziądz\, 86-300\, Polska
CATEGORIES:Grudziądzka Wiosna Teatralna,Spektakle
ATTACH;FMTTYPE=image/jpeg:http://teatr.grudziadz.pl/wp-content/uploads/2016/03/seans3.jpg
ORGANIZER;CN="CK%20Teatr%20w%20Grudzi%C4%85dzu":MAILTO:szymon.r@teatr.grudziadz.pl
END:VEVENT
END:VCALENDAR