BEGIN:VCALENDAR
VERSION:2.0
PRODID:-//Centrum Kultury Teatr w Grudziądzu - ECPv4.0.5//NONSGML v1.0//EN
CALSCALE:GREGORIAN
METHOD:PUBLISH
X-WR-CALNAME:Centrum Kultury Teatr w Grudziądzu
X-ORIGINAL-URL:http://teatr.grudziadz.pl
X-WR-CALDESC:Events for Centrum Kultury Teatr w Grudziądzu
BEGIN:VEVENT
DTSTART;TZID="Europe/Warsaw":20160429T090000
DTEND;TZID="Europe/Warsaw":20160429T090000
DTSTAMP:20260423T043927
CREATED:20160223T132732
LAST-MODIFIED:20160223T132732
UID:1135-1461920400-1461920400@teatr.grudziadz.pl
SUMMARY:Rozdanie świadectw - I Liceum Ogólnokszcące
DESCRIPTION:Impreza zamknięta.
URL:http://teatr.grudziadz.pl/wydarzenie/rozdanie-swiadectw-i-liceum-ogolnoksztalcacego/
LOCATION:Teatralna\, 1\, Grudziądz\, 86-300\, Polska
CATEGORIES:Wynajem
ORGANIZER;CN="I%20Liceum%20Og%C3%B3lnokszta%C5%82c%C4%85ce%20w%20Grudzi%C4%85dzu":MAILTO:office@lo1.pl
END:VEVENT
BEGIN:VEVENT
DTSTART;TZID="Europe/Warsaw":20160429T190000
DTEND;TZID="Europe/Warsaw":20160429T190000
DTSTAMP:20260423T043927
CREATED:20160223T132908
LAST-MODIFIED:20160412T122636
UID:1137-1461956400-1461956400@teatr.grudziadz.pl
SUMMARY:"Z rockiem przez młodość" - koncert
DESCRIPTION:Koncert "Z rockiem przez młodość" – piąta jubileuszowa edycja to będzie prawdziwe wydarzenie\, na które szczególnie gorąco zapraszamy. Już od kilku lat koncerty młodych ludzi\, pracujących na co dzień pod okiem Macieja Gburczyka w Ognisku Pracy Pozaszkolnej przyciągają do Klubu Akcent sporą publiczność\, co sprawia\, że atmosfera tych wieczorów jest niepowtarzalna.\n\nTym razem zobaczymy i usłyszymy wokalistów i wokalistki z OPP oraz zespoły: Hope i Out of Control\, a oprócz nich wielu wspaniałych gości: Daniela Grzybowskiego\, Adrianę Nowacką i chór z Gimnazjum nr 7. Ponadto zaproszenie do udziału w koncercie przyjęli wokaliści i instrumentaliści z Gimnazjum nr 7 pracujący pod opieką Macieja Gburczyka\, zespoły: One Dream oraz Monolith z GOK Mały Rudnik. Bądźcie z nami!!!\n\nW zespole akompaniującym zagrają czołowi młodzi grudziądzcy muzycy: gitarzysta współpracujący wcześniej z Pokój 202\, Animą i innymi Paweł Szulc\, basista mający za sobą współpracę z Dechlebs\, Pierre de Loney czy Toki Hubert Bielewski oraz perkusistka Daria Grajkowska która zagrała gościnnie z Happysad oraz bębniła w Toki.
URL:http://teatr.grudziadz.pl/wydarzenie/koncert-podopiecznych-ogniska-pracy-pozaszkolnej/
LOCATION:ul. Wybickiego 38
CATEGORIES:Koncert
ATTACH;FMTTYPE=image/jpeg:http://teatr.grudziadz.pl/wp-content/uploads/2016/02/ROCK.jpg
ORGANIZER;CN="CK%20Teatr%20w%20Grudzi%C4%85dzu":MAILTO:szymon.r@teatr.grudziadz.pl
END:VEVENT
END:VCALENDAR