BEGIN:VCALENDAR
VERSION:2.0
PRODID:-//Centrum Kultury Teatr w Grudziądzu - ECPv4.0.5//NONSGML v1.0//EN
CALSCALE:GREGORIAN
METHOD:PUBLISH
X-WR-CALNAME:Centrum Kultury Teatr w Grudziądzu
X-ORIGINAL-URL:http://teatr.grudziadz.pl
X-WR-CALDESC:Events for Centrum Kultury Teatr w Grudziądzu
BEGIN:VEVENT
DTSTART;TZID="Europe/Warsaw":20160505T100000
DTEND;TZID="Europe/Warsaw":20160505T100000
DTSTAMP:20260423T043703
CREATED:20160225T093353
LAST-MODIFIED:20160225T093353
UID:1141-1462442400-1462442400@teatr.grudziadz.pl
SUMMARY:VI Przegląd Teatralny Grudziądz 2016
DESCRIPTION:Przegląd w ramach obchodów Dnia Godności Osób Niepełnosprawnych Intelektualnie.
URL:http://teatr.grudziadz.pl/wydarzenie/vi-przeglad-teatralny-grudziadz-2016/
LOCATION:ul. Wybickiego 38
ORGANIZER;CN="CK%20Teatr%20w%20Grudzi%C4%85dzu":MAILTO:szymon.r@teatr.grudziadz.pl
END:VEVENT
END:VCALENDAR