BEGIN:VCALENDAR
VERSION:2.0
PRODID:-//Centrum Kultury Teatr w Grudziądzu - ECPv4.0.5//NONSGML v1.0//EN
CALSCALE:GREGORIAN
METHOD:PUBLISH
X-WR-CALNAME:Centrum Kultury Teatr w Grudziądzu
X-ORIGINAL-URL:http://teatr.grudziadz.pl
X-WR-CALDESC:Events for Centrum Kultury Teatr w Grudziądzu
BEGIN:VEVENT
DTSTART;TZID="Europe/Warsaw":20160506T190000
DTEND;TZID="Europe/Warsaw":20160506T190000
DTSTAMP:20260423T043616
CREATED:20160225T093548
LAST-MODIFIED:20160427T075421
UID:1142-1462561200-1462561200@teatr.grudziadz.pl
SUMMARY:The Broken Bridges\, Keep rockin' - koncert
DESCRIPTION:(fot. Maciej Kastner)\n\nZespół The Broken Bridges od niedawna istnieje na muzycznej scenie Grudziądza. Grupa nie kryje swoich fascynacji rockiem progresywnym\, który jest punktem wyjścia do szukania własnego muzycznego języka i nośnikiem dla kłębiących się emocji. Te emocje stojące za poszczególnymi dźwiękami są charakterystyczne dla większości młodych zespołów w tym przypadku co ciekawe spotykają się z życiowym doświadczeniem poszczególnych muzyków.\n\nZa dźwiękami i słowami w The Broken Bridges kryją się ludzie stojący na półmetku życia. W ich twórczości zawierają się dotychczasowe fascynacje muzyczne\, rozterki i nadzieje. The Broken Bridges to obawa debiutu w dojrzałym wieku z wszystkimi jego konsekwencjami. Wszystko to przejawia się w tekstach zespołu\, pełnych świadomości przemijającego czasu\, rozwianych złudzeń\, ale i nadziei na szczęśliwy koniec drogi\, który może stać się początkiem nowego.\n\nNie wszystkie złamane mosty to stracone marzenia. Wielu marzyło o zostaniu muzykami\, jak ulubieni wykonawcy. Członkom The Broken Bridges udało się przemienić pokątne muzykowanie w dojrzały autorski repertuar. W ich twórczości poszczególne utwory łączą się w intrygującą muzyczną opowieść.\n\n\n\nZespół KEEP ROCKIN’ powstał we wrześniu 2008 roku we Włocławku. W roku 2009 na swoim koncie odnotował pierwszy sukces\, którym było zdobycie pierwszego miejsca podczas Rejonowego Przeglądu Zespołów Muzycznych 'STRUNA' 2009\, we Włocławku. W owym czasie ich muzyka charakteryzowała się brzmieniem typowym dla rocka i prog-rocka z elementami metalu. W utworach można było usłyszeć zarówno cięższe brzmienia\, jak i wzbogacone fragmentami nietypowych podziałów rytmicznych oraz klimaty czysto balladowe. Teksty poruszały tematy na ogół związane z życiem człowieka\, jego dylematami i emocjami. Na przełomie 2010/2011 roku zespół wszedł do studia ISLANDS w Inowrocławiu i nagrał EP zawierające pięć polskojęzycznych utworów.\n\nW międzyczasie KEEP ROCKIN’ zdobył kolejną nagrodę - pierwsze miejsce podczas Rock Piotrcovia Festival 2011 w Piotrkowie Kujawskim. Rok 2012 obfitował w koncerty\, poszukiwanie wydawcy i przygotowania do nagrania albumu studyjnego. Panowie podjęli również decyzję o przełożeniu dotychczasowych utworów z języka polskiego na język angielski. W roku 2013 zespół nagrał debiutancki album \, a jego wydania podjęła się wytwórnia LYNX MUSIC z Krakowa.\n\nW maju 2013 ukazała się płyta " Into the Unknown "\, która spotkała się z ciepłym przyjęciem i dobrymi recenzjami.\n\nRok 2014 przyniósł zmiany personalne i zabawa zaczęła się od początku. Lukę po Piotrze Majerskim wypełnił nowy gitarzysta Adam Muszyński\, który wcześniej związany był z włocławską sceną Heavy Metalową. Po ciepłym przyjęciu Adama\, zespół oddał się twórczej pracy. Próby z nowym gitarzystą\, wcielanie w życie nowych pomysłów i dalsza promocja albumu wzbudzały coraz większe zainteresowanie publiczności. Dzięki zaproszeniu na pierwszy koncert w nowym składzie i zaciekawieniu twórczością zespołu\, które w krótkim czasie przerodziło się w fascynację jego muzyką\, w listopadzie 2014 roku do składu\, jako manager dołączył Marcin Lewandowski (wieloletni przyjaciel Adama).\n\nRok 2015 był owocny pod każdym względem. Cały zespół zaangażował się w promocję. 28 lutego i 14 marca 2015 roku utwór „The Leaves" został wyemitowany w programie Marka Niedźwieckiego „Markomania”. Spory sukces odniósł utwór „ Seven past midnight ”\, który 20 kwietnia zadebiutował w radiu Rocktime. 20 lipca 2015 roku dotarł do pierwszego miejsca w notowaniu tamtejszej listy przebojów i w dalszym ciągu się na niej utrzymuje. 15 lutego 2016 roku minął czterdziesty tydzień obecności utworu „ Seven past midnight ” na liście radia Rocktime.\n\nW międzyczasie powstawały pierwsze utwory\, które mają pojawić się na nowym albumie.\n\nBył to czas pełnej mobilizacji i przyjętych z entuzjazmem koncertów\, takich jak:\n\n• 23 Finał WOŚP – Grodzisk Mazowiecki\n• Klub Agrafka – Zgierz (razem z zespołem State Urge)\n• Starodębska music bar – Włocławek\n• "Od zmierzchu do świtu" we Wrocławiu\, wraz z zespołami Halucynacje (Wrocław) i RUBIK1138 (Meksyk)\n• ŁDK na Festiwalu PROG THE NIGHT wraz z zespołami: Abstrakt\, Maze of Sound\, Arlon\, Promiseland\, Thesis\, Art of Illusion i Retrospective\n• Kuyavian Prog Fest vol. 1 we Włocławku wraz z zespołami The Broken Bridges (Grudziądź) i Art Of Illusion (Bydgoszcz)\n\nObecnie zespół pracuje nad drugim studyjnym albumem\, którego premierę przewiduje na lipiec 2016 roku. Oprócz tego w planie są kolejne koncerty – najważniejszym będzie udział w X Festiwalu Rocka Progresywnego w Gniewkowie\, który odbędzie się również w lipcu tego roku.\n\n 
URL:http://teatr.grudziadz.pl/wydarzenie/the-broken-bridges-keep-rockin-koncert/
LOCATION:ul. Wybickiego 38
CATEGORIES:Koncert
ATTACH;FMTTYPE=image/jpeg:http://teatr.grudziadz.pl/wp-content/uploads/2016/02/broken-bridges-Medium-2.jpg
ORGANIZER;CN="CK%20Teatr%20w%20Grudzi%C4%85dzu":MAILTO:szymon.r@teatr.grudziadz.pl
END:VEVENT
END:VCALENDAR