BEGIN:VCALENDAR
VERSION:2.0
PRODID:-//Centrum Kultury Teatr w Grudziądzu - ECPv4.0.5//NONSGML v1.0//EN
CALSCALE:GREGORIAN
METHOD:PUBLISH
X-WR-CALNAME:Centrum Kultury Teatr w Grudziądzu
X-ORIGINAL-URL:http://teatr.grudziadz.pl
X-WR-CALDESC:Events for Centrum Kultury Teatr w Grudziądzu
BEGIN:VEVENT
DTSTART;TZID="Europe/Warsaw":20160507T190000
DTEND;TZID="Europe/Warsaw":20160507T190000
DTSTAMP:20260423T043642
CREATED:20160225T093736
LAST-MODIFIED:20160225T093736
UID:1143-1462647600-1462647600@teatr.grudziadz.pl
SUMMARY:Koncert szantowy
DESCRIPTION:Koncert organizowany przez Klub Żeglarski. Impreza zamknięta.
URL:http://teatr.grudziadz.pl/wydarzenie/koncert-szantowy/
LOCATION:ul. Wybickiego 38
CATEGORIES:Koncert,Wynajem
ORGANIZER;CN="CK%20Teatr%20w%20Grudzi%C4%85dzu":MAILTO:szymon.r@teatr.grudziadz.pl
END:VEVENT
END:VCALENDAR