BEGIN:VCALENDAR
VERSION:2.0
PRODID:-//Centrum Kultury Teatr w Grudziądzu - ECPv4.0.5//NONSGML v1.0//EN
CALSCALE:GREGORIAN
METHOD:PUBLISH
X-WR-CALNAME:Centrum Kultury Teatr w Grudziądzu
X-ORIGINAL-URL:http://teatr.grudziadz.pl
X-WR-CALDESC:Events for Centrum Kultury Teatr w Grudziądzu
BEGIN:VEVENT
DTSTART;TZID="Europe/Warsaw":20160709T190000
DTEND;TZID="Europe/Warsaw":20160709T190000
DTSTAMP:20260423T002628
CREATED:20160226T085001
LAST-MODIFIED:20160709T090147
UID:1175-1468090800-1468090800@teatr.grudziadz.pl
SUMMARY:Lato na Starym Mieście: „Pieśni Żydowskiego Polesia”  – koncert pieśni żydowskich
DESCRIPTION:Koncert Pieśni Żydowskiego Polesia przywołuje utracony świat wielokulturowego Polesia\, gdzie język jidisz przeplata się z polskim\, a klezmerskie melodie z głosem pasterki. W programie szczególne miejsce zajmują pieśni z repertuaru Mariam Nirenberg\, żydowskiej pieśniarki z Czarnawczyc pod Kobryniem.\n\nWystąpi Olga Mieleszczuk z zespołem\n\nProjekt "Pieśni Żydowskiego Polesia" miał swoją premierę w Lincoln Center w Nowym Jorku w marcu 2013 roku. Był prezentowany na Festiwalu Chutzpah! w kanadyjskim Vancouver\, festiwalu muzyki żydowskiej w Berkeley California\, w Kaliningradzie z okazji Rocznicy Nocy Kryształowej\, na Festiwalu Warszawa Singera Muzeum Historii Żydów Polskich w Warszawie\, Muzeum Żydów Mazowieckich w Płocku\, Festiwalu Chaviva na Słowacji\, Centrum Muzycznym Blumental w Tel Avivie i innych...\n\nW razie niepogody sala koncertowa muzeum\nSponsorem Lata na Starym Mieście jest:\n
URL:http://teatr.grudziadz.pl/wydarzenie/lato-starym-miescie-2/
CATEGORIES:Lato na Starym Mieście
ORGANIZER;CN="CK%20Teatr%20w%20Grudzi%C4%85dzu":MAILTO:szymon.r@teatr.grudziadz.pl
END:VEVENT
END:VCALENDAR