BEGIN:VCALENDAR
VERSION:2.0
PRODID:-//Centrum Kultury Teatr w Grudziądzu - ECPv4.0.5//NONSGML v1.0//EN
CALSCALE:GREGORIAN
METHOD:PUBLISH
X-WR-CALNAME:Centrum Kultury Teatr w Grudziądzu
X-ORIGINAL-URL:http://teatr.grudziadz.pl
X-WR-CALDESC:Events for Centrum Kultury Teatr w Grudziądzu
BEGIN:VEVENT
DTSTART;TZID="Europe/Warsaw":20160718T100000
DTEND;TZID="Europe/Warsaw":20160722T120000
DTSTAMP:20260423T015734
CREATED:20160510T065118
LAST-MODIFIED:20160510T065118
UID:3399-1468836000-1469188800@teatr.grudziadz.pl
SUMMARY:Lato na Starym Mieście: Warsztaty teatralno-lalkarskie
DESCRIPTION:18 - 22 VII Teatr \n\nWarsztaty teatralno-lalkarskie – prowadzenie Renata Boguska \n\n(dzieci w wieku od 7 do 16 lat)\n\nGodz. 10.00 - 12.00    wstęp wolny \n\nTeatr Lalkowy „Miszmasz” działający w CK Teatr\, ma na swoim koncie sporo sukcesów i wiele premier. Co najważniejsze jednak przez kilka lat funkcjonowania na małej scenie młodzi aktorzy doczekali się stałej publiczności\, która bardzo chętnie przychodzi na ich produkcje. Jednym z największych atutów tych przedstawień są lalki\, które osobiście projektuje i wykonuje Renata Boguska – reżyser oraz instruktor w jednej osobie.\n\nWszyscy\, którzy chcieliby poznać pracę teatru lalkowego od kuchni będą mogli to uczynić podczas zajęć warsztatowych w czasie wakacji. Zapraszamy dzieci i młodzież w wieku od 7 do 16 lat. Spotkania dla wszystkich uczestników będą okazją nie tylko do zapoznania się ze światem teatru\, ale i do wypróbowania możliwości własnych rąk w teatralnej zabawie lalkami.\nSponsorem Lata na Starym Mieście jest:\n
URL:http://teatr.grudziadz.pl/wydarzenie/lato-starym-miescie-warsztaty-teatralno-lalkarskie/
LOCATION:Teatralna\, 1\, Grudziądz\, 86-300\, Polska
CATEGORIES:Lato na Starym Mieście
ORGANIZER;CN="CK%20Teatr%20w%20Grudzi%C4%85dzu":MAILTO:szymon.r@teatr.grudziadz.pl
END:VEVENT
BEGIN:VEVENT
DTSTART;TZID="Europe/Warsaw":20160721T180000
DTEND;TZID="Europe/Warsaw":20160721T180000
DTSTAMP:20260423T015734
CREATED:20160622T123108
LAST-MODIFIED:20160712T062220
UID:3827-1469124000-1469124000@teatr.grudziadz.pl
SUMMARY:Lato na Starym Mieście:  Wystawa grudziądzkich artystów
DESCRIPTION:      Wystawa grudziądzkich artystów to propozycja cykliczna. Co roku w okresie wakacji zapraszamy mieszkańców miasta i turystów do odwiedzenia galerii\, gdzie swoje prace prezentują lokalni twórcy. Ekspozycja nie została ograniczona jednym wspólnym tematem\, ani też rodzajem prezentowanych prac. Zatem różnorodność\, którą proponujemy jest godna państwa uwagi. Mamy nadzieję\, że tegoroczna propozycja cieszyć się będzie zainteresowaniem zarówno mieszkańców jak i turystów odwiedzających nasze miasto. Wystawa jest jednym z nieodłącznych elementów festiwalu „Lato na starym Mieście”. Idea\, która przyświeca nam przy jej tworzeniu\, co roku jest taka sama\, a jest nią promocja twórczości grudziądzkich artystów.\nSponsorem Lata na Starym Mieście jest:\n
URL:http://teatr.grudziadz.pl/wydarzenie/lato-starym-miescie-wystawa-grudziadzkich-artystow/
LOCATION:ul. Wybickiego 38
CATEGORIES:Wystawy
ORGANIZER;CN="CK%20Teatr%20w%20Grudzi%C4%85dzu":MAILTO:szymon.r@teatr.grudziadz.pl
END:VEVENT
END:VCALENDAR