BEGIN:VCALENDAR
VERSION:2.0
PRODID:-//Centrum Kultury Teatr w Grudziądzu - ECPv4.0.5//NONSGML v1.0//EN
CALSCALE:GREGORIAN
METHOD:PUBLISH
X-WR-CALNAME:Centrum Kultury Teatr w Grudziądzu
X-ORIGINAL-URL:http://teatr.grudziadz.pl
X-WR-CALDESC:Events for Centrum Kultury Teatr w Grudziądzu
BEGIN:VEVENT
DTSTART;TZID="Europe/Warsaw":20160808T100000
DTEND;TZID="Europe/Warsaw":20160819T120000
DTSTAMP:20260422T224933
CREATED:20160512T113036
LAST-MODIFIED:20160725T072831
UID:3442-1470650400-1471608000@teatr.grudziadz.pl
SUMMARY:Lato na Starym Mieście: Warsztaty plastyczne
DESCRIPTION:8 - 19  sierpnia Teatr \n\nWarsztaty plastyczne – prowadzenie Marianna Gitner Sawistowska \n\n(dzieci i młodzież w wieku od 7 do 18 lat)\n\nGodz. 10.00 -12.00      wstęp wolny \n\nWakacyjne wędrówki” to propozycja warsztatowych zajęć plastycznych dla młodych ludzi\, którzy w ciekawy sposób chcą spędzić kilka wakacyjnych dni. Z ołówkiem w ręku w najpiękniejszych zaułkach Grudziądza\, co roku powstają bardzo ciekawe prace. Oferta Centrum Kultury Teatr skierowana jest nie tylko do osób\, szczególnie uzdolnionych plastycznie. Warsztaty to przede wszystkim czas spędzony w miłej atmosferze\, gdzie nauczyć się można podstaw rysunku\, kadrowania obrazu\, czy też odpowiedniego doboru kolorów.\n\nZapraszamy dzieci i młodzież w wieku od 7 do 18 lat. \nSponsorem Lata na Starym Mieście jest:\n
URL:http://teatr.grudziadz.pl/wydarzenie/lato-starym-miescie-warsztaty-plastyczne-2/
LOCATION:Teatralna\, 1\, Grudziądz\, 86-300\, Polska
CATEGORIES:Lato na Starym Mieście
ORGANIZER;CN="CK%20Teatr%20w%20Grudzi%C4%85dzu":MAILTO:szymon.r@teatr.grudziadz.pl
END:VEVENT
BEGIN:VEVENT
DTSTART;TZID="Europe/Warsaw":20160811T190000
DTEND;TZID="Europe/Warsaw":20160811T190000
DTSTAMP:20260422T224933
CREATED:20160226T085657
LAST-MODIFIED:20160628T080723
UID:1184-1470942000-1470942000@teatr.grudziadz.pl
SUMMARY:Lato na Starym Mieście: Lato z DKF-em – wieczór z kryminałem
DESCRIPTION:„Mocne alibi” 2008 – kryminał\, thriller\n\nFrancja\, Włochy\n\nreż. Pascal Bonitzer \n\n„Mocne alibi” jest kolejną\, udaną adaptacją powieści Agathy Christie\, „Niedziela na wsi”. Podczas weekendu\, w posiadłości senatora Pagesa\, dochodzi do morderstwa. Ofiarą jest Pierre Collier\, przyjaciel domu\, znany psychiatra i pożeracz kobiecych serc. Wszystko wskazuje na to\, że zabójcą jest jego żona\, Claire. Jednak w toku śledztwa\, inspektor Grange ze zdumieniem odkrywa\, że każdy z zaproszonych przez senatora gości mógł mieć motyw do popełnienia zbrodni. Wzrastające napięcie i zaskakujący finał tej historii zadowoli nie tylko entuzjastów filmów kryminalnych.\n\n\n\n„Scoop – gorący temat” 2006 – komedia kryminalna\n\nUSA\, Wielka Brytania \n\nreż. Woody Allen \n            Lekka komedia z dialogami skrzącymi się humorem\, w której sam reżyser w dobrej formie występuje u boku pięknej Scarlett Johansson. Kolejna komedia kryminalna Allena\, nawiązująca klimatem do "Tajemnicy morderstwa na Manhattanie"\, rozgrywa się w Londynie. Zamiast śmierci sąsiadki mamy tropienie "tarotowego zabójcy"\, którego ofiarami są prostytutki. Podejrzenie pada na Petera Lymana (Hugh Jackman)\, angielskiego arystokratę\, a żeby było ciekawiej światło na całą sprawę rzuca zmarły dziennikarz (Ian McShane)\, który nawiązuje więź z amerykańską studentką dziennikarstwa (Scarlett Johansson).\n\nReżyser nie próbował usilnie wznosić się na wyżyny intelektualnego żartu\, ani diagnozować kondycji moralnej współczesnego człowieka. Nie oznacza to jednak\, że lekki\, bezpretensjonalny film Allena jest głupawą komedyjką o naiwnej blondynce i wymarzonym księciu.  W "Scoop" dominuje humor sytuacyjny i w porównaniu z wcześniejszymi filmami twórcy\, zdecydowanie mniej tu rozważań na temat egzystencjalnych problemów intelektualistów. Czuć\, że Allen ochoczo bawi się kinem\, formą\, dialogami\, od lat pokazując swoje stare sztuczki w rozmaitych konfiguracjach. Stary czarodziej konsekwentnie buduje własne filmowe światy\, wcale nie licząc na to\, że wszyscy będą mu wierzyć\, bo przez publiczność i krytykę przyjmowany jest raz cieplej\, raz chłodniej.\n\nSponsorem Lata na Starym Mieście jest:\n
URL:http://teatr.grudziadz.pl/wydarzenie/lato-starym-miescie-7/
LOCATION:Teatralna\, 1\, Grudziądz\, 86-300\, Polska
CATEGORIES:Lato na Starym Mieście
ORGANIZER;CN="CK%20Teatr%20w%20Grudzi%C4%85dzu":MAILTO:szymon.r@teatr.grudziadz.pl
END:VEVENT
END:VCALENDAR