BEGIN:VCALENDAR
VERSION:2.0
PRODID:-//Centrum Kultury Teatr w Grudziądzu - ECPv4.0.5//NONSGML v1.0//EN
CALSCALE:GREGORIAN
METHOD:PUBLISH
X-WR-CALNAME:Centrum Kultury Teatr w Grudziądzu
X-ORIGINAL-URL:http://teatr.grudziadz.pl
X-WR-CALDESC:Events for Centrum Kultury Teatr w Grudziądzu
BEGIN:VEVENT
DTSTART;TZID="Europe/Warsaw":20161008T110000
DTEND;TZID="Europe/Warsaw":20161008T110000
DTSTAMP:20260422T193301
CREATED:20160926T135228
LAST-MODIFIED:20160927T132228
UID:3802-1475924400-1475924400@teatr.grudziadz.pl
SUMMARY:„Śpiąca królewna” - spektakl dla dzieci
DESCRIPTION:Teatrzyk Lalek „Miszmasz” \n\nCzy wiecie\, co się może stać\, gdy królewna nagle zaśnie\, a wierni dworzanie nie mogą jej obudzić?\n\n„Dawaliśmy jej pieprzu do kichania – nic.\n\nDawaliśmy skarpetki do wąchania – nic.\n\nDzwoniliśmy nad uchem\,\n\nburczeliśmy głośno brzuchem – ona ciągle śpi.” - tak śpiewają dworzanie królewny Kornelki\,\n\na o tym\, co jeszcze wymyślą przekonacie się oglądając najnowszą 18. premierę Teatrzyku Lalek „Miszmasz”.\n\nWystępują:\n\nMarcel Dykalski\n\nPaweł Gołębiewski\n\nKlaudia Piątkowska\n\nJoanna Sucharska\n\nNatalia Wasiewska\n\nScenariusz\, lalki i reżyseria: Renata Boguska\n[button link="http://teatr.grudziadz.pl/miszmasz/"] Teatrzyk Lalek Miszmasz[/button]\n
URL:http://teatr.grudziadz.pl/wydarzenie/spiaca-krolewna-spektakl-dla-dzieci/
LOCATION:Teatralna\, 1\, Grudziądz\, 86-300\, Polska
CATEGORIES:Spektakle
ATTACH;FMTTYPE=image/jpeg:http://teatr.grudziadz.pl/wp-content/uploads/2016/09/Still0927_00003-2.jpg
ORGANIZER;CN="CK%20Teatr%20w%20Grudzi%C4%85dzu":MAILTO:szymon.r@teatr.grudziadz.pl
END:VEVENT
BEGIN:VEVENT
DTSTART;TZID="Europe/Warsaw":20161008T123000
DTEND;TZID="Europe/Warsaw":20161008T123000
DTSTAMP:20260422T193301
CREATED:20160926T135339
LAST-MODIFIED:20160927T132427
UID:4640-1475929800-1475929800@teatr.grudziadz.pl
SUMMARY:„Śpiąca królewna” - spektakl dla dzieci
DESCRIPTION:Teatrzyk Lalek „Miszmasz” \n\nCzy wiecie\, co się może stać\, gdy królewna nagle zaśnie\, a wierni dworzanie nie mogą jej obudzić?\n\n„Dawaliśmy jej pieprzu do kichania – nic.\n\nDawaliśmy skarpetki do wąchania – nic.\n\nDzwoniliśmy nad uchem\,\n\nburczeliśmy głośno brzuchem – ona ciągle śpi.” - tak śpiewają dworzanie królewny Kornelki\,\n\na o tym\, co jeszcze wymyślą przekonacie się oglądając najnowszą 18. premierę Teatrzyku Lalek „Miszmasz”.\n\nWystępują:\n\nMarcel Dykalski\n\nPaweł Gołębiewski\n\nKlaudia Piątkowska\n\nJoanna Sucharska\n\nNatalia Wasiewska\n\nScenariusz\, lalki i reżyseria: Renata Boguska\n[button link="http://teatr.grudziadz.pl/miszmasz/"] Teatrzyk Lalek Miszmasz[/button]\n
URL:http://teatr.grudziadz.pl/wydarzenie/spiaca-krolewna-spektakl-dla-dzieci-2/
LOCATION:Teatralna\, 1\, Grudziądz\, 86-300\, Polska
CATEGORIES:Spektakle
ATTACH;FMTTYPE=image/jpeg:http://teatr.grudziadz.pl/wp-content/uploads/2016/09/Still0927_00003-2.jpg
ORGANIZER;CN="CK%20Teatr%20w%20Grudzi%C4%85dzu":MAILTO:szymon.r@teatr.grudziadz.pl
END:VEVENT
BEGIN:VEVENT
DTSTART;TZID="Europe/Warsaw":20161008T170000
DTEND;TZID="Europe/Warsaw":20161008T170000
DTSTAMP:20260422T193301
CREATED:20160617T114035
LAST-MODIFIED:20160905T111603
UID:3799-1475946000-1475946000@teatr.grudziadz.pl
SUMMARY:Ani Mru Mru – kabaret
DESCRIPTION:
URL:http://teatr.grudziadz.pl/wydarzenie/ani-mru-mru-kabaret/
LOCATION:Teatralna\, 1\, Grudziądz\, 86-300\, Polska
CATEGORIES:Koncert
ATTACH;FMTTYPE=image/jpeg:http://teatr.grudziadz.pl/wp-content/uploads/2016/06/plakat_amm-2015-nowy-skurcz-page-001-2.jpg
ORGANIZER;CN="CK%20Teatr%20w%20Grudzi%C4%85dzu":MAILTO:szymon.r@teatr.grudziadz.pl
END:VEVENT
END:VCALENDAR