BEGIN:VCALENDAR
VERSION:2.0
PRODID:-//Centrum Kultury Teatr w Grudziądzu - ECPv4.0.5//NONSGML v1.0//EN
CALSCALE:GREGORIAN
METHOD:PUBLISH
X-WR-CALNAME:Centrum Kultury Teatr w Grudziądzu
X-ORIGINAL-URL:http://teatr.grudziadz.pl
X-WR-CALDESC:Events for Centrum Kultury Teatr w Grudziądzu
BEGIN:VEVENT
DTSTART;TZID="Europe/Warsaw":20161011T090000
DTEND;TZID="Europe/Warsaw":20161011T090000
DTSTAMP:20260422T193241
CREATED:20160829T100826
LAST-MODIFIED:20160905T102831
UID:4358-1476176400-1476176400@teatr.grudziadz.pl
SUMMARY:„Pinokio” - spektakl dla dzieci
DESCRIPTION:Aby dzieci mogły trochę odpocząć od wirtualnej rzeczywistości gier oraz bajek emitowanych w telewizji zapraszamy do teatru\, który w szczególny sposób potrafi przenieść dziecięcą wyobraźnię w niezwykły świat baśni.\n[button link="http://teatr.grudziadz.pl/pinokio-2/"] więcej[/button]
URL:http://teatr.grudziadz.pl/wydarzenie/pinokio-spektakl-dla-dzieci-5/
LOCATION:Teatralna\, 1\, Grudziądz\, 86-300\, Polska
CATEGORIES:Spektakle
ATTACH;FMTTYPE=image/jpeg:http://teatr.grudziadz.pl/wp-content/uploads/2016/08/1-1-3-1.jpg
ORGANIZER;CN="CK%20Teatr%20w%20Grudzi%C4%85dzu":MAILTO:szymon.r@teatr.grudziadz.pl
END:VEVENT
BEGIN:VEVENT
DTSTART;TZID="Europe/Warsaw":20161011T110000
DTEND;TZID="Europe/Warsaw":20161011T110000
DTSTAMP:20260422T193241
CREATED:20160829T100912
LAST-MODIFIED:20160830T081259
UID:4359-1476183600-1476183600@teatr.grudziadz.pl
SUMMARY:„Pinokio” - spektakl dla dzieci
DESCRIPTION:Aby dzieci mogły trochę odpocząć od wirtualnej rzeczywistości gier oraz bajek emitowanych w telewizji zapraszamy do teatru\, który w szczególny sposób potrafi przenieść dziecięcą wyobraźnię w niezwykły świat baśni.\n[button link="http://teatr.grudziadz.pl/pinokio-2/"] więcej[/button]
URL:http://teatr.grudziadz.pl/wydarzenie/pinokio-spektakl-dla-dzieci-6/
LOCATION:Teatralna\, 1\, Grudziądz\, 86-300\, Polska
CATEGORIES:Spektakle
ATTACH;FMTTYPE=image/jpeg:http://teatr.grudziadz.pl/wp-content/uploads/2016/08/1-1-3.jpg
ORGANIZER;CN="CK%20Teatr%20w%20Grudzi%C4%85dzu":MAILTO:szymon.r@teatr.grudziadz.pl
END:VEVENT
END:VCALENDAR