BEGIN:VCALENDAR
VERSION:2.0
PRODID:-//Centrum Kultury Teatr w Grudziądzu - ECPv4.0.5//NONSGML v1.0//EN
CALSCALE:GREGORIAN
METHOD:PUBLISH
X-WR-CALNAME:Centrum Kultury Teatr w Grudziądzu
X-ORIGINAL-URL:http://teatr.grudziadz.pl
X-WR-CALDESC:Events for Centrum Kultury Teatr w Grudziądzu
BEGIN:VEVENT
DTSTART;TZID="Europe/Warsaw":20161013T090000
DTEND;TZID="Europe/Warsaw":20161013T090000
DTSTAMP:20260422T193238
CREATED:20160829T101114
LAST-MODIFIED:20160830T081813
UID:4362-1476349200-1476349200@teatr.grudziadz.pl
SUMMARY:„Pinokio” - spektakl dla dzieci
DESCRIPTION:Aby dzieci mogły trochę odpocząć od wirtualnej rzeczywistości gier oraz bajek emitowanych w telewizji zapraszamy do teatru\, który w szczególny sposób potrafi przenieść dziecięcą wyobraźnię w niezwykły świat baśni.\n[button link="http://teatr.grudziadz.pl/pinokio-2/"] więcej[/button]
URL:http://teatr.grudziadz.pl/wydarzenie/pinokio-spektakl-dla-dzieci-9/
LOCATION:Teatralna\, 1\, Grudziądz\, 86-300\, Polska
CATEGORIES:Spektakle
ATTACH;FMTTYPE=image/jpeg:http://teatr.grudziadz.pl/wp-content/uploads/2016/08/1-1-3.jpg
ORGANIZER;CN="CK%20Teatr%20w%20Grudzi%C4%85dzu":MAILTO:szymon.r@teatr.grudziadz.pl
END:VEVENT
BEGIN:VEVENT
DTSTART;TZID="Europe/Warsaw":20161013T110000
DTEND;TZID="Europe/Warsaw":20161013T110000
DTSTAMP:20260422T193238
CREATED:20160829T101151
LAST-MODIFIED:20160905T103344
UID:4363-1476356400-1476356400@teatr.grudziadz.pl
SUMMARY:„Pinokio” - spektakl dla dzieci
DESCRIPTION:Aby dzieci mogły trochę odpocząć od wirtualnej rzeczywistości gier oraz bajek emitowanych w telewizji zapraszamy do teatru\, który w szczególny sposób potrafi przenieść dziecięcą wyobraźnię w niezwykły świat baśni.\n[button link="http://teatr.grudziadz.pl/pinokio-2/"] więcej[/button]
URL:http://teatr.grudziadz.pl/wydarzenie/pinokio-spektakl-dla-dzieci-10/
LOCATION:Teatralna\, 1\, Grudziądz\, 86-300\, Polska
CATEGORIES:Spektakle
ATTACH;FMTTYPE=image/jpeg:http://teatr.grudziadz.pl/wp-content/uploads/2016/08/1-1-3-1.jpg
ORGANIZER;CN="CK%20Teatr%20w%20Grudzi%C4%85dzu":MAILTO:szymon.r@teatr.grudziadz.pl
END:VEVENT
BEGIN:VEVENT
DTSTART;TZID="Europe/Warsaw":20161013T180000
DTEND;TZID="Europe/Warsaw":20161013T180000
DTSTAMP:20260422T193238
CREATED:20160829T085119
LAST-MODIFIED:20160927T111819
UID:4333-1476381600-1476381600@teatr.grudziadz.pl
SUMMARY:Wystawa: EMIL MOISE-SZALLA - malarstwo
DESCRIPTION:EMIL MOISE SZALLA /Rumunia/\nUrodził się w Turnu-Severin w Rumunii. W 1953 roku ukończył średnią szkołę plastyczną\, a w '59 Akademię Sztuk Pięknych im. Nicolae Grigorescu w Bukareszcie. Pracował i współpracował jako scenograf w Teatrach w Constanta\, Pitesti\, Devie\, Petrosani\, Alba-lulia\, Bukareście\, Bydgoszczy oraz w Toruniu realizując ponad 300 spektakli teatralnych. Jako malarz utrwala pejzaże morskie oraz starą i ciekawą architekturę – przeważnie w kolorach pastelowych. Wielu krytyków widzi w jego twórczości wielki wpływ impresjonizmu.\n\n Brał udział w ponad 15 plenerach międzynarodowych. Jego obrazy znajdują się w prywatnych kolekcjach w Ameryce Północnej\, Austrii\, Czechach\, Niemczech\, Francji\, Holandii\, Kanadzie\, Polsce i Wielkiej Brytanii. Obrazy artysty wiszą w galeriach w Toruniu (Polska)\, Honfl eur\, Vannes i Rennes (Francja) oraz w Bukareszcie (Rumunia). Jest członkiem Związku Artystów Plastyków w Rumunii\, członkiem Klubu Muzeum de Bretagne w Renes – Francja. Jest wpisany do Słownika Artystów Współczesnych w Rumunii.\n\n
URL:http://teatr.grudziadz.pl/wydarzenie/emil-moise-szalla-malarstwo/
LOCATION:ul. Wybickiego 38
CATEGORIES:Wystawy
ATTACH;FMTTYPE=image/jpeg:http://teatr.grudziadz.pl/wp-content/uploads/2016/08/szala2-Medium-2.jpg
ORGANIZER;CN="CK%20Teatr%20w%20Grudzi%C4%85dzu":MAILTO:szymon.r@teatr.grudziadz.pl
END:VEVENT
BEGIN:VEVENT
DTSTART;TZID="Europe/Warsaw":20161013T190000
DTEND;TZID="Europe/Warsaw":20161013T190000
DTSTAMP:20260422T193238
CREATED:20160617T114254
LAST-MODIFIED:20160927T122023
UID:3800-1476385200-1476385200@teatr.grudziadz.pl
SUMMARY:DKF - „Weekend ostatniej szansy”
DESCRIPTION:Nick i Meg są małżeństwem z wieloletnim stażem. Przez ten czas zdążyli wychować dorosłego już dziś syna\, a ich dawna namiętna relacja zmieniła się w bezpieczną rutynę. Co więcej\, Meg coraz częściej niezobowiązująco wspomina o ewentualnym rozstaniu. Pewnego dnia Nick proponuje żonie wycieczkę do Paryża\, w którym przed laty spędzili swój miesiąc miodowy. Mężczyzna ma nadzieję na powrót rozpalić łączące ich uczucie.\n\nSłodko-gorzka opowieść o ludziach\, którzy gdzieś zagubili sens bycia ze sobą. Meg – cyniczna\, zaczepna i raniąca chce odmiany\, a najchętniej rozwodu by uciec od męża\, który ją ogranicza i już nie inspiruje. Nick – nieco bierny typ mężczyzny-misia nie oczekuje wiele\, ale tęskni za czułością i seksem\, którego żona mu odmawia. Rozmowy tej pary inteligentów są błyskotliwe\, ale „niebezpieczne”\, co oznacza że każde zdanie może drugiego dotknąć do żywego. Prowokacje Meg mają na celu nie tylko ucieczkę od nudy\, ale i upokorzenie Nicka\, powiedzenie mu – nie jesteś już prawdziwym mężczyzną. Spotkanie dawnego przyjaciela Nicka (pisarz)\, który zaczyna właśnie życie z nową\, młodą kobietą jest w ich życiu przełomowe. Podziała jak katalizator\, wyzwalacz długo skrywanych emocji…\n\nBardzo dobry\, mądry i zmuszający do refleksji film\, który powinni obejrzeć nie tylko seniorzy z długim stażem...\n\nŚwietne role Lindsay Duncan i Jima Broadbenta jako Meg i Nicka\, ale perełką jest Jeff Goldblum w roli Morgana.\n\n„Weekend ostatniej szansy” (Francja\, Wielka Brytania - 2013)\, reż. Roger Michell 
URL:http://teatr.grudziadz.pl/wydarzenie/dkf-2/
LOCATION:Teatralna\, 1\, Grudziądz\, 86-300\, Polska
CATEGORIES:Koncert
ATTACH;FMTTYPE=image/jpeg:http://teatr.grudziadz.pl/wp-content/uploads/2016/06/7652544.5.jpg
ORGANIZER;CN="CK%20Teatr%20w%20Grudzi%C4%85dzu":MAILTO:szymon.r@teatr.grudziadz.pl
END:VEVENT
END:VCALENDAR