BEGIN:VCALENDAR
VERSION:2.0
PRODID:-//Centrum Kultury Teatr w Grudziądzu - ECPv4.0.5//NONSGML v1.0//EN
CALSCALE:GREGORIAN
METHOD:PUBLISH
X-WR-CALNAME:Centrum Kultury Teatr w Grudziądzu
X-ORIGINAL-URL:http://teatr.grudziadz.pl
X-WR-CALDESC:Events for Centrum Kultury Teatr w Grudziądzu
BEGIN:VEVENT
DTSTART;TZID="Europe/Warsaw":20161018T190000
DTEND;TZID="Europe/Warsaw":20161018T190000
DTSTAMP:20260422T193241
CREATED:20160829T101314
LAST-MODIFIED:20161005T102331
UID:4364-1476817200-1476817200@teatr.grudziadz.pl
SUMMARY:„Sztuka bez barier - aktywizacja i kompleksowe wsparcie artystów niepełnosprawnych”  Centrum Rehabilitacji im. Biskupa Jana Chrapka
DESCRIPTION:Grudziądzkie Centrum Rehabilitacji im. Biskupa Jana Chrapka od lat aktywizuje i wspiera artystycznie twórców niepełnosprawnych\, czego przykładem są organizowane od dziewiętnastu lat Ogólnopolskie Przeglądy Twórczości Artystycznej Niepełnosprawnych. Centrum jest też pomysłodawcą oraz organizatorem innych projektów i tu warto wspomnieć koncerty\, podczas których wokaliści niepełnosprawni śpiewają utwory z repertuaru twórców powszechnie znanych\, na co dzień współpracujących ze stowarzyszeniem. Jak dotąd udało się zorganizować dwa takie przedsięwzięcia\, w wyniku których powstały piękne kompozycje do poezji Ernesta Bryla oraz koncert z największymi przebojami Bogusława Meca.\n\nKolejnym takim przedsięwzięciem jest koncert i warsztaty zatytułowane „Tadeusz Woźniak – z dobrych przeczuć”. Przez dwa dni w teatrze odbywać się będą próby przygotowujące do występu\, podczas którego piętnastu wokalistów niepełnosprawnych wykona utwory w repertuaru Tadeusza Woźniaka. Wykonawcy zaproszeni do projektu to osoby nagradzane na przeglądach i festiwalach\, a przyjadą do Grudziądza z całej Polski. Podczas tego wyjątkowego wieczoru usłyszeć będzie można m. in.: „Smak i zapach pomarańczy”\, „Zegarmistrza”\, „Senną kołysankę” czy „Nie śpiewam nie tańczę”.\n\nW drugiej części koncertu wystąpi Tadeusz Woźniak z zespołem i tu należy dodać\, że artysta w tym roku obchodzi jubileusz 50-lecia pracy artystycznej.
URL:http://teatr.grudziadz.pl/wydarzenie/warsztaty-muzyczne-optan/
LOCATION:Teatralna\, 1\, Grudziądz\, 86-300\, Polska
CATEGORIES:Wynajem
END:VEVENT
END:VCALENDAR