BEGIN:VCALENDAR
VERSION:2.0
PRODID:-//Centrum Kultury Teatr w Grudziądzu - ECPv4.0.5//NONSGML v1.0//EN
CALSCALE:GREGORIAN
METHOD:PUBLISH
X-WR-CALNAME:Centrum Kultury Teatr w Grudziądzu
X-ORIGINAL-URL:http://teatr.grudziadz.pl
X-WR-CALDESC:Events for Centrum Kultury Teatr w Grudziądzu
BEGIN:VEVENT
DTSTART;TZID="Europe/Warsaw":20161029T110000
DTEND;TZID="Europe/Warsaw":20161029T110000
DTSTAMP:20260422T193301
CREATED:20160926T135531
LAST-MODIFIED:20160927T132554
UID:4642-1477738800-1477738800@teatr.grudziadz.pl
SUMMARY:„Śpiąca królewna” - spektakl dla dzieci
DESCRIPTION:Teatrzyk Lalek „Miszmasz” \n\nCzy wiecie\, co się może stać\, gdy królewna nagle zaśnie\, a wierni dworzanie nie mogą jej obudzić?\n\n„Dawaliśmy jej pieprzu do kichania – nic.\n\nDawaliśmy skarpetki do wąchania – nic.\n\nDzwoniliśmy nad uchem\,\n\nburczeliśmy głośno brzuchem – ona ciągle śpi.” - tak śpiewają dworzanie królewny Kornelki\,\n\na o tym\, co jeszcze wymyślą przekonacie się oglądając najnowszą 18. premierę Teatrzyku Lalek „Miszmasz”.\n\nWystępują:\n\nMarcel Dykalski\n\nPaweł Gołębiewski\n\nKlaudia Piątkowska\n\nJoanna Sucharska\n\nNatalia Wasiewska\n\nScenariusz\, lalki i reżyseria: Renata Boguska\n[button link="http://teatr.grudziadz.pl/miszmasz/"] Teatrzyk Lalek Miszmasz[/button]\n
URL:http://teatr.grudziadz.pl/wydarzenie/spiaca-krolewna-spektakl-dla-dzieci-4/
LOCATION:Teatralna\, 1\, Grudziądz\, 86-300\, Polska
CATEGORIES:Spektakle
ATTACH;FMTTYPE=image/jpeg:http://teatr.grudziadz.pl/wp-content/uploads/2016/09/Still0927_00003-2.jpg
ORGANIZER;CN="CK%20Teatr%20w%20Grudzi%C4%85dzu":MAILTO:szymon.r@teatr.grudziadz.pl
END:VEVENT
BEGIN:VEVENT
DTSTART;TZID="Europe/Warsaw":20161029T123000
DTEND;TZID="Europe/Warsaw":20161029T123000
DTSTAMP:20260422T193301
CREATED:20160926T135433
LAST-MODIFIED:20160927T131620
UID:4641-1477744200-1477744200@teatr.grudziadz.pl
SUMMARY:„Śpiąca królewna” - spektakl dla dzieci
DESCRIPTION:Teatrzyk Lalek „Miszmasz” \n\nCzy wiecie\, co się może stać\, gdy królewna nagle zaśnie\, a wierni dworzanie nie mogą jej obudzić?\n\n„Dawaliśmy jej pieprzu do kichania – nic.\n\nDawaliśmy skarpetki do wąchania – nic.\n\nDzwoniliśmy nad uchem\,\n\nburczeliśmy głośno brzuchem – ona ciągle śpi.” - tak śpiewają dworzanie królewny Kornelki\,\n\na o tym\, co jeszcze wymyślą przekonacie się oglądając najnowszą 18. premierę Teatrzyku Lalek „Miszmasz”.\n\nWystępują:\n\nMarcel Dykalski\n\nPaweł Gołębiewski\n\nKlaudia Piątkowska\n\nJoanna Sucharska\n\nNatalia Wasiewska\n\nScenariusz\, lalki i reżyseria: Renata Boguska\n\n\n[button link="http://teatr.grudziadz.pl/miszmasz/"] Teatrzyk Lalek Miszmasz[/button]
URL:http://teatr.grudziadz.pl/wydarzenie/spiaca-krolewna-spektakl-dla-dzieci-3/
LOCATION:Teatralna\, 1\, Grudziądz\, 86-300\, Polska
CATEGORIES:Spektakle
ATTACH;FMTTYPE=image/jpeg:http://teatr.grudziadz.pl/wp-content/uploads/2016/09/Still0927_00003-2.jpg
ORGANIZER;CN="CK%20Teatr%20w%20Grudzi%C4%85dzu":MAILTO:szymon.r@teatr.grudziadz.pl
END:VEVENT
END:VCALENDAR