BEGIN:VCALENDAR
VERSION:2.0
PRODID:-//Centrum Kultury Teatr w Grudziądzu - ECPv4.0.5//NONSGML v1.0//EN
CALSCALE:GREGORIAN
METHOD:PUBLISH
X-WR-CALNAME:Centrum Kultury Teatr w Grudziądzu
X-ORIGINAL-URL:http://teatr.grudziadz.pl
X-WR-CALDESC:Events for Centrum Kultury Teatr w Grudziądzu
BEGIN:VEVENT
DTSTART;TZID="Europe/Warsaw":20161105T180000
DTEND;TZID="Europe/Warsaw":20161105T180000
DTSTAMP:20260422T175817
CREATED:20160617T121919
LAST-MODIFIED:20161102T091603
UID:3814-1478368800-1478368800@teatr.grudziadz.pl
SUMMARY:Koncert Grażyny Brodzińskiej z towarzyszeniem Toruńskiej Orkiestry Symfonicznej pod dyrekcją Marka Czekały
DESCRIPTION:Grażyna Brodzińska nazywana jest często pierwszą damą polskiej sceny muzycznej. To znakomita wokalistka\, aktorka oraz tancerka\, która występuje zarówno w Polsce jak i za granicą\, współpracując z czołowymi polskimi i zagranicznymi orkiestrami filharmonicznymi oraz operowymi. Dzięki występom gościnnym podziwia Brodzińską poza krajem również publiczność Stanów Zjednoczonych\, Kanady\, Francji\, Austrii\, Anglii\, Włoch\, Belgii\, Izraela\, Holandii i Australii. Jest perfekcjonistką w każdym calu\, prezentując najwyższy kunszt sztuki wokalnej. W jej repertuarze znajduje się zarówno klasyka\, musical jak i światowe przeboje z gatunku różnych nurtów muzycznych. Nagrała 4 płyty\, ma za sobą wiele głównych ról w czołowych teatrach muzycznych. Zagrała kilkadziesiąt pierwszoplanowych ról w operetkach\, musicalach i komediach muzycznych\, m.in: Hannę Glawari w operetce pt. „Wesoła wdówka” Franza Lehara\, Sylwię Varescu w operetce pt. „Księżniczka Czardasza” Emmericha Kalmana\, Hrabinę Zedlau w operetce pt. „Wiedeńska krew” Johanna Straussa\, Anninę w operetce pt. „Noc w Wenecji” Johanna Straussa\, Perichola w operetce pt. „Perichola” Jakuba Offenbacha\, Dolly Galagher Levi w musicalu pt. „Hello Dolly” Jerry Hermana\, Elizę Doolitle w musicalu pt. „My Fair Lady” Fredericka Loewe\,\n\nDorothy Brock w musicalu pt. „42nd Street” Andrew Lloida Webbera i wiele innych.\n\n\n\nNa swoim koncie ma wiele prestiżowych nagród i odznaczeń\, w tym m.in. Złoty Medal „Zasłużony Kulturze Gloria Artis” przyznany w 2015 r. Na grudziądzkiej scenie zaprezentuje się z towarzyszeniem Toruńskiej Orkiestry Symfonicznej pod dyrekcją Marka Czekały.\n\nToruńska Orkiestra Symfoniczna w roku 2016 obchodzi XXXVII-lecie działalności. Założona jako Toruńska Orkiestra Kameralna w sezonie artystycznym 1978/79\, pod zarząd Miasta Torunia przeszła w 1990 roku. Utrzymywana jest przez Miasto Toruń i jemu zawdzięcza dynamiczny rozwój. W lutym 2006 roku zmieniła nazwę na Toruńską Orkiestrę Symfoniczną.\n\nZespół wpisał się na stałe w kulturalny krajobraz miasta\, poprzez organizowanie koncertów dla mieszkańców Torunia i sławiąc jego imię na licznych tournee krajowych i zagranicznych.\n\nToruńska Orkiestra Symfoniczna na przestrzeni swojej XXXVII-letniej działalności dała około dwóch i pół tysięcy koncertów we wszystkich znaczących miastach Polski oraz w wielu krajach Europy (m.in. Belgia\, Szwajcaria\, Czechy\, Słowacja\, Niemcy\, Dania\, Wielka Brytania\, Włochy\, Francja\, Białoruś\, Litwa)\, a także na prestiżowych festiwalach. Orkiestra może się również poszczycić miesięcznym tournee w Chinach oraz uczestnictwem w dwóch koncertach Gali Operowej w Pamplonie. W lipcu 2010 roku zespół Toruńskiej Orkiestry Symfonicznej towarzyszył Jose Carrerasowi podczas jego występu na toruńskiej Motoarenie. W październiku 2010 roku Toruńska Orkiestra Symfoniczna zagrała koncert w Cirque Royal w Brukseli.\n\nZnaczącym wydarzeniem w historii Toruńskiej Orkiestry jest organizowanie od 1997 roku Międzynarodowego Letniego Festiwalu "Toruń – Muzyka i Architektura"\, którego ideą jest prezentowanie muzyki klasycznej w zabytkowych\, historycznych wnętrzach. Koncerty festiwalowe organizowane są przez dwa miesiące wakacyjne – lipiec i sierpień.\nOrkiestra brała udział w licznych festiwalach krajowych i europejskich\, ma na swym koncie nagrania dla Polskiego Radia i Telewizji oraz Radia Suisse Romande.\nObecnie dyrektorem Toruńskiej Orkiestry Symfonicznej jest Marek Czekała\, a dyrektorem artystycznym Mariusz Smolij. Aktualny zespół artystyczny Orkiestry tworzy 61 osób.\n\n
URL:http://teatr.grudziadz.pl/wydarzenie/koncert-grazyny-brodzinskiej-towarzyszeniem-orkiestry-symfonikow-bydgoskich-dyrekcja-marka-czekaly/
LOCATION:Teatralna\, 1\, Grudziądz\, 86-300\, Polska
CATEGORIES:Koncert
ATTACH;FMTTYPE=image/jpeg:http://teatr.grudziadz.pl/wp-content/uploads/2016/06/Gr.-Brodzińska-portret-Medium-2.jpg
ORGANIZER;CN="CK%20Teatr%20w%20Grudzi%C4%85dzu":MAILTO:szymon.r@teatr.grudziadz.pl
END:VEVENT
END:VCALENDAR