BEGIN:VCALENDAR
VERSION:2.0
PRODID:-//Centrum Kultury Teatr w Grudziądzu - ECPv4.0.5//NONSGML v1.0//EN
CALSCALE:GREGORIAN
METHOD:PUBLISH
X-WR-CALNAME:Centrum Kultury Teatr w Grudziądzu
X-ORIGINAL-URL:http://teatr.grudziadz.pl
X-WR-CALDESC:Events for Centrum Kultury Teatr w Grudziądzu
BEGIN:VEVENT
DTSTART;TZID="Europe/Warsaw":20161112T170000
DTEND;TZID="Europe/Warsaw":20161112T170000
DTSTAMP:20260422T175841
CREATED:20160829T103009
LAST-MODIFIED:20161109T073214
UID:4377-1478970000-1478970000@teatr.grudziadz.pl
SUMMARY:XXI Ogólnopolskie Spotkania Chórów Męskich
DESCRIPTION:Ogólnopolskie Spotkania Chórów Męskich to największa tego typu imprezy chóralna  w Polsce. Chóry Męskie spotykają się co jakiś czas w innym mieście\, aby zaprezentować swój dorobek artystyczny oraz wspólnie wykonać kilka pieśni. Koncert ten będzie nie lada gratką dla grudziądzkiej publiczności oraz wielbicieli silnych\, męskich głosów.\n\nW spotkaniach udział biorą;\n\nChór Męski „Arion” Poznań – dyr. Jacek Pawełczak\n\nChór Męski „Echo” Ostrów Wielkopolski – dyr. Andrzej Ryłko\n\nChór Męski im. Wacława Lachmana Towarzystwa Śpiewaczego „Harfa” Warszawa – dyr. Paweł Chojna\n\nStowarzyszenie Śpiewacze Chór Męski im. Stanisława Moniuszki ze Żnina – dyr. Beata Różańska\n\nChór Męski Copernicus Toruń - dyr. Paweł Jankowski\n\nChór Męski „Echo” im. Prof. Pawła Osińskiego Spółdzielni Mieszkaniowej w Grudziądzu  – dyr. Jerzy Cieślak\n\nW programie występy chórów oraz wspólne wykonanie utworów:\n\n\n\n\tKyrie z Missa in honorem Resurrectionis D.N. Jesu Christi op.12 – Wacława Lachmana\n\tWizja Szyldwacha – opr. P. Malinowski\n\tChór żołnierzy z opery „Faust” Gounoda\n\tChór niewolników – z opery \,\,Nabucco'' – G.Verdiego\n\tO ziemio ojców\n\n\n\nDyryguje - Jerzy Cieślak\n\nakompaniament - Arkadiusz Szopa
URL:http://teatr.grudziadz.pl/wydarzenie/ogolnopolskie-spotkania-chorow-meskich/
LOCATION:Teatralna\, 1\, Grudziądz\, 86-300\, Polska
CATEGORIES:Koncert
ATTACH;FMTTYPE=image/jpeg:http://teatr.grudziadz.pl/wp-content/uploads/2016/08/IMG_6656a.jpg
ORGANIZER;CN="CK%20Teatr%20w%20Grudzi%C4%85dzu":MAILTO:szymon.r@teatr.grudziadz.pl
END:VEVENT
END:VCALENDAR