BEGIN:VCALENDAR
VERSION:2.0
PRODID:-//Centrum Kultury Teatr w Grudziądzu - ECPv4.0.5//NONSGML v1.0//EN
CALSCALE:GREGORIAN
METHOD:PUBLISH
X-WR-CALNAME:Centrum Kultury Teatr w Grudziądzu
X-ORIGINAL-URL:http://teatr.grudziadz.pl
X-WR-CALDESC:Events for Centrum Kultury Teatr w Grudziądzu
BEGIN:VEVENT
DTSTART;TZID="Europe/Warsaw":20161113T160000
DTEND;TZID="Europe/Warsaw":20161113T160000
DTSTAMP:20260422T175841
CREATED:20161012T075708
LAST-MODIFIED:20161102T091047
UID:4838-1479052800-1479052800@teatr.grudziadz.pl
SUMMARY:Mariusz Kalaga – koncert
DESCRIPTION:
URL:http://teatr.grudziadz.pl/wydarzenie/mariusz-kalaga-koncert/
LOCATION:Teatralna\, 1\, Grudziądz\, 86-300\, Polska
CATEGORIES:Koncert
ATTACH;FMTTYPE=image/jpeg:http://teatr.grudziadz.pl/wp-content/uploads/2016/10/Kalaga-2.jpg
ORGANIZER;CN="CK%20Teatr%20w%20Grudzi%C4%85dzu":MAILTO:szymon.r@teatr.grudziadz.pl
END:VEVENT
END:VCALENDAR