BEGIN:VCALENDAR
VERSION:2.0
PRODID:-//Centrum Kultury Teatr w Grudziądzu - ECPv4.0.5//NONSGML v1.0//EN
CALSCALE:GREGORIAN
METHOD:PUBLISH
X-WR-CALNAME:Centrum Kultury Teatr w Grudziądzu
X-ORIGINAL-URL:http://teatr.grudziadz.pl
X-WR-CALDESC:Events for Centrum Kultury Teatr w Grudziądzu
BEGIN:VEVENT
DTSTART;TZID="Europe/Warsaw":20161117T190000
DTEND;TZID="Europe/Warsaw":20161117T190000
DTSTAMP:20260422T175732
CREATED:20160617T130029
LAST-MODIFIED:20161102T091002
UID:3818-1479409200-1479409200@teatr.grudziadz.pl
SUMMARY:Dyskusyjny Klub Filmowy  „Edukatorzy”
DESCRIPTION:„Edukatorzy” dramat 2004 (Austria\, Niemcy) \n\nreż. Hans Weingartner\n\n"Edukatorzy" to film o zbuntowanych dwudziestokilkulatkach\, którym marzy się młodzieżowa rewolucja. Jan (Daniel Bruhl znany z filmu „Goodbay\, Lenin”) i Peter (Stipe Erceg) jako "edukatorzy" rozpoczynają oryginalną krucjatę\, która ma uświadomić bogatym\, że mają za dużo pieniędzy. Towarzyszy im dziewczyna Petera\, Jule (Julia Jentsch). Pod nieobecność właścicieli włamują się do ich willi\, przestawiają meble i pozostawiają listy z ostrzeżeniem: "Dni Twojego bogactwa są policzone". Są pacyfistami - do czasu\, gdy pewnego dnia\, na skutek pechowego zbiegu okoliczności\, muszą porwać zamożnego biznesmena. Z politycznych aktywistów\, "edukujących" możnych tego świata\, stają się przestępcami. Jak na ironię\, ich ofiara okazuje się dawnym hipisem z pokolenia '68. Sytuacja komplikuje się jeszcze bardziej\, gdy Jule i Jan zakochują się w sobie...\n[opis dystrybutora]\nRecenzja:\n\nMarcin Kamiński\n\nWpadają do luksusowych willi pod nieobecność ich właścicieli. Przestawiają cały dom do góry nogami\, budując dziwaczne piramidy z mebli lub wrzucając kanapę do basenu. Nie ginie żaden wartościowy przedmiot. Po wszystkim zostawiają kartkę o treści "dni twojego bogactwa są policzone" z podpisem Edukatorzy.\n\nJan\, Peter i Jule buntują się przeciwko konsumpcjonistycznemu stylowi życia\, brutalnemu kapitalizmowi\, który na świecie tworzy rozmaite wynaturzenia jak pracujące w chińskich fabrykach dzieci. Pewnego dnia młodzi buntownicy nieopatrznie uruchamiają alarm w jednym z domów\, w którym dokonują kolejnego rytuału. Sytuacja zaczyna wymykać się spod kontroli\, kiedy okazuje się\, że samochód właściciela stoi pod domem. Zdesperowani postanawiają porwać bogatego biznesmena i wywieść go do domku w górach. A trzeba dodać\, że nieszczęsny bogacz nie jest przypadkowo wybraną ofiarą. Jule ma z nim swoje stare porachunki. Dla całej czwórki przebywającej dość długo w miejscu odosobnienia nadchodzi czas konfrontacji między młodym i starym pokoleniem.\n\n"Edukatorzy" to kino społeczne w dobrym wydaniu\, gdzie dyskusja ideologiczna jest równie ważna jak problemy emocjonalne bohaterów. Reżyser sprawnie przemieszał rozmaite gatunki bawiąc się nieco formą obrazu. Mamy tu elementy dramatu\, komedii\, dreszczowca\, romansu.\nCzęste zmiany nastrojów dobrze zrobiły "Edukatorom"\, których ogląda się na przemian ze śmiechem\, strachem\, a przede wszystkim z refleksją.\n\nJedyne co przeszkadza w sprawnie skonstruowanej całości\, to nadmierny dydaktyzm\, który czuje się w wielu scenach. W całej tej dyskusji między młodymi idealistami a starym dorobkiewiczem\, który dawno już zapomniał jak w 68 roku buntował się przeciwko wszystkiemu\, te same argumenty wykorzystywanie są po wiele razy. Od pewnego momentu przegadane dialogi zaczynają wnosić coraz mniej treści i często niepotrzebnie rozładowują budowane w filmie napięcie.\n\nOkazuje się\, że obie strony nie otrzymują odpowiedzi na wiele pytań\, ale czy na pewno chodzi im o to\, żeby zrozumieć swoje racje? Czy aby wygłupy z przestawianiem mebli to nie jest naiwna zabawa w rewolucję\, która nic nie zmieni? Czy nie jest tak\, że kultywowane wartości często mają charakter względny\, a najbardziej przeciwko pieniądzom buntują się ci\, którzy nie mogą albo nie potrafią ich zdobyć? Czy agresja skierowana przeciwko bogaczom to aby nie próba usprawiedliwienia faktu\, że nie wszystkim w życiu się udało?\n\nTakich pytań reżyser stawia w "Edukatorach" wiele\, a można by ich znaleźć jeszcze więcej\, szkoda tylko że ta filmowa rzeczywistość i dyskusja o ideałach jest tu tak przesadnie czarno-biała. Bogaty równa się wróg. Trochę to za proste. Ale film wart obejrzenia. Polecam.\nŹródło: www.filmweb.pl/reviews/Buntownicy+z+wyboru-2128
URL:http://teatr.grudziadz.pl/wydarzenie/dkf-3/
LOCATION:Teatralna\, 1\, Grudziądz\, 86-300\, Polska
CATEGORIES:Koncert
ATTACH;FMTTYPE=image/jpeg:http://teatr.grudziadz.pl/wp-content/uploads/2016/06/6968898.3.jpg
ORGANIZER;CN="CK%20Teatr%20w%20Grudzi%C4%85dzu":MAILTO:szymon.r@teatr.grudziadz.pl
END:VEVENT
END:VCALENDAR