BEGIN:VCALENDAR
VERSION:2.0
PRODID:-//Centrum Kultury Teatr w Grudziądzu - ECPv4.0.5//NONSGML v1.0//EN
CALSCALE:GREGORIAN
METHOD:PUBLISH
X-WR-CALNAME:Centrum Kultury Teatr w Grudziądzu
X-ORIGINAL-URL:http://teatr.grudziadz.pl
X-WR-CALDESC:Events for Centrum Kultury Teatr w Grudziądzu
BEGIN:VEVENT
DTSTART;TZID="Europe/Warsaw":20161118T193000
DTEND;TZID="Europe/Warsaw":20161118T193000
DTSTAMP:20260422T175816
CREATED:20160617T130217
LAST-MODIFIED:20161107T122113
UID:3819-1479497400-1479497400@teatr.grudziadz.pl
SUMMARY:Stand up – wieczór komediowy
DESCRIPTION:Sebastian Rejent - Komik\, miłośnik komedii stand-upowej i pracy twórczej. Uwielbia stać na scenie\, często też się po niej porusza.\n\nPisał\, występował\, współpracował m. in. z Comedy Central\, Grupą ATM\, agencją artystyczną Antrakt i agencją reklamową Saatchi & Saatchi. Od lat\, niczym w skeczu Monty Pythona\, szuka żartu idealnego. Widownia zanosząca się śmiechem trudnym do powstrzymania dowodzi\, że czasem zbliża się do tej magicznej granicy.\n\nSebastian nigdy nie zgodzi się z ludźmi\, którzy twierdzą\, że czas spędzony na śmiechu jest czasem straconym\, bo to by oznaczało\, że marnuje czas setkom osób dziennie.\n\nDodatkowo o Sebastianie można jeszcze dopisać\, między innymi to\, że brał udział we wszystkich największych dotychczasowych polskich roastach (Huberta Urbańskiego\, Michała Wiśniewskiego\, Kuby Wojewódzkiego). Myślę\, że to dosyć ważne\, ponieważ Sebastian jest zdecydowanie najbardziej medialną i rozpoznawalną postacią z tych\, które dotychczas gościliśmy.\n\nPiotr Popek - to człowiek młody wiekiem\, ale o bardzo zmęczonej i podstarzałej duszy. Bardzo spokojna\, ale niepokojąca osobowość sceniczna. Nie należy mylić ze znanym raperem\, ponieważ różni ich wszystko. Przede wszystkim\, jest duża szansa\, że Piotrek wciągnie wszystkie dobre emocje z otaczających go ludzi i zje je na śniadanie.
URL:http://teatr.grudziadz.pl/wydarzenie/stan-up-wieczor-komediowy-2/
LOCATION:ul. Wybickiego 38
CATEGORIES:Koncert
ATTACH;FMTTYPE=image/jpeg:http://teatr.grudziadz.pl/wp-content/uploads/2016/06/2016-11-18-stand-up-Piotr-Popek-2.jpg
ORGANIZER;CN="CK%20Teatr%20w%20Grudzi%C4%85dzu":MAILTO:szymon.r@teatr.grudziadz.pl
END:VEVENT
END:VCALENDAR