BEGIN:VCALENDAR
VERSION:2.0
PRODID:-//Centrum Kultury Teatr w Grudziądzu - ECPv4.0.5//NONSGML v1.0//EN
CALSCALE:GREGORIAN
METHOD:PUBLISH
X-WR-CALNAME:Centrum Kultury Teatr w Grudziądzu
X-ORIGINAL-URL:http://teatr.grudziadz.pl
X-WR-CALDESC:Events for Centrum Kultury Teatr w Grudziądzu
BEGIN:VEVENT
DTSTART;TZID="Europe/Warsaw":20161129T090000
DTEND;TZID="Europe/Warsaw":20161129T090000
DTSTAMP:20260422T161254
CREATED:20160905T104836
LAST-MODIFIED:20161102T084812
UID:4488-1480410000-1480410000@teatr.grudziadz.pl
SUMMARY:Spektakl profilaktyczny - "Dachowanie"
DESCRIPTION:Reżyseria:Żanetta Gruszczyńska-Ogonowska\nMarcin Borchardt\n\nObsada:Żanetta Gruszczyńska-Ogonowska\, Dominika Mrozowska\, Katarzyna Ulicka-Pyda\, Marcin Borchardt\, Wojciech Kowalski\, Wojciech Rogowski\n\nScenografia:Beata Jasionek\n\nKostiumy:Beata Jasionek\n\nChoreografia:Kacper Wojcieszek\n\n„Dachowanie” to opowieść skierowana do młodzieży w szeroko pojętym wieku szkolnym\, z elementami tragedii\, komedii i dramatu. Zawiera przestrogi i pęd do samowiedzy oraz mimesis.\n\nSpektakl opowiada o tym\, że młodzież sięga po używki: narkotyki\, dopalacze\, oraz ostrzega przed następstwami złych decyzji. Spektakl skłania uczniów do refleksji nad własną tożsamością i przynależnością do różnych grup rówieśniczych.\nPrzedstawienie jest inspirowane problemami i emocjami dotykającymi dzieci i młodzież\, ukazuje tragiczne skutki\, które niesie za sobą decyzja o przyjmowaniu wszelkich używek. Spektakl ma za zadanie skłonić młodego widza do przemyśleń i refleksji. Z pewnością\, historia ta da niejednemu z nas do myślenia. Humorystyczny język powoduje nawiązanie dobrych relacji z uczniami zgromadzonymi na widowni.
URL:http://teatr.grudziadz.pl/wydarzenie/spektakl-profilaktyczny-dachowanie-4/
LOCATION:Teatralna\, 1\, Grudziądz\, 86-300\, Polska
CATEGORIES:Spektakle
ORGANIZER;CN="CK%20Teatr%20w%20Grudzi%C4%85dzu":MAILTO:szymon.r@teatr.grudziadz.pl
END:VEVENT
BEGIN:VEVENT
DTSTART;TZID="Europe/Warsaw":20161129T110000
DTEND;TZID="Europe/Warsaw":20161129T110000
DTSTAMP:20260422T161254
CREATED:20160905T104750
LAST-MODIFIED:20161102T085011
UID:4487-1480417200-1480417200@teatr.grudziadz.pl
SUMMARY:Spektakl profilaktyczny - "Dachowanie"
DESCRIPTION:Reżyseria:Żanetta Gruszczyńska-Ogonowska\nMarcin Borchardt\n\nObsada:Żanetta Gruszczyńska-Ogonowska\, Dominika Mrozowska\, Katarzyna Ulicka-Pyda\, Marcin Borchardt\, Wojciech Kowalski\, Wojciech Rogowski\n\nScenografia:Beata Jasionek\n\nKostiumy:Beata Jasionek\n\nChoreografia:Kacper Wojcieszek\n\n„Dachowanie” to opowieść skierowana do młodzieży w szeroko pojętym wieku szkolnym\, z elementami tragedii\, komedii i dramatu. Zawiera przestrogi i pęd do samowiedzy oraz mimesis.\n\nSpektakl opowiada o tym\, że młodzież sięga po używki: narkotyki\, dopalacze\, oraz ostrzega przed następstwami złych decyzji. Spektakl skłania uczniów do refleksji nad własną tożsamością i przynależnością do różnych grup rówieśniczych.\nPrzedstawienie jest inspirowane problemami i emocjami dotykającymi dzieci i młodzież\, ukazuje tragiczne skutki\, które niesie za sobą decyzja o przyjmowaniu wszelkich używek. Spektakl ma za zadanie skłonić młodego widza do przemyśleń i refleksji. Z pewnością\, historia ta da niejednemu z nas do myślenia. Humorystyczny język powoduje nawiązanie dobrych relacji z uczniami zgromadzonymi na widowni.
URL:http://teatr.grudziadz.pl/wydarzenie/spektakl-profilaktyczny-dachowanie-3/
LOCATION:Teatralna\, 1\, Grudziądz\, 86-300\, Polska
CATEGORIES:Spektakle
ORGANIZER;CN="CK%20Teatr%20w%20Grudzi%C4%85dzu":MAILTO:szymon.r@teatr.grudziadz.pl
END:VEVENT
END:VCALENDAR