BEGIN:VCALENDAR
VERSION:2.0
PRODID:-//Centrum Kultury Teatr w Grudziądzu - ECPv4.0.5//NONSGML v1.0//EN
CALSCALE:GREGORIAN
METHOD:PUBLISH
X-WR-CALNAME:Centrum Kultury Teatr w Grudziądzu
X-ORIGINAL-URL:http://teatr.grudziadz.pl
X-WR-CALDESC:Events for Centrum Kultury Teatr w Grudziądzu
BEGIN:VEVENT
DTSTART;TZID="Europe/Warsaw":20161206T100000
DTEND;TZID="Europe/Warsaw":20161210T190000
DTSTAMP:20260422T162110
CREATED:20161005T075948
LAST-MODIFIED:20161205T084319
UID:4806-1481018400-1481396400@teatr.grudziadz.pl
SUMMARY:Jarmark św. Mikołaja
DESCRIPTION:Tradycyjnie już przed świętami Bożego Narodzenia zapraszamy na Jarmark Św. Mikołaja. W tym czasie grudziądzki Rynek na kilka dni zmieni swój wizerunek. Staną tu kramy z całym mnóstwem świątecznych drobiazgów. Ozdoby choinkowe\, upominki dla najbliższych\, świece dekoracyjne\, oryginalne stroiki\, figurki to tylko część z przedmiotów\, które będzie można kupić. Podobnie jak w latach ubiegłych nie zabraknie słodkości tj. domowych przetworów\, świątecznych ciast\, wypieków. Na strudzonych przedświąteczną bieganiną czekać będą stoiska gastronomiczne\, gdzie kosztować będziemy tradycyjnych potraw: bigosu\, barszczu\, pierogów oraz gorących napojów. Wśród prezentujących swoje wyroby znajdą się m.in. lokalni przedsiębiorcy oraz artyści. W ciągu kilku dni trwania jarmarku świąteczne stragany czynne będą w godzinach od 10.00 do 19.00.\n\nGrudziądzki Jarmark Św. Mikołaja to jednak nie tylko zakupy\, przez kolejne dni świąteczną atmosferę budować tu będą koncerty oraz pokazy taneczne. I tak na dużej\, plenerowej scenie liczyć możemy na występy w wykonaniu grudziądzkich chórów – dziecięcych i dorosłych. Pojawią się zespoły wokalno-muzyczne oraz podopieczni Ogniska Pracy Pozaszkolnej. Natomiast gwiazdą sobotniego wieczoru będzie Margaret z zespołem.\n\nNie zabraknie także św. Mikołaja\, który we wtorek przed południem będzie częstował dzieci słodyczami. Podobnie jak w latach ubiegłych podczas Jarmarku wybrane zostanie najciekawsze stoisko świąteczne – zwycięzca otrzyma Nagrodę Prezydenta.\n\nWystępy\n\nWTOREK 6.12\n\n11:00- 13:00 Odwiedziny Świętego Mikołaja\n11:00- 12:30 Ognisko Pracy Pozaszkolnej\n12:30- 12:50 Warsztat Terapii Zajęciowej\n\n16:00- 18:00\n„Świąteczny plener dla dzieci i dorosłych” w wykonaniu artystów z Krakowskiego Teatru Ulicznego -Scena Kalejdoskop.\n\nŚRODA 7.12\n\nBRAK WYSTĘPÓW.\n\nCZWARTEK 8.12\n\n16:00-16:20 Zespół wokalny z ZSO nr 1\n16:20-16:40 Zespół z Niepublicznej Szkoły Podstawowej nr 1\n16:40-17:00 Chór Cantabille z SP NR 16\n17:00- 17:15 Zespół „Wesołe Nutki” z SP NR 5\n17:15- 17:30 Chór TIBI MARIAE\n17:30- 18:00 Soliści z Ogniska Pracy Pozaszkolnej\n\nPIĄTEK 9.12\n\n16:00-16:20 Zespół BONI CANTORES ZSO NR 5\n16:20-16:40 Chór THE G- SINGERS\n16:40- 17:10 Zespół Muzyczny „Wiercipięty” z SP 12\n17:10- 17:30 Chór „Kolegiata” działający przy parafii p.w. św. Mikołaja Biskupa w Grudziądzu\n17:30- 17:50Zespół wokalny z SP NR 3\n17:50- 18:10 Zespół wokalny z PSM II Stopnia\n\n18:10- 18:30 Chór ALLA CAMERA\n\nSobota 10.12.\n\n17:00- Wokaliści ze Studia Piosenki Zbigniewa Poliszczuka\n18:00- koncert MARGARET z ZESPOŁEM.\n\nSTOISKA JARMARCZNE OTWARTE W GODZINACH 10:00- 19:00\n\nOrganizatorzy: CK Teatr oraz Urząd Miejski w Grudziądzu 
URL:http://teatr.grudziadz.pl/wydarzenie/jarmark-sw-mikolaja-2/
CATEGORIES:Spektakle
ATTACH;FMTTYPE=image/jpeg:http://teatr.grudziadz.pl/wp-content/uploads/2016/10/PLAKAT-JARMARK-16-KOREKTA-2-e1480687997960.jpg
ORGANIZER;CN="CK%20Teatr%20w%20Grudzi%C4%85dzu":MAILTO:szymon.r@teatr.grudziadz.pl
END:VEVENT
BEGIN:VEVENT
DTSTART;TZID="Europe/Warsaw":20161209T193000
DTEND;TZID="Europe/Warsaw":20161209T193000
DTSTAMP:20260422T162110
CREATED:20160829T093523
LAST-MODIFIED:20161205T134119
UID:4348-1481311800-1481311800@teatr.grudziadz.pl
SUMMARY:Stand up – wieczór komediowy
DESCRIPTION:Dziesięć!\n\nNiesamowite co się nam udało stworzyć. Ostatnio było groźnie\, to już wiecie wszyscy jak się ładnie zachować. A teraz specjalnie dla Was\, z najodleglejszych zakątków Polski wystąpią:\n\nKrzysztof Jahns - piękny i przystojny\, o uzębieniu\, któremu pozazdrościć mogą bobry. Przez las idzie jak przecinak. Tak samo z resztą traktuje publikę\, która w starciu z jego pewnością siebie i doskonałym humorem\, musi ulec jego czarowi\n\nJanek Wolańczyk - Stand-Up - jeden z najmłodszych komików w Polsce. Janek bezpardonowo obśmiewa swoje wady i problemy\, stwarzając poczucie bliskości z widzem. Pełen energii i profesjonalizmu\, na scenie żywiołowy\, choć skrywa mroczny sekret\, który zdradzi Wam w pierwszym zdaniu. Członek ekipy Wrocławski Stand-up\n\nZa prowadzenie odpowiadać będzie jak zawsze\, Wasz ulubiony\, ukochany\, wyczekiwany co miesiąc z utęsknieniem w okolicznych barach i przybytkach podających alkohol wszelkiej maści: Tomasz Kwiatkowski z Kopanie Leżącego Stand-up.
URL:http://teatr.grudziadz.pl/wydarzenie/stand-up-wieczor-komediowy-5/
LOCATION:ul. Wybickiego 38
CATEGORIES:Koncert
ORGANIZER;CN="CK%20Teatr%20w%20Grudzi%C4%85dzu":MAILTO:szymon.r@teatr.grudziadz.pl
END:VEVENT
END:VCALENDAR