BEGIN:VCALENDAR
VERSION:2.0
PRODID:-//Centrum Kultury Teatr w Grudziądzu - ECPv4.0.5//NONSGML v1.0//EN
CALSCALE:GREGORIAN
METHOD:PUBLISH
X-WR-CALNAME:Centrum Kultury Teatr w Grudziądzu
X-ORIGINAL-URL:http://teatr.grudziadz.pl
X-WR-CALDESC:Events for Centrum Kultury Teatr w Grudziądzu
BEGIN:VEVENT
DTSTART;TZID="Europe/Warsaw":20161215T090000
DTEND;TZID="Europe/Warsaw":20161215T090000
DTSTAMP:20260422T175841
CREATED:20161121T101010
LAST-MODIFIED:20161121T101010
UID:5323-1481792400-1481792400@teatr.grudziadz.pl
SUMMARY:„Pinokio” - spektakl dla dzieci
DESCRIPTION:Aby dzieci mogły trochę odpocząć od wirtualnej rzeczywistości gier oraz bajek emitowanych w telewizji zapraszamy do teatru\, który w szczególny sposób potrafi przenieść dziecięcą wyobraźnię w niezwykły świat baśni.\n[button link="http://teatr.grudziadz.pl/pinokio-2/"] więcej[/button]
URL:http://teatr.grudziadz.pl/wydarzenie/pinokio-spektakl-dla-dzieci-16/
CATEGORIES:Spektakle
ATTACH;FMTTYPE=image/jpeg:http://teatr.grudziadz.pl/wp-content/uploads/2016/08/1-1-3.jpg
ORGANIZER;CN="CK%20Teatr%20w%20Grudzi%C4%85dzu":MAILTO:szymon.r@teatr.grudziadz.pl
END:VEVENT
BEGIN:VEVENT
DTSTART;TZID="Europe/Warsaw":20161215T110000
DTEND;TZID="Europe/Warsaw":20161215T110000
DTSTAMP:20260422T175841
CREATED:20161121T095843
LAST-MODIFIED:20161121T095843
UID:5322-1481799600-1481799600@teatr.grudziadz.pl
SUMMARY:„Pinokio” - spektakl dla dzieci
DESCRIPTION:Aby dzieci mogły trochę odpocząć od wirtualnej rzeczywistości gier oraz bajek emitowanych w telewizji zapraszamy do teatru\, który w szczególny sposób potrafi przenieść dziecięcą wyobraźnię w niezwykły świat baśni.\n[button link="http://teatr.grudziadz.pl/pinokio-2/"] więcej[/button]
URL:http://teatr.grudziadz.pl/wydarzenie/pinokio-spektakl-dla-dzieci-15/
CATEGORIES:Spektakle
ATTACH;FMTTYPE=image/jpeg:http://teatr.grudziadz.pl/wp-content/uploads/2016/08/1-1-3.jpg
ORGANIZER;CN="CK%20Teatr%20w%20Grudzi%C4%85dzu":MAILTO:szymon.r@teatr.grudziadz.pl
END:VEVENT
BEGIN:VEVENT
DTSTART;TZID="Europe/Warsaw":20161215T190000
DTEND;TZID="Europe/Warsaw":20161215T190000
DTSTAMP:20260422T175841
CREATED:20160829T093915
LAST-MODIFIED:20161107T143621
UID:4350-1481828400-1481828400@teatr.grudziadz.pl
SUMMARY:DKF
DESCRIPTION:reżyseria: Joel Coen\n\nscenariusz: Joel Coen\, Ethan Coen\n\nprodukcja: Francja/USA/Wielka Brytania (rok 2000)\n\n(oryg. Tytuł: “O Brother\, Where Art Thou?”\n\nCzas projekcji: 1 godz. 46 min.\n\nAmerykańska komedia kryminalna\, której scenariusz niezastąpieni bracia Coen wypełnili całym mnóstwem luźnych nawiązań do "Odysei" Homera.\n\nAkcja rozgrywa się w Missisipi pod koniec lat 30. Ulysses Everett McGill - wygadany cwaniak i drobny złodziejaszek - odsiaduje karę za praktykę adwokacką bez licencji. Praca w kamieniołomach nie jest dla niego ciekawą perspektywą\, wobec czego postanawia czym prędzej opuścić więzienie. Problem w tym\, że Ulysses skazany jest na towarzystwo dwóch innych\, znacznie mniej bystrych kompanów. Trzech uciekinierów\, na dobre i złe\, łączy… łańcuch\, którym są skuci.\n\nUlysses mami swoich kompanów perspektywą odzyskania na wolności drogocennego skarbu\, choć rzeczywistym motywem jego ucieczki jest pragnienie odszukania byłej żony i pojednania się z nią. Zbiegowie przemierzają południowe stany\, spotykając po drodze zastępy cudacznych typów i bez przerwy wikłając się w przedziwne sytuacje.\n\nObsada\n\nGeorge Clooney - Everett Ulysses McGill\n\nJohn Turturro - Pete\n\nTim Blake Nelson - Delmar O'Donnel\n\nCharles Durning - Gubernator Pappy O'Daniel\n\nJohn Goodman - Big Dan Teague\n\nMichael Badalucco - George Babyface Nelson\n\nHolly Hunter - Penny
URL:http://teatr.grudziadz.pl/wydarzenie/dkf-4/
LOCATION:Teatralna\, 1\, Grudziądz\, 86-300\, Polska
CATEGORIES:DKF
ATTACH;FMTTYPE=image/jpeg:http://teatr.grudziadz.pl/wp-content/uploads/2016/08/Bracie-gdzie-jesteś-03-2.jpg
ORGANIZER;CN="CK%20Teatr%20w%20Grudzi%C4%85dzu":MAILTO:szymon.r@teatr.grudziadz.pl
END:VEVENT
END:VCALENDAR