BEGIN:VCALENDAR
VERSION:2.0
PRODID:-//Centrum Kultury Teatr w Grudziądzu - ECPv4.0.5//NONSGML v1.0//EN
CALSCALE:GREGORIAN
METHOD:PUBLISH
X-WR-CALNAME:Centrum Kultury Teatr w Grudziądzu
X-ORIGINAL-URL:http://teatr.grudziadz.pl
X-WR-CALDESC:Events for Centrum Kultury Teatr w Grudziądzu
BEGIN:VEVENT
DTSTART;TZID="Europe/Warsaw":20161216T193000
DTEND;TZID="Europe/Warsaw":20161216T193000
DTSTAMP:20260422T162053
CREATED:20160829T094047
LAST-MODIFIED:20161216T071840
UID:4351-1481916600-1481916600@teatr.grudziadz.pl
SUMMARY:Studio Piosenki Zbigniewa Poliszczuka – koncert
DESCRIPTION:Grudniowy wieczór w Klubie Akcent tuż przed świętami Bożego Narodzenia proponujemy spędzić w muzycznym towarzystwie słuchaczy Studia Piosenki Zbigniewa Poliszczuka. Wieczór muzycznie zaplanowany został w nastrojowym klimacie nadchodzących świąt. Zabrzmią tradycyjne polskie kolędy oraz piosenki świąteczne\, które wprowadzą w klimat świąt. \n\nW czasie programu zaprezentują się wszyscy\, także ci najmłodsi\, słuchacze studia\, którzy już niejednokrotnie czarowali publiczność indywidualnymi interpretacjami znanych utworów.\n\nJednym słowem na Akcentowej scenie wystąpią laureaci ogólnopolskich przeglądów wokalnych i recytatorskich. Będzie to prawdziwy pokaz umiejętności wokalnych\, ale przede wszystkim miły wieczór dla tych\, którzy lubią dobrą piosenkę\, bo tego na ich koncertach nigdy nie brakuje.\n\nWokalistom akompaniował będzie Zbigniew Poliszczuk\, szef i pomysłodawca wieczoru.
URL:http://teatr.grudziadz.pl/wydarzenie/studio-piosenki-zbigniewa-poliszczuka-koncert/
LOCATION:ul. Wybickiego 38
CATEGORIES:Koncert
ATTACH;FMTTYPE=image/jpeg:http://teatr.grudziadz.pl/wp-content/uploads/2016/08/poliszczuk1.jpg
ORGANIZER;CN="CK%20Teatr%20w%20Grudzi%C4%85dzu":MAILTO:szymon.r@teatr.grudziadz.pl
END:VEVENT
END:VCALENDAR