BEGIN:VCALENDAR
VERSION:2.0
PRODID:-//Centrum Kultury Teatr w Grudziądzu - ECPv4.0.5//NONSGML v1.0//EN
CALSCALE:GREGORIAN
METHOD:PUBLISH
X-WR-CALNAME:Centrum Kultury Teatr w Grudziądzu
X-ORIGINAL-URL:http://teatr.grudziadz.pl
X-WR-CALDESC:Events for Centrum Kultury Teatr w Grudziądzu
BEGIN:VEVENT
DTSTART;TZID="Europe/Warsaw":20161218T120000
DTEND;TZID="Europe/Warsaw":20161218T120000
DTSTAMP:20260422T161322
CREATED:20160829T094235
LAST-MODIFIED:20161213T104811
UID:4352-1482062400-1482062400@teatr.grudziadz.pl
SUMMARY:Koncert Niedzielny w Teatrze: Daria Wójcik (sopran) & Remigiusz Kuźmiński (tenor)
DESCRIPTION: W programie koncertu:\n\ncz. I. - operetka\, musical\, pop - opera\ncz. II. - utwory zimowo - bożonarodzeniowe\, pastorałki i kolędy\n\n\n\n\nBIOGRAFIE ARTYSTÓW\n\n\nDaria Wójcik - absolwentka Uniwersytetu Kazimierza Wielkiego w Bydgoszczy na kierunku muzycznym\, oraz Państwowej Szkoły Muzycznej II st. w Inowrocławiu na kierunku - wokalistyka. Uczyła się śpiewu klasycznego w klasie cenionej śpiewaczki operowej i pedagog - prof. Małgorzaty Ratajczak. Posiada charakterystyczny mocno brzmiący sopran\, oraz znakomity warsztat wykonawczy. Jej kunszt sceniczny pozwala pokonywać z niezwykłą łatwością i lekkością najtrudniejsze partie solistyczne znanych oper i operetek. Artystka współpracuje także z wieloma uznanymi muzykami. Wykonywała wiele duetów w towarzystwie tenora Łukasza Ratajczaka i tenora Remigiusza Kuźmińskiego. Posiada szlachetną osobowość\, szyk i elegancję\, a na scenie przed publicznością czuje się jak przysłowiowa ryba w wodzie. Na co dzień poza działalnością estradową\, jest także nauczycielem muzyki w szkole podstawowej i gimnazjum\, oraz zajmuje się oprawą muzyczną mszy świętych w kościele jako organistka. Jej wychowankowie osiągają znakomite wyniki i osiągnięcia w konkursach muzycznych. Jest zakochana w twórczości Wolfganga Amadeusza Mozarta. W wolnych chwilach z kubkiem gorącej herbaty zatapia się w piękno jego klasycystycznych dzieł twórczych.\n\n\nRemigiusz Kuźmiński - absolwent Akademii Muzycznej w Bydgoszczy na kierunku - wokalistyka i dyrygentura\, oraz Państwowej Szkoły Muzycznej II st. w Inowrocławiu na kierunku - wokalistyka. Obronił pracę magisterską i recitale dyplomowe uzyskując wyższe wykształcenie muzyczne z tytułem magistra sztuki\, dyplomowanego wokalisty i dyrygenta\, oraz pełne kwalifikacje pedagogiczne. W czasie studiów kształcił technikę wokalną i dyrygencką w zakresie jazzu\, muzyki estradowej i muzyki klasycznej\, natomiast w średniej szkole muzycznej doskonalił wokal tylko w zakresie klasyki. Studiował i uczył się w klasie śpiewu dr Joanny Żółkoś - Zagdańskiej\, prof. Krzysztofa Szydzisza\, prof. Janusza Ratajczaka i prof. Małgorzaty Ratajczak\, natomiast dyrygowanie studiował w klasie prof. Moniki Wilkiewicz\, prof. Radosława Wilkiewicza i prof. Andrzeja Zubka. Artysta urodził się 1 maja 1981 roku w Szubinie na Pałukach\, a wychowywał w Zalesiu Barcińskim. Pochodzi z bardzo muzykalnej rodziny. Jego pradziadek był dyrygentem oraz założycielem orkiestry dętej\, siostra i wielu innych krewnych śpiewało w chórze\, natomiast ojciec jest doświadczonym instrumentalistą. Zadebiutował na scenie w wieku sześciu lat i od tamtej pory muzyka stała się jego pasją\, powołaniem oraz sposobem na życie. Jako nastolatek bardzo dużo występował i osiągał sukcesy na festiwalach. Od momentu rozpoczęcia edukacji muzycznej jego praca estradowa przybrała zawodowy format. Muzyk koncertuje zarówno na scenach krajowych\, jak i zagranicznych. Współpracuje również z wieloma uznanymi osobistościami. Wykonuje muzykę niszową prezentując wysokiej klasy kompozycje z elementami pop'u\, jazzu\, swingu\, funky\, soul'u i r&b. Można także go usłyszeć w partiach musicalowych\, gospelowych\, pop - operowych i liryczno - poetyckich.\n\n\n\nWYSTAWA grafiki: "4*grafika - All colours of graphics"\n\n\n\nPixel\, Pink\, Black&Full Colour\n\n   Każdy z autorów wychodząc z tradycyjnego warsztatu odnalazł własny sposób artykulacji. Wszyscy twórcy związani są z Zakładem Grafiki Uniwersytetu Mikołaja Kopernika w Toruniu\, gdzie pracują na stanowiskach adiunkta.Wystawa ma na celu prezentację czterech postaw twórczych w obrębie jednej dyscypliny artystycznej\, jaką jest grafika. Ukazuje szerokie spektrum rozwiązań twórczych\, od tradycyjnego drzeworytu i linorytu\, poprzez suchoryt i pokrewne techniki wklęsłodrukowe\, po fotografię przetworzoną cyfrowo oraz obraz renderowany w komputerowym programie graficznym.\n\n \n\ndr hab. Agata Dworzak - Subocz\n\nSztuka Agaty Dworzak-Subocz jest przekorna\, zabawna i tajemnicza. Jeśli wszystko jest oczywiste nie jest dla niej fascynujące. Jest ogromną miłośniczką różu\, kocha jego odcienie i kontrowersyjne podejście w świecie sztuki. Róż stał się jej językiem wizualnym w tysiącach odcieni na który przekłada utrwalone w pamięci bajkowe obrazy. W swojej sztuce nawiązuje do całego bogactwa słodkich form\, które w jej interpretacji rozkwitają jak w kadrze dziecięcego kalejdoskopu. Grafiki Agaty są radosne i zaraźliwie optymistyczne\, ale też ciepłe\, trochę prowokujące. Uchyla nam rąbka tajemnicy swojego bajkowego świata i zostawia miejsce na własną interpretację. Czuje się podwójnym voyerem będąc podglądaczem i oglądanym.\n\n\ndr hab. Izabella Retkowska \n\n\n\nMoim celem zawsze było wykraczanie za pomocą obrazów poza zwykłą codzienną percepcję – poza obręb zwykłego doświadczenia. Warsztat cyfrowy zaintrygował mnie swym szerokim zasięgiem obrazowania oraz możliwością integracji różnorodnych środków wypowiedzi\, która tworzy z niego wszechstronne narzędzie artystyczne. Realizacje powstałe w środowisku cyfrowym wyznaczyły więc kolejny etap na drodze do zgłębiania interesujących mnie zagadnień. Traktuję je jako całkowicie autonomiczną przestrzeń wizualną. Nową metodę artykulacji moich zainteresowań i definiowania obszaru graficznych działań\, szczególnie zważywszy na ich dotychczasowy charakter oraz szeroki wachlarz wykorzystywanych mediów – od tradycyjnej matrycy\, poprzez klasyczną czarno-białą fotografię\, aż do nowych technologii cyfrowych.\n\n \n\ndr hab. Michał Rygielski\n\n\n\nW moich grafikach staram się odnieść do otaczającej mnie rzeczywistości\, nie podejmując się jej oceny\, czy też interpretacji mającej na celu zwrócenie uwagi i zmuszenie odbiorcy do głębszych przemyśleń… Tematem moich drzeworytów jest pejzaż\, a właściwe to\, co zostaje we mnie po jego wrażeniowym przeżywaniu… Cykl moich prac nosi wspólny tytuł: Powidoki pejzażu i jest zapisem graficznym zebranych i odczutych przeze mnie wrażeń związanych z przeżywaniem zewnętrznej części tego co nas otacza… Nie jestem obojętny na inną stronę rzeczywistości\, mam tu na myśli zjawiska społeczne\, religię\, rozwój cywilizacji… i wszystko co się z tym łączy\, świadomie jednak nie obciążam tymi treściami swoich prac starając się\, aby były one pozbawione fabuły i nie niosły nic poza prostym przekazem estetycznym…\n\n \n\ndr hab. Marek Zajko\n\n\n\nMetamorfoza wizerunku – analiza i synteza „portretu” stanowi główny motyw mojego kontynuowanego od kilku lat graficznego cyklu „Studium Pewnej Choroby”. Buduję własną wizję portretowanej osoby\, przy użyciu charakterystycznych dla grafiki środków wyrazu - przerysowań\, przetworzeń czy nawet deformacji - powstaje wtedy nowy „obraz twarzy” człowieka. Portret graficzny jest dla mnie nie tyle\, odtworzeniem rzeczywistości - ile możliwością autokomentarza – subiektywnego i prowokującego. Realizowany przeze mnie cykl to zapis uniwersalnych ludzkich twarzy\, anonimowych symboli\, dzisiejszych czasów – tłumu pojedynczych\, realnych jednostek\, obdarzonych jednak własną indywidualnością. Powstaje tym samym rodzaj żywej dokumentacji\, swoiste samo-aktualizujące się archiwum nieuchronnego przemijania człowieka.\n\nPrzedmiotem moich badań warsztatowych są szeroko pojmowane eksperymenty graficzne w obrębie druku wklęsłego (zarówno trawionego jak i technik rytowanych) Podejmuję próby rozszerzenia możliwości technicznych w grafice\, jakie daje użycie niestandardowych materiałów – syntetyków\, poliestrów i łączenia ich z klasycznymi materiałami wykorzystywanymi do tej pory w druku wklęsłym.\n\n\n
URL:http://teatr.grudziadz.pl/wydarzenie/koncert-niedzielny-teatrze/
LOCATION:Teatralna\, 1\, Grudziądz\, 86-300\, Polska
CATEGORIES:Koncert
ORGANIZER;CN="CK%20Teatr%20w%20Grudzi%C4%85dzu":MAILTO:szymon.r@teatr.grudziadz.pl
END:VEVENT
END:VCALENDAR