BEGIN:VCALENDAR
VERSION:2.0
PRODID:-//Centrum Kultury Teatr w Grudziądzu - ECPv4.0.5//NONSGML v1.0//EN
CALSCALE:GREGORIAN
METHOD:PUBLISH
X-WR-CALNAME:Centrum Kultury Teatr w Grudziądzu
X-ORIGINAL-URL:http://teatr.grudziadz.pl
X-WR-CALDESC:Events for Centrum Kultury Teatr w Grudziądzu
BEGIN:VEVENT
DTSTART;TZID="Europe/Warsaw":20161219T150000
DTEND;TZID="Europe/Warsaw":20161219T150000
DTSTAMP:20260422T175816
CREATED:20161121T094846
LAST-MODIFIED:20161219T111548
UID:5320-1482159600-1482159600@teatr.grudziadz.pl
SUMMARY:Impreza gwiazdkowa w wykonaniu Przedszkola Bajkolandia
DESCRIPTION:Impreza zamknięta
URL:http://teatr.grudziadz.pl/wydarzenie/impreza-gwiazdkowa-wykonaniu-przedszkola-bajkolandia/
LOCATION:ul. Teatralna 1\, Grudziądz
CATEGORIES:Koncert
ORGANIZER;CN="Teatr":MAILTO:ewelina@teatr.grudziadz.pl
END:VEVENT
END:VCALENDAR