BEGIN:VCALENDAR
VERSION:2.0
PRODID:-//Centrum Kultury Teatr w Grudziądzu - ECPv4.0.5//NONSGML v1.0//EN
CALSCALE:GREGORIAN
METHOD:PUBLISH
X-WR-CALNAME:Centrum Kultury Teatr w Grudziądzu
X-ORIGINAL-URL:http://teatr.grudziadz.pl
X-WR-CALDESC:Events for Centrum Kultury Teatr w Grudziądzu
BEGIN:VEVENT
DTSTART;TZID="Europe/Warsaw":20161231T203000
DTEND;TZID="Europe/Warsaw":20161231T203000
DTSTAMP:20260422T144700
CREATED:20160829T094412
LAST-MODIFIED:20161121T123816
UID:4353-1483216200-1483216200@teatr.grudziadz.pl
SUMMARY:Koncert sylwestrowy w Teatrze: Gospodarzem wieczoru będzie - Eljazz Big Band  pod dyrekcją Józefa Eliasza
DESCRIPTION:\nWieczory sylwestrowe w teatrze spotkały się z ciepłym przyjęciem i cieszą się dużym zainteresowaniem. Nasz sylwester to idealna propozycja dla wszystkich\, którzy chcieliby ten niepowtarzalny wieczór spędzić w kulturalnej atmosferze. W tym roku dla grudziądzkiej publiczności wystąpi Eljazz Big Band pod dyrekcją Józefa Eliasza. Koncert zaprezentowany zostanie w trzech odsłonach\, podczas których zabrzmią: utwory  z filmu „Blues Brothers”\, nowoorleański jazz i dixieland oraz największe standardy muzyki amerykańskiej.\n\nNa scenie zaprezentują się: Janusz Szrom\, Maciej Olesiński oraz Jakub Marszałek. Na zakończenie przed grudziądzką publicznością wystąpi gwiazda wieczoru\, jedna z najciekawszych amerykańskich\, swingujących\, jazzowo-soulowych wokalistek - Karen Edwards. Artystka współpracowała z wieloma światowej sławy muzykami takimi jak: Prince\, Stevie Wonder czy Tony Bennett. Na gości teatralnej nocy sylwestrowej czekać będzie również kolacja (szwedzki stół z szerokim wyborem dań)\, tort noworoczny\, a punktualnie o północy symboliczną lampką szampana wspólnie wzniesiemy toast za nowy 2017 rok. Po koncercie  zapraszamy do dalszej zabawy i tańców przy muzyce z płyt. Podczas tej niepowtarzalnej nocy sylwestrowej gwarantujemy wspaniałe muzyczne emocje\, niezapomniane wrażenia i wyjątkową atmosferę.\n\nKoncert zaplanowany został w trzech odsłonach tematycznych: \n\ngodz. 20.30     muzyka z filmu „Blues Brothers”\,\n\nwokaliści: Janusz Szrom i Maciej Olesiński\n\nEljazz Big Band\n\ngodz. 22.15   New Orleans\, Dixie\n\nwokaliści: Janusz Szrom i Jakub Marszałek\n\nEljazz Big Band\n\ngodz. 23.15     kolacja\n\ngodz. 00.00     toast za NOWY ROK\n\ngodz. 00.15     standardy muzyki amerykańskiej\,\n\nwokalistka: Karen Edwards\n\nEljazz Big Band\n\n„ELJAZZ BIG BAND” został powołany do życia w maju 1999 r. przez Józefa Eliasza\,  jazzmana\, perkusistę\, bandleadra i animatora życia muzycznego. Do dziś orkiestra brała udział w wielu prestiżowych koncertach i festiwalach\, m.in.: Probaltica\, Bydgoszcz Jazz Festiwal\, Pomorska Jesień Jazzowa\, European Jazz Meetings\, XXXI Międzynarodowy Festiwal Jazzu Tradycyjnego – ZŁOTA TARKA. Występowała także w cyklu koncertów w Łazienkach Królewskich\, w Pałacu w Wilanowie\, w Filharmonii Pomorskiej i Operze Nova w Bydgoszczy oraz wielu innych. Jest też laureatem konkursów ogólnopolskich i międzynarodowych.\n\n„Eljazz Big Band” systematycznie współpracuje ze znakomitymi muzykami\, m.in.: Janem „Ptaszynem” Wróblewskim\, Krzysztofem Herdzinem\, Lorą Szafran\, Januszem Szromem\, Henrykiem Miśkiewiczem\, Maciejem Sikałą\, czy Adamem Wendtem. Big Band ma również na swoim koncie wydawnictwo płytowe. To album pt. „Wspomnienia” przedstawiający piosenki okresu lat międzywojennych\, do których partie wokalne wykonała Lora Szafran. Płyta otrzymała znakomite recenzje\, tak wśród miłośników\, jak i krytyków. Z programem tym orkiestra wielokrotnie występowała na scenach polskich i zagranicznych. Najważniejszym dokonaniem artystycznym orkiestry\, w którym również biorą udział wybitni aranżerzy i soliści\, jest projekt – „W Rytmie Chopina”. To specjalnie wyselekcjonowany zestaw utworów Fryderyka Chopina napisanych na big band i orkiestrę symfoniczną. Całość zaaranżowano tak\, aby ukazać kunszt i piękno wielkiego kompozytora\, ale w zupełnie innej\, nowatorskiej szacie.\n\nW swoim macierzystym\, bydgoskim klubie „Eljazz” orkiestra występuje w czwartki\, czym wpisuje się jako ważny symbol muzyczny miasta i regionu.\n\n\n\nKaren Edwards to jedna z najciekawszych amerykańskich\, swingujących\, jazz-soulowych pianistek i wokalistek. Zdobywczyni Grammy Award for Jazz Performance. Współpracowała z wieloma światowej sławy artystami\, jak m.in. Prince\, Stevie Wonder i Tony Bennett.\n\nUrodzona w Greenville\, w Południowej Karolinie pierwszą edukację muzyczną odebrała u swojego ojca\, który był dyrektorem muzycznym lokalnego kościoła baptystów. Muzyka soul i gospel towarzyszyły jej już od dzieciństwa. Studia ukończyła na uniwersytecie North Texas w klasie fortepianu. Występowała w teatrach muzycznych oraz klubach Nowego Jorku i Los Angeles. Jako główna gwiazda prowadziła przez kilka lat cotygodniowy show w Atlancie. Swą sztukę prezentowała na całym świecie. Po udanych koncertach w Niemczech otrzymała propozycję nauczania jazzowego śpiewu i improwizacji w Monachijskim Konserwatorium Muzycznym im. Richarda Straussa. Zagrała także w kilku amerykańskich filmach muzycznych. Koncerty Karen Edwards to nie tylko wspaniałe przeżycie muzyczne\, ale także znakomity show.\n\n\n\nJanusz Szrom – polski wokalista jazzowy. Jazz jest obecnie pojęciem stylistycznie bardzo rozległym. W takim też rozumieniu należałoby rozpatrywać wokalistykę Janusza. Z jednej strony przez całe lata rozwijał w sobie miłość do instrumentalnego traktowania swojego głosu\, odruchowo sięgając po autorów z okresu bebop-u\, z drugiej zaś słychać u niego nieukrywaną sympatię do "zwykłych" piosenek.\n\nTaka rozpiętość zainteresowań świadczy o jego dużej elastyczności i gotowości do podejmowania ciekawych muzycznych wyzwań. Bez wątpienia jednym z nich jest jego solowy album "Pełną gębą"\, gdzie samodzielnie zaśpiewał wszystkie głosy\, nie wspierając się przy tym żadnym instrumentem muzycznym. Wieloletnia edukacja muzyczna odcisnęła na jego wokalistyce swoje znamię: fortepian\, trąbka\, organy\, czy saksofon… Każdy z tych instrumentów gra dziś w duszy tego jazzmana.\n\nMaciej Olesiński \n\nGitarzysta elektryczny i akustyczny\, wokalista. Absolwent Akademii Muzycznej w Bydgoszczy (spec. Prowadzenie zespołów jazzowych i muzyki rozrywkowej) w klasie gitary Piotra Olszewskiego. Brał udział w wielu Festiwalach w całej Polsce\, takich jak Festiwal Grzegorza Ciechowskiego - Tczew\, czy Rock Water Festiwal - Serwy. Ma na koncie również współpracę m.in. z Teatrem im. Williama Horzycy w Toruniu\, Filharmonią Pomorską w Bydgoszczy\, Eljasz Orchestra\, ElJazz Big Band\, Big Bandem Akademii Muzycznej w Bydgoszczy\, Januszem Szromem\, Sławkiem Kosą Kosińskim\, Kubą Molędą\, Damianem Skoczykiem\, Bartkiem Staszkiewiczem (Sofa)\, Kasią Pumą Piasecką\, Mateuszem Krautwurstem\, zespołami wokalnymi Airam (Malbork) i Ambirds (Gdańsk). Współtworzy grupę rockszantową Klucz od Kilwatera\, był kierownikiem muzycznym zespołu muzyki Gospel John Henry's cool Band\, z którą zdobywał nagrody na licznych festiwalach\, m.in. Gospel Camp Meeting Osiek\, Warsaw Gospel Days. Występuje również solowo podczas akustycznych koncertów klubowych zatytułowanych „Gita i Ja”.\n\n
URL:http://teatr.grudziadz.pl/wydarzenie/koncert-sylwestrowy-teatrze/
LOCATION:Teatralna\, 1\, Grudziądz\, 86-300\, Polska
CATEGORIES:Koncert
ATTACH;FMTTYPE=image/jpeg:http://teatr.grudziadz.pl/wp-content/uploads/2016/08/2016-12-31-SylwesterKAREN-Edwards-2.jpg
ORGANIZER;CN="CK%20Teatr%20w%20Grudzi%C4%85dzu":MAILTO:szymon.r@teatr.grudziadz.pl
END:VEVENT
BEGIN:VEVENT
DTSTART;TZID="Europe/Warsaw":20161231T220000
DTEND;TZID="Europe/Warsaw":20170101T010000
DTSTAMP:20260422T144700
CREATED:20161114T104650
LAST-MODIFIED:20161214T144454
UID:5283-1483221600-1483232400@teatr.grudziadz.pl
SUMMARY:Sylwester miejski na Marinie
DESCRIPTION:Porywające rytmy sięgające swoimi muzycznymi korzeniami gorącej Afryki oraz elektryzujące dźwięki porywającego do tańca DJ’a – to przepis na świetną plenerową i darmową zabawę sylwestrową w Grudziądzu.\n\n\n\nW ramach miejskiej imprezy sylwestrowej Centrum Kultury Teatr oraz Urząd Miejski w Grudziądzu zapraszają na Marinę\, gdzie gorączkę tej niezwykłej nocy podgrzewać będzie zespół JAMBO AFRICA. Skoczne i pełne energii utwory gwarantują dobrą zabawę i sprawią\, że z uśmiechem powitamy Nowy Rok. Na scenie zagości również znany i bardzo lubiany DJ SPEAKER.\n\nOczywiście punktualnie o północy nadejście 2017 roku przywitane zostanie niezwykle barwnym pokazem fajerwerków!\n\nZespół Jambo Africa  powstał w 2000 roku. Swoje pierwsze kroki muzyczne  artyści stawiali pod nazwą  Africa Star  - jako amatorski zespół studentów z Czarnego Lądu. Przy okazji jednego z występów doszło do spotkanie z profesjonalnymi producentami\, którzy zaproponowali im wspólne stworzenie całkowicie nowego\, profesjonalnego projektu muzycznego. I tak właśnie powstał porywający\, dynamiczny show składający się z popularnych przebojów Africa Silone\, Saragossa Band\, Goombay Dance Band\, Makomy  oraz oryginalnych afrykańskich utworów\, przywiezionych do Polski przez członków grupy. Debiutancka\, wydana w 2001 roku\, płyta okazała się prawdziwym strzałem w dziesiątkę\,  odnosząc zupełnie nieoczekiwanie spory sukces wydawniczy.\n\nKoncerty  Jambo Africa  niezmiennie od 16 lat spotykają się z wielkim zainteresowaniem i entuzjastycznym przyjęciem publiczności.\n\nObecni członkowie grupy to Melania\, Natasha\, Jack\, Patrick i Martin. Pochodzą z Konga\, Nigerii\, Kenii\, Senegalu i Kamerunu.\n\n\n\nUwaga!\n\nWstęp na teren Mariny jest bezpłatny\, a uczestnicy wpuszczani będą tylko głównym wejściem od ul. Wiślanej (od strony Mostu). Ze względów organizacyjnych oraz w celu zachowania bezpieczeństwa kładka pieszo-rowerowa od ul. Portowej będzie zamknięta. Jednocześnie informujemy\, że zgodnie z ustawą o bezpieczeństwie organizacji imprez masowych obowiązuje całkowity zakaz wnoszenia na teren imprezy: alkoholu\, materiałów pirotechnicznych (fajerwerki) oraz przedmiotów niebezpiecznych. Informujemy również\, iż na terenie obiektu będzie możliwość zakupienia gorących napojów oraz grzanego\, niskoprocentowego piwa.\n\nRegulamin imprezy
URL:http://teatr.grudziadz.pl/wydarzenie/sylwester-miejski-marinie-2/
LOCATION:ul. Portowa\, Grudziądz
CATEGORIES:Plenery
ATTACH;FMTTYPE=image/jpeg:http://teatr.grudziadz.pl/wp-content/uploads/2016/11/2016-12-31-Sylwester-plenerowy-na-Marinie-Jambo-1.jpg
ORGANIZER;CN="CK%20Teatr%20w%20Grudzi%C4%85dzu":MAILTO:szymon.r@teatr.grudziadz.pl
END:VEVENT
END:VCALENDAR