BEGIN:VCALENDAR
VERSION:2.0
PRODID:-//Centrum Kultury Teatr w Grudziądzu - ECPv4.0.5//NONSGML v1.0//EN
CALSCALE:GREGORIAN
METHOD:PUBLISH
X-WR-CALNAME:Centrum Kultury Teatr w Grudziądzu
X-ORIGINAL-URL:http://teatr.grudziadz.pl
X-WR-CALDESC:Events for Centrum Kultury Teatr w Grudziądzu
BEGIN:VEVENT
DTSTART;TZID="Europe/Warsaw":20170113T193000
DTEND;TZID="Europe/Warsaw":20170113T193000
DTSTAMP:20260422T144645
CREATED:20161117T140934
LAST-MODIFIED:20170109T081359
UID:5305-1484335800-1484335800@teatr.grudziadz.pl
SUMMARY:Kolędy ulicy - koncert świąteczny
DESCRIPTION:W okresie noworocznym podtrzymujemy świąteczną atmosferę. Zapraszamy na wyjątkowy koncert zatytułowany: “Kolędy ulicy”.\n\nTego wieczoru będzie można usłyszeć kompozycje wybitnego poznańskiego kompozytora- Mariusza Matuszewskiego do słów ks. Jana Twardowskiego\, Emilii Waśniowskiej\, Jadwigi Urbanowicz i Andrzeja Malickiego w aranżacji Krzysztofa Zaremby.\n\nNiezwykłe\, jedyne w swoim rodzaju\, kolędy i pastorałki wykona dla Państwa chór Zespołu Szkół w Wałdowie Szlacheckim oraz jego goście-aktorzy toruńskiego teatru Baj Pomorski: Grażyna Rutkowska- Kusa\, Anna Katarzyna Chudek\, Krzysztof Grzęda i Mariusz Wójtowicz.\n\nChór  ZS w Wałdowie Szlacheckim został założony rok temu. Działa dzięki opiece\, jaką roztoczyła nad nim Fundacja Pierwsze Skrzypce.\n\nBlisko 40. uczniów z zapałem śpiewa i rozwija się muzycznie pod kierunkiem p. Krzysztofa Zaremby\, który jest z urodzenia grudziądzaninem\, a obecnie popularnym toruńskim muzykiem\, kompozytorem\, dyrygentem i aktorem\, kierownikiem muzycznym w teatrze Baj Pomorski.\n\nBędziemy mieli zaszczyt zaprezentować dziecięcy talent naszych wychowanków z nadzieją\, że owocem organizowanych koncertów będą jednolite\, piękne stroje dla chórzystów oraz wyjazd na kolejne muzyczne warsztaty w Orliku.\n\nObiecujemy\, że “Kolędy ulicy”\, które popłyną tego styczniowego wieczoru\, sprawią\, że Boże Narodzenie pozostanie w sercach naszych gości na bardzo długo. Może na cały rok ...?
URL:http://teatr.grudziadz.pl/wydarzenie/koledy-ulicy-koncert-swiateczny/
LOCATION:ul. Wybickiego 38
CATEGORIES:Koncert
ORGANIZER;CN="CK%20Teatr%20w%20Grudzi%C4%85dzu":MAILTO:szymon.r@teatr.grudziadz.pl
END:VEVENT
END:VCALENDAR