BEGIN:VCALENDAR
VERSION:2.0
PRODID:-//Centrum Kultury Teatr w Grudziądzu - ECPv4.0.5//NONSGML v1.0//EN
CALSCALE:GREGORIAN
METHOD:PUBLISH
X-WR-CALNAME:Centrum Kultury Teatr w Grudziądzu
X-ORIGINAL-URL:http://teatr.grudziadz.pl
X-WR-CALDESC:Events for Centrum Kultury Teatr w Grudziądzu
BEGIN:VEVENT
DTSTART;TZID="Europe/Warsaw":20170120T193000
DTEND;TZID="Europe/Warsaw":20170120T193000
DTSTAMP:20260422T144711
CREATED:20161121T104555
LAST-MODIFIED:20170117T083434
UID:5326-1484940600-1484940600@teatr.grudziadz.pl
SUMMARY:Kuyavian Progrock Festival
DESCRIPTION:Zespół The Broken Bridges powstał na początku 2014 roku z inicjatywy Marka Habryna (gitara\, wokal)\, Wojciecha Podemskiego (gitara\, teksty) i Patrycjusza Gamalczyka (ówczesny główny wokal).\n\nPoczątkowe\, akustyczne próby okazały się owocne\, co zachęciło muzyków do rozszerzenia składu instrumentalnego i zaproszenia do współpracy innych instrumentalistów.\n\nPierwszy występ miał miejsce 29.11.2014 w klubie Akcent w Grudziądzu podczas koncertu zorganizowanego przez podopiecznych OPP Grudziądz.\n\nPóźniejsze koncerty i rozwój zespołu utwierdzał muzyków co do słuszności obranego kierunku artystycznego. Niestety w czerwcu 2015 z przyczyn osobistych z zespołu odszedł wokalista Patrycjusz Gamalczyk\, co zmusiło Marka Habryna to przejęcia funkcji głównego wokalisty. Pierwszy koncert z nowym frontmanem odbył się w sierpniu w Barczewie na Festiwalu Error. Kolejnym udanym występem był wspólny koncert wraz z zespołami Keep Rockin' oraz Art of Illusion na Kuyavian Prog Fest we Włocławku. W między czasie od lutego 2015 do wiosny 2016\, dzięki wsparciu Urzędu Miasta\, trwało nagrywanie materiału na mini album\, który promowany był w Klubie Akcent.\n\nSkład zespołu:\n\nMarek Habryn (wokal / gitara)\nJoanna Pulkowska (drugi wokal)\nGrzegorz Grzanka (instr. klawiszowe/akordeon guzikowy)\nMichał Kusz (bas)\nSławomir Kaligowski (perkusja)\n\nMuzykę zespołu Fractal Mind można określić jako wypadkową ciężkiego gitarowego grania\, skomplikowanych podziałów rytmicznych a jednocześnie melodyjności i delikatności.\nNietuzinkowe teksty będące swoistą wyprawą w głąb samego siebie i próbą odnalezienia wewnętrznego spokoju nadają jej dodatkowej siły wyrazu.\n\nWszyscy Ci\, którzy lubią ostre rockowe granie a jednocześnie szukają czegoś bardziej złożonego i wielowarstwowego z pewnością znajdą w tej muzyce coś dla siebie.\n\nObecnie zespół promuje płytę pt. "Stainless" oraz piszę utwory na nowy album\, którego premiera będzie jesienią 2017 roku.\n\nAbstrakt – pogranicze świata prog/post rocka/metalu. Zespół zainteresuje szczególnie fanów Tool`a\, Blindead czy Riverside.\n\nEfektem prac zespołu jest koncept album Limbosis. Album zdobywa bardzo wysokie noty\, m.in. 10/10 w Magazynie Gitarzysta\, 9\,5/10 Death Magnetic\, pojawia się również na portalach\, w magazynach i radiach zagranicznych (m.in. Prog Core – Kanada\, Prog Britannia – UK\, Empire Magazine – Niemcy\, Tzertzelos – Ateny). Zespół posiada ponad 20 000 wyświetleń na serwisie YouTube i ok. 1000 fanów na profilu Facebook.\n\n„Mrok\, strach oraz ciężar zderza się tu z pięknem melodii i dźwięków. W mroku\, gdzie scena rozświetlana jest przez wizualizacje\, Abstrakt zabierze Cię do świata\, w którym jeszcze nie byłeś..”\n\n74 minut Limbosis przedstawia kilka historii\, które łączą się w spójną całość. Bezimienny bohater\, wyrwany ze snu wpada w koszmar. Zostaje porwany przez białookiego kierowcę w podróż przez swoje słabości\, popędy\, mechanizmy obronne – ograniczenia. Z każdym przystankiem padają kolejne bariery w drodze do postrzegania rzeczy takimi jakimi są. W drodze do panowania świadomości nad zwierzęcą naturą „bodźca - reakcji”.
URL:http://teatr.grudziadz.pl/wydarzenie/the-broken-bridges-koncert/
LOCATION:ul. Wybickiego 38
CATEGORIES:Koncert
ATTACH;FMTTYPE=image/jpeg:http://teatr.grudziadz.pl/wp-content/uploads/2016/11/kpf.jpg
ORGANIZER;CN="CK%20Teatr%20w%20Grudzi%C4%85dzu":MAILTO:szymon.r@teatr.grudziadz.pl
END:VEVENT
END:VCALENDAR