BEGIN:VCALENDAR
VERSION:2.0
PRODID:-//Centrum Kultury Teatr w Grudziądzu - ECPv4.0.5//NONSGML v1.0//EN
CALSCALE:GREGORIAN
METHOD:PUBLISH
X-WR-CALNAME:Centrum Kultury Teatr w Grudziądzu
X-ORIGINAL-URL:http://teatr.grudziadz.pl
X-WR-CALDESC:Events for Centrum Kultury Teatr w Grudziądzu
BEGIN:VEVENT
DTSTART;TZID="Europe/Warsaw":20170127T193000
DTEND;TZID="Europe/Warsaw":20170127T193000
DTSTAMP:20260422T144646
CREATED:20161128T115027
LAST-MODIFIED:20161213T102214
UID:5593-1485545400-1485545400@teatr.grudziadz.pl
SUMMARY:pLED ZEPCHLIM
DESCRIPTION:pLED ZEPCHLIM to zespół założony przez doświadczonych toruńskich muzyków ze znanych zespołów (Kobranocka\, Nocna Zmiana Bluesa\, Open Blues)\, zafascynowanych twórczością supergrupy Led Zeppelin. Ich pierwszy koncert odbył się w 2015 i zebrał wiele pozytywnych recenzji. Moim marzeniem zawsze było zagrać kompozycje Led Zeppelin. Jednak nigdy nie spotkałem muzyków na tyle dobrych\, aby byli w stanie temu zadaniu sprostać. Do teraz – mówi założyciel zespołu\, Piotr Wysocki. Zespół Pled Zepchlim – Led Zeppelin Tribute Band tworzą:\n\n\tŁukasz Panfilak.- wokal i gitara\n\tWiesław Kryszewski (Open Blues\, Nocna Zmiana Bluesa) - gitara\n\tBobo Ryszewski (MGM) - bas\n\tPiotr Wysocki (Kobranocka) - perkusja\n
URL:http://teatr.grudziadz.pl/wydarzenie/pled-zepchlim/
LOCATION:ul. Wybickiego 38
CATEGORIES:Koncert
ATTACH;FMTTYPE=image/jpeg:http://teatr.grudziadz.pl/wp-content/uploads/2016/11/1-pled_zephlim-770x470.jpg
ORGANIZER;CN="Teatr":MAILTO:ewelina@teatr.grudziadz.pl
END:VEVENT
END:VCALENDAR