BEGIN:VCALENDAR
VERSION:2.0
PRODID:-//Centrum Kultury Teatr w Grudziądzu - ECPv4.0.5//NONSGML v1.0//EN
CALSCALE:GREGORIAN
METHOD:PUBLISH
X-WR-CALNAME:Centrum Kultury Teatr w Grudziądzu
X-ORIGINAL-URL:http://teatr.grudziadz.pl
X-WR-CALDESC:Events for Centrum Kultury Teatr w Grudziądzu
BEGIN:VEVENT
DTSTART;TZID="Europe/Warsaw":20170128T180000
DTEND;TZID="Europe/Warsaw":20170128T180000
DTSTAMP:20260422T144710
CREATED:20161121T114529
LAST-MODIFIED:20161219T105723
UID:5330-1485626400-1485626400@teatr.grudziadz.pl
SUMMARY:Mężczyzna idealny - spektakl
DESCRIPTION:\n\n\n\nBilety dostępne w Kasie Teatru\, w sprzedaży internetowej TUTAJ. Bilety grupowe: 603-233-363.
URL:http://teatr.grudziadz.pl/wydarzenie/mezczyzna-idealny-spektakl/
LOCATION:Teatralna\, 1\, Grudziądz\, 86-300\, Polska
CATEGORIES:Spektakle
ORGANIZER;CN="CK%20Teatr%20w%20Grudzi%C4%85dzu":MAILTO:szymon.r@teatr.grudziadz.pl
END:VEVENT
END:VCALENDAR