BEGIN:VCALENDAR
VERSION:2.0
PRODID:-//Centrum Kultury Teatr w Grudziądzu - ECPv4.0.5//NONSGML v1.0//EN
CALSCALE:GREGORIAN
METHOD:PUBLISH
X-WR-CALNAME:Centrum Kultury Teatr w Grudziądzu
X-ORIGINAL-URL:http://teatr.grudziadz.pl
X-WR-CALDESC:Events for Centrum Kultury Teatr w Grudziądzu
BEGIN:VEVENT
DTSTART;TZID="Europe/Warsaw":20170129T120000
DTEND;TZID="Europe/Warsaw":20170129T120000
DTSTAMP:20260422T144633
CREATED:20161121T114812
LAST-MODIFIED:20170124T075519
UID:5332-1485691200-1485691200@teatr.grudziadz.pl
SUMMARY:Koncert niedzielny "SPEC BRASS"
DESCRIPTION:Kolejny rok Koncertów Niedzielnych w Teatrze zaczynamy mocnym instrumentalnym brzmieniem\, które zapewni nam bydgoski kwartet dęty blaszany Spec Brass. Zespół powstał w kwietniu 2013 roku\, a tworzą go profesjonalni i doświadczeni muzycy\, na co dzień pracujący w prestiżowej Operze Nova w Bydgoszczy\, a także innych instytucjach kultury województwa kujawsko-pomorskiego.\n\nRepertuar zespołu to przekrój utworów z epoki renesansu\, baroku\, romantyzmu oraz współczesności\, w tym m.in. oryginalne aranżacje muzyki filmowej. W pierwszej części koncertu zabrzmią utwory klasyczne\, drugą natomiast stanowić będą znane kompozycje muzyki rozrywkowej. W programie znajdą się dzieła takich kompozytorów jak: J.S. Bach\, J. Brahms\, S. Wonder czy H. Mancini. Poza zróżnicowanym repertuarem usłyszymy bardzo różne instrumenty\, m.in. puzony (tenorowy\, altowy\, basowy)\, trąbkę\, trąbkę piccolo czy flugelhorn.\nOKSANA BUDNA & DARIA MURAWSKA - grafika\n\n\n\nOksana Budna\nStudentka V roku Grafiki na Wydziale Sztuk Pięknych Uniwersytetu Mikołaja Kopernika w Toruniu. Od drugiego roku studiów na specjalizacji Grafika Warsztatowa w pracowni wklęsłodruku prowadzonej przez Panią prof. Bogumiłę Pręgowską i Pana dr hab. Marka Zajko. Z pochodzenia Warmianka\, obecnie mieszkająca w Toruniu.\nW swoich działaniach artystycznych autorka wykorzystuje tradycyjną technikę graficzną – wklęsłodruk. Szeroko trawiona linia i płaska plama czerni są głównymi środkami wyrazu jej twórczości. Istotnym elementem jest także kolor\, który doskonale dopełnia kompozycje obrazu.Wybrane wystawy zbiorowe i indywidualne:\n\n2014 Z cyklu 5 pracowni\, wystawa prac studentów Pracowni wklęsłodruku\, wystawa zbiorowa\, Dom Muz\, Toruń\n\n2014 Dwa oblicza grafiki\, wystawa zbiorowa\, Dom Muz\, Toruń\n\n2015 Z cyklu 5 pracowni\, wystawa prac studentów i wykładowców Wydziału sztuk Pięknych UMK w Toruniu\, Galeria w Hallu\, Kalisz\n\n2015 Grand Prix Młodej Grafiki Polskiej\, Galeria Akademii Sztuk Pięknych w Krakowie\, Kraków\n\n2015 Wystawa grafiki Oksany Budnej\, wystawa indywidualna\, Galeria na dworcu\, Pieniężno\n\n2015 PrintCard\, wystawa zbiorowa\, Macondo\, Wrocław\n\n2015 Wystawa grafiki Oksany Budnej\, wystawa indywidualna\, Galeria 011\, Od Nowa\, Toruń\n\n2016 Potęga małej formy\, Wydział Sztuki Uniwersytetu Pedagogicznego w Krakowie\, Kraków\n\n2016 1st Międzynarodowe Biennale Grafiki w Łodzi 2016\, wystawa zbiorowa\n\n2016 45 Pomorska grafika roku 2015\, udział w wystawie zbiorowej\, Galeria "PUNKT"\, Gdańsk\n\n2016 XV Międzynarodowego Biennale Małej Formy Graficznej  i Ekslibrisu\, wystawa zbiorowa\, Muzeum Miasta Ostrowa Wielkopolskiego\, Ostrów Wielkopolski \n\n2016 Wystawa grafiki Oksany Budnej\, wystawa indywidualna\, Galeria w Podziemiach\, Braniewskie Centrum Kultury\, Braniewo\n\n2016  I Pomorskie Biennale Sztuki Młodych Sopot 2016\, wystawa zbiorowa\, Sopot Centrum\, Sopot \n\n2016 PrintCard\, wystawa zbiorowa\, Macondo\, Wrocław\nDARIA MURAWSKA- studentka V roku grafiki warsztatowej w pracowni wklęsłodruku na UMK w Toruniu pod kierunkiem prof. Bogumiły Pręgowskiej i dr hab Marka Zajko. Laureatka nagrody Specjalnej Dziekana ASP w Gdańsku za Pomorską Grafikę Roku 2015. Ma na swoim koncie wystawy zbiorowe oraz indywidualne.\n      
URL:http://teatr.grudziadz.pl/wydarzenie/koncert-niedzielny-6/
LOCATION:Teatralna\, 1\, Grudziądz\, 86-300\, Polska
CATEGORIES:Koncert
ATTACH;FMTTYPE=image/jpeg:http://teatr.grudziadz.pl/wp-content/uploads/2016/01/9228-2-e1484902061118.jpg
ORGANIZER;CN="CK%20Teatr%20w%20Grudzi%C4%85dzu":MAILTO:szymon.r@teatr.grudziadz.pl
END:VEVENT
END:VCALENDAR