BEGIN:VCALENDAR
VERSION:2.0
PRODID:-//Centrum Kultury Teatr w Grudziądzu - ECPv4.0.5//NONSGML v1.0//EN
CALSCALE:GREGORIAN
METHOD:PUBLISH
X-WR-CALNAME:Centrum Kultury Teatr w Grudziądzu
X-ORIGINAL-URL:http://teatr.grudziadz.pl
X-WR-CALDESC:Events for Centrum Kultury Teatr w Grudziądzu
BEGIN:VEVENT
DTSTART;TZID="Europe/Warsaw":20170206T100000
DTEND;TZID="Europe/Warsaw":20170210T120000
DTSTAMP:20260422T130813
CREATED:20170125T132135
LAST-MODIFIED:20170125T132135
UID:6492-1486375200-1486728000@teatr.grudziadz.pl
SUMMARY:FERIE 2017: Warsztaty lalkarskie
DESCRIPTION:Jak tchnąć życie w lalki teatralne\, a jak ożywić np. przedmiot codziennego użytku – czyli garść praktycznych wskazówek dla młodych aktorów – animatorów i wspólna zabawa pod okiem instruktora Teatrzyku Lalek „Miszmasz”. To kolejna już okazja do wypróbowania swoich możliwości w teatralnych improwizacjach zarówno za lalkarskim parawanem\, jak i w żywym planie na kameralnej scenie CK Teatr. Zapraszamy dzieci i młodzież w wieku od 7 do 14 lat.\n\nZajęcia poprowadzi Renata Boguska opiekun Teatrzyku Lalek „Miszmasz”. \n\n
URL:http://teatr.grudziadz.pl/wydarzenie/ferie-2017-warsztaty-lalkarskie/
LOCATION:ul. Teatralna 1\, Grudziądz
CATEGORIES:Wystawy
ATTACH;FMTTYPE=image/jpeg:http://teatr.grudziadz.pl/wp-content/uploads/2016/01/warsztaty_renia.jpg
ORGANIZER;CN="CK%20Teatr%20w%20Grudzi%C4%85dzu":MAILTO:szymon.r@teatr.grudziadz.pl
END:VEVENT
BEGIN:VEVENT
DTSTART;TZID="Europe/Warsaw":20170206T100000
DTEND;TZID="Europe/Warsaw":20170210T120000
DTSTAMP:20260422T130813
CREATED:20170131T092152
LAST-MODIFIED:20170131T092152
UID:6525-1486375200-1486728000@teatr.grudziadz.pl
SUMMARY:FERIE 2017: Warsztaty plastyczne
DESCRIPTION:Ta propozycja skierowana jest nie tylko do tych\, którzy interesują się rysunkiem. Zajęcia plastyczne w czasie przerwy w nauce odbywają się już od wielu lat i mają swoich stałych bywalców. Warsztaty to przede wszystkim czas spędzony w miłej atmosferze\, gdzie nauczyć się można podstaw rysunku\, kadrowania obrazu czy też odpowiedniego doboru kolorów. To także świetna zabawa w artystycznej atmosferze tworzenia czegoś nowego. Nie każdy może być artystą\, nie każdy ma też talent plastyczny\, ale każdy może świetnie się bawić z farbami czy kredkami stojąc przed sztalugą. Zapraszamy dzieci i młodzież w wieku 7 do 21 lat.\n\nZajęcia poprowadzi Marianna Gitner-Sawistowska. \n\n
URL:http://teatr.grudziadz.pl/wydarzenie/ferie-2017-warsztaty-plastyczne-2/
LOCATION:ul. Teatralna 1\, Grudziądz
CATEGORIES:Wystawy
ATTACH;FMTTYPE=image/jpeg:http://teatr.grudziadz.pl/wp-content/uploads/2016/01/warsztaty_marianna.jpg
ORGANIZER;CN="CK%20Teatr%20w%20Grudzi%C4%85dzu":MAILTO:szymon.r@teatr.grudziadz.pl
END:VEVENT
BEGIN:VEVENT
DTSTART;TZID="Europe/Warsaw":20170210T193000
DTEND;TZID="Europe/Warsaw":20170210T193000
DTSTAMP:20260422T130813
CREATED:20161121T121545
LAST-MODIFIED:20170126T105541
UID:5335-1486755000-1486755000@teatr.grudziadz.pl
SUMMARY:Stand-up: Ekipa Po Prostu Stand-Up
DESCRIPTION:Ekipa Po Prostu Stand-Up:\n\n\n\n \n\nTomasz Kołecki – najmłodszy i najmniejszy z nich. Jeśli ktoś zna słowo gimba\, to świetnie do niego pasuje. Póki co – ciągle najmłodszy komik w Polsce\, który trafnie łączy swoje rozczarowanie młodością z naszą za nią tesknotą.\n\n \n\n \n\n \n\n\n\n \n\n \n\nPatryk Czebańczuk – Łódzka Patologia. Masło Maślane. Trochę Cygan\, trochę Niewiadomoco. Blokerskiej prowieniencji. Zdecydowanie żywiołowy na scenie. Bezpośredni i szczery\, ale nie prosty\, wręcz przeciwnie. Patryk zawsze dba o to\, żeby zabrać swoich widzów na bardzo ciekawą wycieczkę.\n\n \n\n \n\n \n\n \n\n\n\n \n\nPaweł Chałupka - O Pawle można wiele powiedzieć i nic specjalnie ciekawego. Taki pasterz. Ale przezabawny. Meandruje po swoim raczej smutnym życiu w łodce\, która przecieka. Chłopaczyna jest finalistą zeszłorocznego Festiwalu Antrakt\, a to nie byle co.
URL:http://teatr.grudziadz.pl/wydarzenie/stand-up-3/
LOCATION:ul. Wybickiego 38
CATEGORIES:Koncert
ATTACH;FMTTYPE=image/jpeg:http://teatr.grudziadz.pl/wp-content/uploads/2016/11/po-prostu-stand-up-2.jpg
ORGANIZER;CN="CK%20Teatr%20w%20Grudzi%C4%85dzu":MAILTO:szymon.r@teatr.grudziadz.pl
END:VEVENT
END:VCALENDAR