BEGIN:VCALENDAR
VERSION:2.0
PRODID:-//Centrum Kultury Teatr w Grudziądzu - ECPv4.0.5//NONSGML v1.0//EN
CALSCALE:GREGORIAN
METHOD:PUBLISH
X-WR-CALNAME:Centrum Kultury Teatr w Grudziądzu
X-ORIGINAL-URL:http://teatr.grudziadz.pl
X-WR-CALDESC:Events for Centrum Kultury Teatr w Grudziądzu
BEGIN:VEVENT
DTSTART;TZID="Europe/Warsaw":20170211T160000
DTEND;TZID="Europe/Warsaw":20170211T160000
DTSTAMP:20260422T130922
CREATED:20161121T121949
LAST-MODIFIED:20161201T133628
UID:5336-1486828800-1486828800@teatr.grudziadz.pl
SUMMARY:Koktajl Silesia
DESCRIPTION:Grzegorz Poloczek - kabaret RAK\nKola & Jula - Śląski Koncert Życzeń\nMariusz Kalaga - Lista Śląskich Szlagierów\, Muzyczna Kuchnia.\n\nZapraszają na:\n\ndwugodzinny spektakl kabaretowo-muzyczny przeznaczony dla\nwszystkich lubiących wyśmienity humor i dobrą piosenkę\,\ndobrą zabawę zapewni mieszanka profesjonalnych artystów z wieloletnim\ndoświadczeniem obdarzonych wyjątkowym talentem estradowym i urokiem osobistym.\n\nBilety dostępne również w sprzedaży internetowej TUTAJ.
URL:http://teatr.grudziadz.pl/wydarzenie/koktajl-sielsia/
LOCATION:Teatralna\, 1\, Grudziądz\, 86-300\, Polska
CATEGORIES:Koncert,Wynajem
ATTACH;FMTTYPE=image/jpeg:http://teatr.grudziadz.pl/wp-content/uploads/2016/11/15107222_549566741913347_8113051419255997266_n.jpg
ORGANIZER;CN="CK%20Teatr%20w%20Grudzi%C4%85dzu":MAILTO:szymon.r@teatr.grudziadz.pl
END:VEVENT
END:VCALENDAR