BEGIN:VCALENDAR
VERSION:2.0
PRODID:-//Centrum Kultury Teatr w Grudziądzu - ECPv4.0.5//NONSGML v1.0//EN
CALSCALE:GREGORIAN
METHOD:PUBLISH
X-WR-CALNAME:Centrum Kultury Teatr w Grudziądzu
X-ORIGINAL-URL:http://teatr.grudziadz.pl
X-WR-CALDESC:Events for Centrum Kultury Teatr w Grudziądzu
BEGIN:VEVENT
DTSTART;TZID="Europe/Warsaw":20170217T193000
DTEND;TZID="Europe/Warsaw":20170217T193000
DTSTAMP:20260422T130804
CREATED:20161121T123016
LAST-MODIFIED:20170214T095013
UID:5341-1487359800-1487359800@teatr.grudziadz.pl
SUMMARY:Folk Metal Night - koncert
DESCRIPTION:Folk Metal Night to propozycja dla fanów cięższego brzmienia. Podczas pierwszej edycji w Grudziądzu wystąpią Runika oraz Morhana.\n\n\n\nRunika to zespół\, który inspiruje się mitologią słowiańską i nordycką. Jego muzyka jest połączeniem mocnego gitarowego grania oraz przepięknego kobiecego wokalu. To folkowe melodie w mocnej metalowej oprawie. Na scenie łączy mistycyzm z energią czterech żywiołów\, przenosząc słuchaczy do czasów epickich bitew\, sutych biesiad przy kupalnym ogniu\, tajemnic zaklętych w posągach i niezwykłych istot kryjących się w leśnych zakamarkach.\n\n \n\nZespół Morhana to grupa wykonująca folk metal. Łączy zarówno ciężkie\, melodyjne brzmienia\, osiągając równowagę pomiędzy muzyką folkową\, a ostrym\, ale nie pozbawionym charakteru metalem. Obecność instrumentów klasycznych nadaje utworom lekkości\, co w połączeniu z ciężkim zapleczem gitarowym tworzy wybuchową mieszankę. Wokale – z jednej strony męski – mocny\, gardłowy\, z drugiej kobiecy – wysoki i czysty\, dopełniają całości i tworzą unikalny charakter zespołu.
URL:http://teatr.grudziadz.pl/wydarzenie/runika-koncert/
LOCATION:ul. Wybickiego 38
CATEGORIES:Koncert
ATTACH;FMTTYPE=image/jpeg:http://teatr.grudziadz.pl/wp-content/uploads/2016/01/Runika-2.jpg
ORGANIZER;CN="CK%20Teatr%20w%20Grudzi%C4%85dzu":MAILTO:szymon.r@teatr.grudziadz.pl
END:VEVENT
END:VCALENDAR