BEGIN:VCALENDAR
VERSION:2.0
PRODID:-//Centrum Kultury Teatr w Grudziądzu - ECPv4.0.5//NONSGML v1.0//EN
CALSCALE:GREGORIAN
METHOD:PUBLISH
X-WR-CALNAME:Centrum Kultury Teatr w Grudziądzu
X-ORIGINAL-URL:http://teatr.grudziadz.pl
X-WR-CALDESC:Events for Centrum Kultury Teatr w Grudziądzu
BEGIN:VEVENT
DTSTART;TZID="Europe/Warsaw":20170225T180000
DTEND;TZID="Europe/Warsaw":20170225T180000
DTSTAMP:20260422T130924
CREATED:20161121T134648
LAST-MODIFIED:20170214T105838
UID:5347-1488045600-1488045600@teatr.grudziadz.pl
SUMMARY:Ostatnia sobota - koncert karnawałowy "Cafe Bodo"
DESCRIPTION:\n\nWarszawska kawiarenka przy ulicy Foksal 17 była pomysłem legendarnego polskiego śpiewaka i doprawdy posiada wyjątkową atmosferę – przenosi w czasy wypełnione muzyką\, dowcipem\, elegancją. Bywają tam polskie znakomitości\, gra orkiestra\, a my jesteśmy świadkami spotkania samego Eugeniusza Bodo z Hanką Ordonówną. Nie tylko śpiewają swoje największe przeboje tamtego okresu\, m.in. „Całuję twoją dłoń\, madame”\, „Miłość ci wszystko wybaczy”\, „Umówiłem się z nią na dziewiątą” czy „Na pierwszy znak”\, ale także rozmawiają\, przekomarzają się\, dowcipkują. Wszystko to przy zapachu kawy\, wśród szali boa\, kapeluszy i fraków.\n\nW czarowną atmosferę międzywojennej Polski wprowadzą znakomici artyści\, w rolach głównych wystąpią bowiem absolwenci wokalistyki jazzowej Akademii Muzycznej w Bydgoszczy: Tadeusz Seibert wcieli się w tytułowego Bodo\, Emilia Czekała śpiewać będzie głosem Ordonki\, artyści grudziądzkiego chóru Alla camera to stali bywalcy Café Bodo\, zaś sentymentalne dźwięki dostarczy Orkiestra Symfoników Bydgoskich.\n\nWykonawcy:\n\n\tEmilia Czekała – Hanka Ordonówna\n\tTadeusz Seibert – Eugeniusz Bodo\n\tOrkiestra Symfoników Bydgoskich\n\n[embed]https://www.youtube.com/watch?v=tMxVyECpuJk[/embed]
URL:http://teatr.grudziadz.pl/wydarzenie/ostatnia-sobota-koncert-karnawalowy-bodo-cafe/
LOCATION:Teatralna\, 1\, Grudziądz\, 86-300\, Polska
CATEGORIES:Koncert
ATTACH;FMTTYPE=image/jpeg:http://teatr.grudziadz.pl/wp-content/uploads/2016/11/39_resize-2.jpg
ORGANIZER;CN="CK%20Teatr%20w%20Grudzi%C4%85dzu":MAILTO:ewelina@teatr.grudziadz.pl
END:VEVENT
END:VCALENDAR