BEGIN:VCALENDAR
VERSION:2.0
PRODID:-//Centrum Kultury Teatr w Grudziądzu - ECPv4.0.5//NONSGML v1.0//EN
CALSCALE:GREGORIAN
METHOD:PUBLISH
X-WR-CALNAME:Centrum Kultury Teatr w Grudziądzu
X-ORIGINAL-URL:http://teatr.grudziadz.pl
X-WR-CALDESC:Events for Centrum Kultury Teatr w Grudziądzu
BEGIN:VEVENT
DTSTART;TZID="Europe/Warsaw":20170301T090000
DTEND;TZID="Europe/Warsaw":20170301T090000
DTSTAMP:20260422T101740
CREATED:20170126T124538
LAST-MODIFIED:20170227T071525
UID:6510-1488358800-1488358800@teatr.grudziadz.pl
SUMMARY:"Ryszard III" - spektakl dla młodzieży
DESCRIPTION:Reżyseria: Piotr Ratajczak\nDramaturgia: Michał Pabian\n\nAutor:Wiliam Szekspir\n\nSzekspirowska wizja GRY O TRON . Intrygi\, spiski\, walka o władzę i wpływy. Klasyczny dramat\, który jest wciąż aktualny.\n\nRyszard III to szekspirowska\, wartka opowieść o kondycji współczesnych decyzji politycznych\, obywatelskich. Ryszard III\, władca\, który stał się mitem i ucieleśnieniem zła w spektaklu Bałtyckiego Teatru Dramatycznego staje się pretekstem\, by twórczość Szekspira teatralnie zbadać pod kątem współczesnych moralnych wyborów\, agresywnych decyzji. Czy zwierciadło elżbietańskiego dramatu stanie się współczesnym lustereczkiem\, w którym przeglądać mogą się współcześni decydenci? Twórcy spektaklu starają się odszyfrować uniwersalną przygodę "po władzę"\, której blisko do przestrogi przed katastrofą\, jaka może dokonać się z ludzkiej głupoty.\n\n\n\nObsada: Żanetta Gruszczyńska-Ogonowska\, Dominika Mrozowska\, Beata Niedziela\, Marcin Borchardt\, Wojciech Kowalski\, Artur Paczesny\, Artur Czerwiński\, Wojciech Rogowski\, Jacek Zdrojewski\n\nScenografia: Matylda Kotlińska\n\nKostiumy: Beata Jasionek\n\nChoreografia: Arkadiusz Buszko\nPrzekład: Stanisław Barańczak\n\nPremiera: 2016-07-02\n\n 
URL:http://teatr.grudziadz.pl/wydarzenie/ryszard-iii-spektakl-dla-mlodziezy/
LOCATION:ul. Teatralna 1\, Grudziądz
CATEGORIES:Spektakle
ATTACH;FMTTYPE=image/jpeg:http://teatr.grudziadz.pl/wp-content/uploads/2017/01/Ryszard-III-5-Medium-1.jpg
ORGANIZER;CN="CK%20Teatr%20w%20Grudzi%C4%85dzu":MAILTO:ewelina@teatr.grudziadz.pl
END:VEVENT
BEGIN:VEVENT
DTSTART;TZID="Europe/Warsaw":20170301T110000
DTEND;TZID="Europe/Warsaw":20170301T110000
DTSTAMP:20260422T101740
CREATED:20170126T124858
LAST-MODIFIED:20170206T095346
UID:6511-1488366000-1488366000@teatr.grudziadz.pl
SUMMARY:"Ryszard III" - spektakl dla młodzieży
DESCRIPTION:Reżyseria: Piotr Ratajczak\nDramaturgia: Michał Pabian\n\nAutor:Wiliam Szekspir\n\nSzekspirowska wizja GRY O TRON . Intrygi\, spiski\, walka o władzę i wpływy. Klasyczny dramat\, który jest wciąż aktualny.\n\nRyszard III to szekspirowska\, wartka opowieść o kondycji współczesnych decyzji politycznych\, obywatelskich. Ryszard III\, władca\, który stał się mitem i ucieleśnieniem zła w spektaklu Bałtyckiego Teatru Dramatycznego staje się pretekstem\, by twórczość Szekspira teatralnie zbadać pod kątem współczesnych moralnych wyborów\, agresywnych decyzji. Czy zwierciadło elżbietańskiego dramatu stanie się współczesnym lustereczkiem\, w którym przeglądać mogą się współcześni decydenci? Twórcy spektaklu starają się odszyfrować uniwersalną przygodę "po władzę"\, której blisko do przestrogi przed katastrofą\, jaka może dokonać się z ludzkiej głupoty.\n\nObsada: Żanetta Gruszczyńska-Ogonowska\, Dominika Mrozowska\, Beata Niedziela\, Marcin Borchardt\, Wojciech Kowalski\, Artur Paczesny\, Artur Czerwiński\, Wojciech Rogowski\, Jacek Zdrojewski\n\nScenografia: Matylda Kotlińska\n\nKostiumy: Beata Jasionek\n\nChoreografia: Arkadiusz Buszko\nPrzekład: Stanisław Barańczak\n\nPremiera: 2016-07-02\n\n
URL:http://teatr.grudziadz.pl/wydarzenie/ryszard-iii-spektakl-dla-mlodziezy-2/
LOCATION:ul. Teatralna 1\, Grudziądz
CATEGORIES:Spektakle
ATTACH;FMTTYPE=image/jpeg:http://teatr.grudziadz.pl/wp-content/uploads/2017/01/Ryszard-III-5-Medium.jpg
ORGANIZER;CN="CK%20Teatr%20w%20Grudzi%C4%85dzu":MAILTO:ewelina@teatr.grudziadz.pl
END:VEVENT
END:VCALENDAR