BEGIN:VCALENDAR
VERSION:2.0
PRODID:-//Centrum Kultury Teatr w Grudziądzu - ECPv4.0.5//NONSGML v1.0//EN
CALSCALE:GREGORIAN
METHOD:PUBLISH
X-WR-CALNAME:Centrum Kultury Teatr w Grudziądzu
X-ORIGINAL-URL:http://teatr.grudziadz.pl
X-WR-CALDESC:Events for Centrum Kultury Teatr w Grudziądzu
BEGIN:VEVENT
DTSTART;TZID="Europe/Warsaw":20170306T100000
DTEND;TZID="Europe/Warsaw":20170306T100000
DTSTAMP:20260422T101741
CREATED:20170126T141330
LAST-MODIFIED:20170206T131735
UID:6515-1488794400-1488794400@teatr.grudziadz.pl
SUMMARY:OKR - Ogólnopolski Konkurs Recytatorski
DESCRIPTION:(etap powiatowy)
URL:http://teatr.grudziadz.pl/wydarzenie/okr-ogolnopolski-konkurs-recytatorski-2/
LOCATION:ul. Wybickiego 38
CATEGORIES:Koncert
ATTACH;FMTTYPE=image/jpeg:http://teatr.grudziadz.pl/wp-content/uploads/2017/01/62.okr-Torun-net-2-e1486387018321.jpg
ORGANIZER;CN="CK%20Teatr%20w%20Grudzi%C4%85dzu":MAILTO:ewelina@teatr.grudziadz.pl
END:VEVENT
END:VCALENDAR