BEGIN:VCALENDAR
VERSION:2.0
PRODID:-//Centrum Kultury Teatr w Grudziądzu - ECPv4.0.5//NONSGML v1.0//EN
CALSCALE:GREGORIAN
METHOD:PUBLISH
X-WR-CALNAME:Centrum Kultury Teatr w Grudziądzu
X-ORIGINAL-URL:http://teatr.grudziadz.pl
X-WR-CALDESC:Events for Centrum Kultury Teatr w Grudziądzu
BEGIN:VEVENT
DTSTART;TZID="Europe/Warsaw":20170310T193000
DTEND;TZID="Europe/Warsaw":20170310T193000
DTSTAMP:20260422T101838
CREATED:20170126T143519
LAST-MODIFIED:20170224T081500
UID:6517-1489174200-1489174200@teatr.grudziadz.pl
SUMMARY:Stand up – gość specjalny Abelard Giza
DESCRIPTION:Liczba miejsc ograniczona do 250\, więc spieszcie się śmiać z komików!\n\nNadchodzącą wielkimi krokami wiosnę przywitamy mocnym uderzeniem. Na grudziądzkiej scenie stanie bowiem gość wyjątkowy\, a jest nim nie kto inny jak Abelard Giza\, który zaprezentuje swój nowy program "Ludzie\, Trzymajcie Kapelusze".\n\nAbelard jest nie tylko doskonałym komikiem\, ale człowiekiem udzielającym się na wielu artystycznych polach: jako reżyser\, aktor\, autor tekstów. Nie bez powodu uchodzi za najbardziej popularnego polskiego komika - potrafi celnie ocenić i wyśmiać rzeczy\, nad którymi często przechodzi bezrefleksyjnie\, akceptując wszystko co nam się podaje na tacy\, bezkrytycznie. Abelard jest tym głosem\, który mówi "Ale ja tego nie chcę. Czemu się na to zgadzacie?"\n\nNa supporcie zaś:\n\nTomasz Boras Borkowski - człek niemłody\, dzięki czemu opanowany i chłodny\, z ciętym językiem i ogromną cierpliwością. Żarty przemyślane\, dobrze skonstruowane i zaskakujące. Zupełnie jak to\, że ktoś w tym wieku nie dość\, że ma puls\, to okazuje się jednym z największych odkryć polskiego stand-upu w ostatnim roku. Zwycięzca największego w Polsce festiwalu Stand-upowego Antrakt.\n\nGospodarzem niezmiennie pozostaje Tomasz Kwiatkowski z Kopanie Leżącego Stand-up.
URL:http://teatr.grudziadz.pl/wydarzenie/stand-up-gosc-specjalny-abelard-giza/
LOCATION:ul. Wybickiego 38
CATEGORIES:Koncert
ORGANIZER;CN="CK%20Teatr%20w%20Grudzi%C4%85dzu":MAILTO:ewelina@teatr.grudziadz.pl
END:VEVENT
END:VCALENDAR