BEGIN:VCALENDAR
VERSION:2.0
PRODID:-//Centrum Kultury Teatr w Grudziądzu - ECPv4.0.5//NONSGML v1.0//EN
CALSCALE:GREGORIAN
METHOD:PUBLISH
X-WR-CALNAME:Centrum Kultury Teatr w Grudziądzu
X-ORIGINAL-URL:http://teatr.grudziadz.pl
X-WR-CALDESC:Events for Centrum Kultury Teatr w Grudziądzu
BEGIN:VEVENT
DTSTART;TZID="Europe/Warsaw":20170314T090000
DTEND;TZID="Europe/Warsaw":20170314T090000
DTSTAMP:20260422T101838
CREATED:20170215T073606
LAST-MODIFIED:20170320T112816
UID:6664-1489482000-1489482000@teatr.grudziadz.pl
SUMMARY:"Królewski list" - bajka
DESCRIPTION:Trolek wychował się w małej\, zapomnianej przez świat wiosce. Jednak choć chłopak jest bardzo ubogi\, uśmiech nie znika z jego twarzy\, a szczęścia mógłby mu pozazdrościć każdy bogacz. Często ludzie o nim mówią: „Ten\, to jest w czepku urodzony”.\n\nSzczęściu trzeba jednak wychodzić naprzeciw\, dlatego Trolek nie bał się sięgać po własne marzenia. A skoro był pewien\, że kiedyś poślubi królewską córkę\, wyruszył w daleką i niebezpieczną drogę do zamku. Nie znalazłby przecież księżniczki w swojej rodzinnej wsi!\n\nNiestety nawet do bajek zakradają się bardzo źli ludzie\, a nawet groźne postaci z zaświatów. Co więcej\, w bajkach – również w tej – kryje się całkiem sporo mądrych prawd. Również ta\, że nie ma co osądzać ludzi po pozorach\, bo nawet w tych zdawałoby się do cna złych\, iskierka dobroci wywoła cały szereg wspaniałych konsekwencji.\n\nWróćmy jednak do naszego bohatera. Oczywiście nie możemy zdradzić wszystkich niezwykłych przygód\, które wydarzą się podczas jego podróży. Tym bardziej nie możemy wyjawić\, co czeka Trolka u kresu jego wędrówki. Pamiętajmy jednak\, że szczęście sprzyja odważnym. Kiedy więc los stawia na drodze fałszywych przyjaciół\, kiedy trzeba ruszyć do samego piekła\, wówczas\, walcząc o własne marzenia\, łatwo nie dostrzec\, że mijani ludzie potrzebują naszej pomocy. Dlatego trzeba wykazać się sprytem\, mądrością\, wrażliwością i męstwem. Kto dowiedzie w sobie tych cech\, zaiste zasługuje na rękę pięknej księżniczki i koronę królestwa. Najpierw jednak trzeba przejść długą\, bardzo długą drogę\, podczas której niemal na każdym kroku trzeba dokonać dobrych wyborów. Bo choć szczęście sprzyja\, nic w życiu samo się nie wydarzy.\n[button link="http://teatr.grudziadz.pl/krolewski-list/"] więcej[/button]
URL:http://teatr.grudziadz.pl/wydarzenie/krolewski-list-bajka-3/
LOCATION:Teatralna\, 1\, Grudziądz\, 86-300\, Polska
CATEGORIES:Spektakle
ATTACH;FMTTYPE=image/jpeg:http://teatr.grudziadz.pl/wp-content/uploads/2017/02/PLAKAT-KRÓLEWSKILIST-adrian-2-e1488870547352.jpg
ORGANIZER;CN="CK%20Teatr%20w%20Grudzi%C4%85dzu":MAILTO:ewelina@teatr.grudziadz.pl
END:VEVENT
BEGIN:VEVENT
DTSTART;TZID="Europe/Warsaw":20170314T110000
DTEND;TZID="Europe/Warsaw":20170314T110000
DTSTAMP:20260422T101838
CREATED:20170215T074014
LAST-MODIFIED:20170320T112854
UID:6666-1489489200-1489489200@teatr.grudziadz.pl
SUMMARY:"Królewski list" - bajka
DESCRIPTION:Trolek wychował się w małej\, zapomnianej przez świat wiosce. Jednak choć chłopak jest bardzo ubogi\, uśmiech nie znika z jego twarzy\, a szczęścia mógłby mu pozazdrościć każdy bogacz. Często ludzie o nim mówią: „Ten\, to jest w czepku urodzony”.\n\nSzczęściu trzeba jednak wychodzić naprzeciw\, dlatego Trolek nie bał się sięgać po własne marzenia. A skoro był pewien\, że kiedyś poślubi królewską córkę\, wyruszył w daleką i niebezpieczną drogę do zamku. Nie znalazłby przecież księżniczki w swojej rodzinnej wsi!\n\nNiestety nawet do bajek zakradają się bardzo źli ludzie\, a nawet groźne postaci z zaświatów. Co więcej\, w bajkach – również w tej – kryje się całkiem sporo mądrych prawd. Również ta\, że nie ma co osądzać ludzi po pozorach\, bo nawet w tych zdawałoby się do cna złych\, iskierka dobroci wywoła cały szereg wspaniałych konsekwencji.\n\nWróćmy jednak do naszego bohatera. Oczywiście nie możemy zdradzić wszystkich niezwykłych przygód\, które wydarzą się podczas jego podróży. Tym bardziej nie możemy wyjawić\, co czeka Trolka u kresu jego wędrówki. Pamiętajmy jednak\, że szczęście sprzyja odważnym. Kiedy więc los stawia na drodze fałszywych przyjaciół\, kiedy trzeba ruszyć do samego piekła\, wówczas\, walcząc o własne marzenia\, łatwo nie dostrzec\, że mijani ludzie potrzebują naszej pomocy. Dlatego trzeba wykazać się sprytem\, mądrością\, wrażliwością i męstwem. Kto dowiedzie w sobie tych cech\, zaiste zasługuje na rękę pięknej księżniczki i koronę królestwa. Najpierw jednak trzeba przejść długą\, bardzo długą drogę\, podczas której niemal na każdym kroku trzeba dokonać dobrych wyborów. Bo choć szczęście sprzyja\, nic w życiu samo się nie wydarzy.\n[button link="http://teatr.grudziadz.pl/krolewski-list/"] więcej[/button]
URL:http://teatr.grudziadz.pl/wydarzenie/krolewski-list-bajka-4/
LOCATION:Teatralna\, 1\, Grudziądz\, 86-300\, Polska
CATEGORIES:Spektakle
ATTACH;FMTTYPE=image/jpeg:http://teatr.grudziadz.pl/wp-content/uploads/2017/02/PLAKAT-KRÓLEWSKILIST-adrian-2-e1488870547352.jpg
ORGANIZER;CN="CK%20Teatr%20w%20Grudzi%C4%85dzu":MAILTO:ewelina@teatr.grudziadz.pl
END:VEVENT
END:VCALENDAR