BEGIN:VCALENDAR
VERSION:2.0
PRODID:-//Centrum Kultury Teatr w Grudziądzu - ECPv4.0.5//NONSGML v1.0//EN
CALSCALE:GREGORIAN
METHOD:PUBLISH
X-WR-CALNAME:Centrum Kultury Teatr w Grudziądzu
X-ORIGINAL-URL:http://teatr.grudziadz.pl
X-WR-CALDESC:Events for Centrum Kultury Teatr w Grudziądzu
BEGIN:VEVENT
DTSTART;TZID="Europe/Warsaw":20170316T190000
DTEND;TZID="Europe/Warsaw":20170316T190000
DTSTAMP:20260422T101900
CREATED:20170224T084545
LAST-MODIFIED:20170224T084547
UID:6849-1489690800-1489690800@teatr.grudziadz.pl
SUMMARY:DKF: „Witajcie w Norwegii”
DESCRIPTION:„WITAJCIE W NORWEGII!”\, czyli kino skandynawskie w najlepszym wydaniu.  Błyskotliwa i nieprzewidywalna czarna komedia\, która bawi operując przewrotnym i charakterystycznym dla Skandynawii humorem i przełamuje społeczne tabu\, będąc świetnym punktem wyjściowym do dyskusji po projekcji filmu.\n\nPoznajcie Primusa - właściciela upadającego kurortu w norweskiej wiosce. By ratować rodzinny interes i otrzymać rządowe dofinansowanie postanawia przekształcić swój kurort w... obóz dla uchodźców. 50-ciu przybyszów to prawdziwa zbieranina osobowości i oczekiwań\, które przyprawią Primusa o niemały zawrót głowy!\n\nReżyseria: Rune Denstad Langlo\n\nProdukcja: Norwegia\n\nCzas trwania: 90 minut.\n\nRecenzje:\n\n“Witajcie w Norwegii” to jedna z najlepszych norweskich komedii!\nCinema Scandinavia\n\nNorweski reżyser nadaje lekkości poważnemu i ważnemu tematowi.\nVariety\n\nBłyskotliwy\, dowcipny i nieprzewidywalny.\nScandinavian Film Festival
URL:http://teatr.grudziadz.pl/wydarzenie/dkf-witajcie-w-norwegii/
LOCATION:ul. Teatralna 1\, Grudziądz
ATTACH;FMTTYPE=image/jpeg:http://teatr.grudziadz.pl/wp-content/uploads/2017/02/7769811.6.jpg
ORGANIZER;CN="CK%20Teatr%20w%20Grudzi%C4%85dzu":MAILTO:szymon.r@teatr.grudziadz.pl
END:VEVENT
END:VCALENDAR